BEGIN:VCALENDAR
VERSION:2.0
PRODID:-//Paluma - our village in the mist - ECPv6.15.20//NONSGML v1.0//EN
CALSCALE:GREGORIAN
METHOD:PUBLISH
X-WR-CALNAME:Paluma - our village in the mist
X-ORIGINAL-URL:https://paluma.org
X-WR-CALDESC:Events for Paluma - our village in the mist
REFRESH-INTERVAL;VALUE=DURATION:PT1H
X-Robots-Tag:noindex
X-PUBLISHED-TTL:PT1H
BEGIN:VTIMEZONE
TZID:Australia/Brisbane
BEGIN:STANDARD
TZOFFSETFROM:+1000
TZOFFSETTO:+1000
TZNAME:AEST
DTSTART:20230101T000000
END:STANDARD
END:VTIMEZONE
BEGIN:VEVENT
DTSTART;TZID=Australia/Brisbane:20241207T100000
DTEND;TZID=Australia/Brisbane:20241207T130000
DTSTAMP:20260425T001818
CREATED:20241120T074632Z
LAST-MODIFIED:20241127T130347Z
UID:9495-1733565600-1733576400@paluma.org
SUMMARY:Koala Monitoring Update - Paluma Community Hall
DESCRIPTION:join us for an update on what’s been happening at Mount Zero-Taravale Wildlife Sanctuary in 2024. Catering supplied\, and for anyone keen\, an optional tag-along trip to check out our feral predator-free exclosure fence – home to a growing population of endangered Northern Bettongs.
URL:https://paluma.org/event/koala-monitoring-update
LOCATION:Paluma Community Hall\, 55 Mt Spec Road\, Paluma\, Australia
ORGANIZER;CN="Felicity L'Hotellier":MAILTO:felicity.lhotellier@australianwildlife.org
END:VEVENT
BEGIN:VEVENT
DTSTART;TZID=Australia/Brisbane:20241207T183000
DTEND;TZID=Australia/Brisbane:20241207T220000
DTSTAMP:20260425T001818
CREATED:20240308T003436Z
LAST-MODIFIED:20240308T003436Z
UID:8644-1733596200-1733608800@paluma.org
SUMMARY:Christmas Tropical BBQ
DESCRIPTION:This is our last social evening for the year. Come and help us celebrate the beginning of the festive season in tropical style. \nBring a plate.
URL:https://paluma.org/event/christmas-tropical-bbq
LOCATION:Paluma Community Hall\, 55 Mt Spec Road\, Paluma\, Australia
END:VEVENT
BEGIN:VEVENT
DTSTART;TZID=Australia/Brisbane:20241208T100000
DTEND;TZID=Australia/Brisbane:20241208T110000
DTSTAMP:20260425T001818
CREATED:20241114T223046Z
LAST-MODIFIED:20241114T223046Z
UID:9491-1733652000-1733655600@paluma.org
SUMMARY:Paluma Rural Fire Brigade - Ratepayers Meeting\, and AGM
DESCRIPTION:Notice to all Paluma Ratepayers \nOn Sunday December 8\, a public meeting is to be held at the Paluma Community Centre at 10am for all ratepayers to discuss the setting of the 2025 fire levy. \nCome along and also find out what the brigade is up to over a cuppa and piece of cake. If there are any queries in the lead up to the meeting\, please contact Sonya Bryce\, Treasurer / Secretary of Paluma Rural Fire Brigade on (0474) 324153. \nThe Annual General Meeting of the Paluma Rural Fire Brigade will follow on from the morning tea for those that are interested.
URL:https://paluma.org/event/paluma-rural-fire-brigade-ratepayers-meeting-and-agm
LOCATION:Paluma Community Hall\, 55 Mt Spec Road\, Paluma\, Australia
END:VEVENT
END:VCALENDAR