BEGIN:VCALENDAR
VERSION:2.0
PRODID:-//Paluma - our village in the mist - ECPv6.15.20//NONSGML v1.0//EN
CALSCALE:GREGORIAN
METHOD:PUBLISH
X-ORIGINAL-URL:https://paluma.org
X-WR-CALDESC:Events for Paluma - our village in the mist
REFRESH-INTERVAL;VALUE=DURATION:PT1H
X-Robots-Tag:noindex
X-PUBLISHED-TTL:PT1H
BEGIN:VTIMEZONE
TZID:Australia/Brisbane
BEGIN:STANDARD
TZOFFSETFROM:+1000
TZOFFSETTO:+1000
TZNAME:AEST
DTSTART:20230101T000000
END:STANDARD
END:VTIMEZONE
BEGIN:VEVENT
DTSTART;TZID=Australia/Brisbane:20241101T180000
DTEND;TZID=Australia/Brisbane:20241101T200000
DTSTAMP:20260425T014537
CREATED:20240307T232503Z
LAST-MODIFIED:20241031T101731Z
UID:8622-1730484000-1730491200@paluma.org
SUMMARY:PDCA Social Drinks in the Hall - Postponed till November 8th
DESCRIPTION:Once a month (on the Friday night before the Village Working Bee) we open the Community Hall and the bar between 6-8 pm for residents and visitors to come and socialize and play a friendly game of table tennis or darts.  Bring along some nibbles or some finger food to share if you feel inclined.
URL:https://paluma.org/event/pdca-social-drinks-in-the-hall-8
LOCATION:Paluma Community Hall\, 55 Mt Spec Road\, Paluma\, Australia
END:VEVENT
BEGIN:VEVENT
DTSTART;TZID=Australia/Brisbane:20241102T100000
DTEND;TZID=Australia/Brisbane:20241102T120000
DTSTAMP:20260425T014537
CREATED:20240605T011059Z
LAST-MODIFIED:20240901T222704Z
UID:8938-1730541600-1730548800@paluma.org
SUMMARY:Paluma History Display
DESCRIPTION:Every Saturday from March till November we open up the Community Hall and set out a variety of displays and resources that document the rich history of the region\, including early settlement\, construction of the range road and the heroic activities of the miners and loggers who explored the wilderness and developed its earliest industries. \nCome along and have a cup of coffee or tea  and chat with our local history enthusiasts.
URL:https://paluma.org/event/paluma-history-display-27
LOCATION:Paluma Community Hall\, 55 Mt Spec Road\, Paluma\, Australia
END:VEVENT
BEGIN:VEVENT
DTSTART;TZID=Australia/Brisbane:20241102T140000
DTEND;TZID=Australia/Brisbane:20241102T160000
DTSTAMP:20260425T014537
CREATED:20240308T011113Z
LAST-MODIFIED:20241031T101203Z
UID:8660-1730556000-1730563200@paluma.org
SUMMARY:Working Bee at the Community Centre - Postponed till November 9th
DESCRIPTION:On the first Saturday of every month\, we invite volunteers to come along to the Community Centre where Wilfred Karnol will coordinate one or more activities aimed at maintaining and improving the Hall and surrounding gardens\, the local walking track\, or other community activity.  We meet at 2 pm at the Community Hall and finish at about 4 pm with a free beer or soft drink.
URL:https://paluma.org/event/working-bee-at-the-community-centre-9
LOCATION:Paluma Community Hall\, 55 Mt Spec Road\, Paluma\, Australia
END:VEVENT
BEGIN:VEVENT
DTSTART;TZID=Australia/Brisbane:20241108T180000
DTEND;TZID=Australia/Brisbane:20241108T203000
DTSTAMP:20260425T014537
CREATED:20241031T101648Z
LAST-MODIFIED:20241031T101648Z
UID:9474-1731088800-1731097800@paluma.org
SUMMARY:PDCA Social Drinks in the Hall
DESCRIPTION:Once a month (on the Friday night before the Village Working Bee) we open the Community Hall and the bar between 6-8 pm for residents and visitors to come and socialize and play a friendly game of table tennis or darts.  Bring along some nibbles or some finger food to share if you feel inclined.
URL:https://paluma.org/event/pdca-social-drinks-in-the-hall-9
LOCATION:Paluma Community Hall\, 55 Mt Spec Road\, Paluma\, Australia
END:VEVENT
BEGIN:VEVENT
DTSTART;TZID=Australia/Brisbane:20241109T100000
DTEND;TZID=Australia/Brisbane:20241109T120000
DTSTAMP:20260425T014537
CREATED:20240605T011307Z
LAST-MODIFIED:20240901T222746Z
UID:8940-1731146400-1731153600@paluma.org
SUMMARY:Paluma History Display
DESCRIPTION:Every Saturday from March till November we open up the Community Hall and set out a variety of displays and resources that document the rich history of the region\, including early settlement\, construction of the range road and the heroic activities of the miners and loggers who explored the wilderness and developed its earliest industries. \nCome along and have a cup of coffee or tea  and chat with our local history enthusiasts.
URL:https://paluma.org/event/paluma-history-display-28
LOCATION:Paluma Community Hall\, 55 Mt Spec Road\, Paluma\, Australia
END:VEVENT
BEGIN:VEVENT
DTSTART;TZID=Australia/Brisbane:20241116T100000
DTEND;TZID=Australia/Brisbane:20241116T120000
DTSTAMP:20260425T014537
CREATED:20240605T011542Z
LAST-MODIFIED:20240901T222817Z
UID:8942-1731751200-1731758400@paluma.org
SUMMARY:Paluma History Display
DESCRIPTION:Every Saturday from March till November we open up the Community Hall and set out a variety of displays and resources that document the rich history of the region\, including early settlement\, construction of the range road and the heroic activities of the miners and loggers who explored the wilderness and developed its earliest industries. \nCome along and have a cup of coffee or tea  and chat with our local history enthusiasts.
URL:https://paluma.org/event/paluma-history-display-29
LOCATION:Paluma Community Hall\, 55 Mt Spec Road\, Paluma\, Australia
END:VEVENT
BEGIN:VEVENT
DTSTART;TZID=Australia/Brisbane:20241123T100000
DTEND;TZID=Australia/Brisbane:20241123T120000
DTSTAMP:20260425T014537
CREATED:20240605T011619Z
LAST-MODIFIED:20240901T222855Z
UID:8944-1732356000-1732363200@paluma.org
SUMMARY:Paluma History Display
DESCRIPTION:Every Saturday from March till November we open up the Community Hall and set out a variety of displays and resources that document the rich history of the region\, including early settlement\, construction of the range road and the heroic activities of the miners and loggers who explored the wilderness and developed its earliest industries. \nCome along and have a cup of coffee or tea  and chat with our local history enthusiasts.
URL:https://paluma.org/event/paluma-history-display-30
LOCATION:Paluma Community Hall\, 55 Mt Spec Road\, Paluma\, Australia
END:VEVENT
BEGIN:VEVENT
DTSTART;TZID=Australia/Brisbane:20241125T083000
DTEND;TZID=Australia/Brisbane:20241125T163000
DTSTAMP:20260425T014537
CREATED:20241101T013126Z
LAST-MODIFIED:20241101T013126Z
UID:9480-1732523400-1732552200@paluma.org
SUMMARY:Annual Paluma Garden Competition
DESCRIPTION:Once a year we award prizes for the best Paluma gardens in various categories. There are several categories of winners. The best overall garden in the village each year is awarded the perpetual Allison Evans Memorial Trophy\, in memory of Allison\, an avid gardener who tragically lost her life on the range road. \nThis year the cmpetition will be held on November 25th.  Competition judges from Bunnings will be escorted by a member of the PDCA executive committee around gardens of Paluma residents and businesses including the blocks along and adjacent to Hussey Road. \n 
URL:https://paluma.org/event/annual-paluma-garden-competition
END:VEVENT
BEGIN:VEVENT
DTSTART;TZID=Australia/Brisbane:20241130T100000
DTEND;TZID=Australia/Brisbane:20241130T120000
DTSTAMP:20260425T014537
CREATED:20240605T011722Z
LAST-MODIFIED:20240901T222940Z
UID:8946-1732960800-1732968000@paluma.org
SUMMARY:Paluma History Display
DESCRIPTION:Every Saturday from March till November we open up the Community Hall and set out a variety of displays and resources that document the rich history of the region\, including early settlement\, construction of the range road and the heroic activities of the miners and loggers who explored the wilderness and developed its earliest industries. \nCome along and have a cup of coffee or tea  and chat with our local history enthusiasts.
URL:https://paluma.org/event/paluma-history-display-31
LOCATION:Paluma Community Hall\, 55 Mt Spec Road\, Paluma\, Australia
END:VEVENT
END:VCALENDAR