BEGIN:VCALENDAR
VERSION:2.0
PRODID:-//Paluma - our village in the mist - ECPv6.15.20//NONSGML v1.0//EN
CALSCALE:GREGORIAN
METHOD:PUBLISH
X-ORIGINAL-URL:https://paluma.org
X-WR-CALDESC:Events for Paluma - our village in the mist
REFRESH-INTERVAL;VALUE=DURATION:PT1H
X-Robots-Tag:noindex
X-PUBLISHED-TTL:PT1H
BEGIN:VTIMEZONE
TZID:Australia/Brisbane
BEGIN:STANDARD
TZOFFSETFROM:+1000
TZOFFSETTO:+1000
TZNAME:AEST
DTSTART:20230101T000000
END:STANDARD
END:VTIMEZONE
BEGIN:VEVENT
DTSTART;TZID=Australia/Brisbane:20240906T180000
DTEND;TZID=Australia/Brisbane:20240906T193000
DTSTAMP:20260425T050549
CREATED:20240307T231504Z
LAST-MODIFIED:20240307T231504Z
UID:8618-1725645600-1725651000@paluma.org
SUMMARY:PDCA Social Drinks in the Hall
DESCRIPTION:Once a month (on the Friday night before the Village Working Bee) we open the Community Hall and the bar between 6-8 pm for residents and visitors to come and socialize and play a friendly game of table tennis or darts.  Bring along some nibbles or some finger food to share if you feel inclined.
URL:https://paluma.org/event/pdca-social-drinks-in-the-hall-6
LOCATION:Paluma Community Hall\, 55 Mt Spec Road\, Paluma\, Australia
END:VEVENT
BEGIN:VEVENT
DTSTART;TZID=Australia/Brisbane:20240907T120000
DTEND;TZID=Australia/Brisbane:20240907T140000
DTSTAMP:20260425T050549
CREATED:20240605T005758Z
LAST-MODIFIED:20240605T005921Z
UID:8924-1725710400-1725717600@paluma.org
SUMMARY:Paluma History Display
DESCRIPTION:Every Saturday from March till November we open up the Community Hall and set out a variety of displays and resources that document the rich history of the region\, including early settlement\, construction of the range road and the heroic activities of the miners and loggers who explored the wilderness and developed its earliest industries. \nCome along and have a cup of coffee or tea  and chat with our local history enthusiasts.
URL:https://paluma.org/event/paluma-history-display-12
LOCATION:Paluma Community Hall\, 55 Mt Spec Road\, Paluma\, Australia
END:VEVENT
BEGIN:VEVENT
DTSTART;TZID=Australia/Brisbane:20240907T140000
DTEND;TZID=Australia/Brisbane:20240907T160000
DTSTAMP:20260425T050549
CREATED:20240308T010823Z
LAST-MODIFIED:20240308T010823Z
UID:8656-1725717600-1725724800@paluma.org
SUMMARY:Working Bee at the Community Centre
DESCRIPTION:On the first Saturday of every month\, we invite volunteers to come along to the Community Centre where Wilfred Karnol will coordinate one or more activities aimed at maintaining and improving the Hall and surrounding gardens\, the local walking track\, or other community activity.  We meet at 2 pm at the Community Hall and finish at about 4 pm with a free beer or soft drink.
URL:https://paluma.org/event/working-bee-at-the-community-centre-7
LOCATION:Paluma Community Hall\, 55 Mt Spec Road\, Paluma\, Australia
END:VEVENT
BEGIN:VEVENT
DTSTART;TZID=Australia/Brisbane:20240914T120000
DTEND;TZID=Australia/Brisbane:20240914T140000
DTSTAMP:20260425T050549
CREATED:20240605T010022Z
LAST-MODIFIED:20240605T010022Z
UID:8926-1726315200-1726322400@paluma.org
SUMMARY:Paluma History Display
DESCRIPTION:Every Saturday from March till November we open up the Community Hall and set out a variety of displays and resources that document the rich history of the region\, including early settlement\, construction of the range road and the heroic activities of the miners and loggers who explored the wilderness and developed its earliest industries. \nCome along and have a cup of coffee or tea  and chat with our local history enthusiasts.
URL:https://paluma.org/event/paluma-history-display-15
LOCATION:Paluma Community Hall\, 55 Mt Spec Road\, Paluma\, Australia
END:VEVENT
BEGIN:VEVENT
DTSTART;TZID=Australia/Brisbane:20240921T120000
DTEND;TZID=Australia/Brisbane:20240921T140000
DTSTAMP:20260425T050549
CREATED:20240605T010114Z
LAST-MODIFIED:20240605T010114Z
UID:8928-1726920000-1726927200@paluma.org
SUMMARY:Paluma History Display
DESCRIPTION:Every Saturday from March till November we open up the Community Hall and set out a variety of displays and resources that document the rich history of the region\, including early settlement\, construction of the range road and the heroic activities of the miners and loggers who explored the wilderness and developed its earliest industries. \nCome along and have a cup of coffee or tea  and chat with our local history enthusiasts.
URL:https://paluma.org/event/paluma-history-display-22
LOCATION:Paluma Community Hall\, 55 Mt Spec Road\, Paluma\, Australia
END:VEVENT
BEGIN:VEVENT
DTSTART;TZID=Australia/Brisbane:20240928T120000
DTEND;TZID=Australia/Brisbane:20240928T140000
DTSTAMP:20260425T050549
CREATED:20240605T010201Z
LAST-MODIFIED:20240605T010201Z
UID:8930-1727524800-1727532000@paluma.org
SUMMARY:Paluma History Display
DESCRIPTION:Every Saturday from March till November we open up the Community Hall and set out a variety of displays and resources that document the rich history of the region\, including early settlement\, construction of the range road and the heroic activities of the miners and loggers who explored the wilderness and developed its earliest industries. \nCome along and have a cup of coffee or tea  and chat with our local history enthusiasts.
URL:https://paluma.org/event/paluma-history-display-23
LOCATION:Paluma Community Hall\, 55 Mt Spec Road\, Paluma\, Australia
END:VEVENT
END:VCALENDAR