BEGIN:VCALENDAR
VERSION:2.0
PRODID:-//Paluma - our village in the mist - ECPv6.15.20//NONSGML v1.0//EN
CALSCALE:GREGORIAN
METHOD:PUBLISH
X-WR-CALNAME:Paluma - our village in the mist
X-ORIGINAL-URL:https://paluma.org
X-WR-CALDESC:Events for Paluma - our village in the mist
REFRESH-INTERVAL;VALUE=DURATION:PT1H
X-Robots-Tag:noindex
X-PUBLISHED-TTL:PT1H
BEGIN:VTIMEZONE
TZID:Australia/Brisbane
BEGIN:STANDARD
TZOFFSETFROM:+1000
TZOFFSETTO:+1000
TZNAME:AEST
DTSTART:20230101T000000
END:STANDARD
END:VTIMEZONE
BEGIN:VEVENT
DTSTART;TZID=Australia/Brisbane:20240501T110000
DTEND;TZID=Australia/Brisbane:20240501T130000
DTSTAMP:20260425T113510
CREATED:20240308T012018Z
LAST-MODIFIED:20240308T012018Z
UID:8666-1714561200-1714568400@paluma.org
SUMMARY:Paluma History Display
DESCRIPTION:Every Wednesday from March till November we open up the Community Hall and set out a variety of displays and resources that document the rich history of the region\, including early settlement\, construction of the range road and the heroic activities of the miners and loggers who explored the wilderness and developed its earliest industries. \nCome along and have a cup of coffee or tea  and chat with our local history enthusiasts.
URL:https://paluma.org/event/paluma-history-display-4
LOCATION:Paluma Community Hall\, 55 Mt Spec Road\, Paluma\, Australia
END:VEVENT
BEGIN:VEVENT
DTSTART;TZID=Australia/Brisbane:20240503T180000
DTEND;TZID=Australia/Brisbane:20240503T200000
DTSTAMP:20260425T113510
CREATED:20240307T230510Z
LAST-MODIFIED:20240307T230510Z
UID:8610-1714759200-1714766400@paluma.org
SUMMARY:PDCA Social Drinks in the Hall
DESCRIPTION:Once a month (on the Friday night before the Village Working Bee) we open the Community Hall and the bar between 6-8 pm for residents and visitors to come and socialize and play a friendly game of table tennis or darts.  Bring along some nibbles or some finger food to share if you feel inclined.
URL:https://paluma.org/event/pdca-social-drinks-in-the-hall-2
LOCATION:Paluma Community Hall\, 55 Mt Spec Road\, Paluma\, Australia
END:VEVENT
BEGIN:VEVENT
DTSTART;TZID=Australia/Brisbane:20240504T140000
DTEND;TZID=Australia/Brisbane:20240504T160000
DTSTAMP:20260425T113510
CREATED:20240308T004134Z
LAST-MODIFIED:20240308T004134Z
UID:8648-1714831200-1714838400@paluma.org
SUMMARY:Working Bee at the Community Centre
DESCRIPTION:On the first Saturday of every month\, we invite volunteers to come along to the Community Centre where Wilfred Karnol will coordinate one or more activities aimed at maintaining and improving the Hall and surrounding gardens\, the local walking track\, or other community activity.  We meet at 2 pm at the Community Hall and finish at about 4 pm with a free beer or soft drink.
URL:https://paluma.org/event/working-bee-at-the-community-centre-3
LOCATION:Paluma Community Hall\, 55 Mt Spec Road\, Paluma\, Australia
END:VEVENT
BEGIN:VEVENT
DTSTART;TZID=Australia/Brisbane:20240508T110000
DTEND;TZID=Australia/Brisbane:20240508T130000
DTSTAMP:20260425T113510
CREATED:20240308T012147Z
LAST-MODIFIED:20240308T012147Z
UID:8668-1715166000-1715173200@paluma.org
SUMMARY:Paluma History Display
DESCRIPTION:Every Wednesday from March till November we open up the Community Hall and set out a variety of displays and resources that document the rich history of the region\, including early settlement\, construction of the range road and the heroic activities of the miners and loggers who explored the wilderness and developed its earliest industries. \nCome along and have a cup of coffee or tea  and chat with our local history enthusiasts.
URL:https://paluma.org/event/paluma-history-display-5
LOCATION:Paluma Community Hall\, 55 Mt Spec Road\, Paluma\, Australia
END:VEVENT
BEGIN:VEVENT
DTSTART;TZID=Australia/Brisbane:20240515T110000
DTEND;TZID=Australia/Brisbane:20240515T130000
DTSTAMP:20260425T113510
CREATED:20240308T012311Z
LAST-MODIFIED:20240308T012311Z
UID:8670-1715770800-1715778000@paluma.org
SUMMARY:Paluma History Display
DESCRIPTION:Every Wednesday from March till November we open up the Community Hall and set out a variety of displays and resources that document the rich history of the region\, including early settlement\, construction of the range road and the heroic activities of the miners and loggers who explored the wilderness and developed its earliest industries. \nCome along and have a cup of coffee or tea  and chat with our local history enthusiasts.
URL:https://paluma.org/event/paluma-history-display-6
LOCATION:Paluma Community Hall\, 55 Mt Spec Road\, Paluma\, Australia
END:VEVENT
BEGIN:VEVENT
DTSTART;TZID=Australia/Brisbane:20240522T110000
DTEND;TZID=Australia/Brisbane:20240522T130000
DTSTAMP:20260425T113510
CREATED:20240308T012425Z
LAST-MODIFIED:20240308T012425Z
UID:8672-1716375600-1716382800@paluma.org
SUMMARY:Paluma History Display
DESCRIPTION:Every Wednesday from March till November we open up the Community Hall and set out a variety of displays and resources that document the rich history of the region\, including early settlement\, construction of the range road and the heroic activities of the miners and loggers who explored the wilderness and developed its earliest industries. \nCome along and have a cup of coffee or tea  and chat with our local history enthusiasts.
URL:https://paluma.org/event/paluma-history-display-7
LOCATION:Paluma Community Hall\, 55 Mt Spec Road\, Paluma\, Australia
END:VEVENT
BEGIN:VEVENT
DTSTART;TZID=Australia/Brisbane:20240529T110000
DTEND;TZID=Australia/Brisbane:20240529T130000
DTSTAMP:20260425T113510
CREATED:20240308T012508Z
LAST-MODIFIED:20240524T040747Z
UID:8674-1716980400-1716987600@paluma.org
SUMMARY:Paluma History Display
DESCRIPTION:Every Wednesday from March till November we open up the Community Hall and set out a variety of displays and resources that document the rich history of the region\, including early settlement\, construction of the range road and the heroic activities of the miners and loggers who explored the wilderness and developed its earliest industries. \nCome along and have a cup of coffee or tea  and chat with our local history enthusiasts.
URL:https://paluma.org/event/paluma-history-display-8
LOCATION:Paluma Community Hall\, 55 Mt Spec Road\, Paluma\, Australia
END:VEVENT
END:VCALENDAR