BEGIN:VCALENDAR
VERSION:2.0
PRODID:-//Paluma - our village in the mist - ECPv6.15.20//NONSGML v1.0//EN
CALSCALE:GREGORIAN
METHOD:PUBLISH
X-ORIGINAL-URL:https://paluma.org
X-WR-CALDESC:Events for Paluma - our village in the mist
REFRESH-INTERVAL;VALUE=DURATION:PT1H
X-Robots-Tag:noindex
X-PUBLISHED-TTL:PT1H
BEGIN:VTIMEZONE
TZID:Australia/Brisbane
BEGIN:STANDARD
TZOFFSETFROM:+1000
TZOFFSETTO:+1000
TZNAME:AEST
DTSTART:20220101T000000
END:STANDARD
END:VTIMEZONE
BEGIN:VEVENT
DTSTART;TZID=Australia/Brisbane:20231001T090000
DTEND;TZID=Australia/Brisbane:20231001T130000
DTSTAMP:20260425T225853
CREATED:20230214T030012Z
LAST-MODIFIED:20230214T030012Z
UID:7791-1696150800-1696165200@paluma.org
SUMMARY:Paluma Sunday Markets
DESCRIPTION:The Paluma Sunday Markets are held 3-4 times a year in the Paluma Community Hall.  Come and browse through a range of plants\, fabrics\, food and souvenirs.  Sausages sizzle and drinks also available.
URL:https://paluma.org/event/paluma-sunday-markets-4
LOCATION:Paluma Community Hall\, 55 Mt Spec Road\, Paluma\, Australia
END:VEVENT
BEGIN:VEVENT
DTSTART;TZID=Australia/Brisbane:20231001T173000
DTEND;TZID=Australia/Brisbane:20231001T203000
DTSTAMP:20260425T225853
CREATED:20230925T073942Z
LAST-MODIFIED:20230925T073942Z
UID:8471-1696181400-1696192200@paluma.org
SUMMARY:AFL Grand Final at the Community Hall
DESCRIPTION:The NRL Grand final with the Brisbane Broncos vs the   Penrith Panthers is on next Sunday (Oct 1st). If you will be up in Paluma and want to watch the game live on the big TV in the Paluma Community Hall then come along. \nThe Bar will be open from 5:30 pm til 8:30 pm. The game starts at 6:30 pm.
URL:https://paluma.org/event/afl-grand-final-at-the-community-hall
LOCATION:Paluma Community Hall\, 55 Mt Spec Road\, Paluma\, Australia
END:VEVENT
BEGIN:VEVENT
DTSTART;TZID=Australia/Brisbane:20231011T090000
DTEND;TZID=Australia/Brisbane:20231011T163000
DTSTAMP:20260425T225853
CREATED:20231007T024531Z
LAST-MODIFIED:20231007T024531Z
UID:8492-1697014800-1697041800@paluma.org
SUMMARY:Paluma Annual Garden Competition
DESCRIPTION:The annual Paluma Garden Competition will be held in the month of October.  Competition judges from Bunnings will be escorted by a member of the PDCA executive committee around gardens of Paluma residents and businesses including the blocks along and adjacent to Hussey Road. \n 
URL:https://paluma.org/event/paluma-annual-garden-competition
END:VEVENT
BEGIN:VEVENT
DTSTART;TZID=Australia/Brisbane:20231023T080000
DTEND;TZID=Australia/Brisbane:20231023T170000
DTSTAMP:20260425T225853
CREATED:20231023T054356Z
LAST-MODIFIED:20231023T054356Z
UID:8538-1698048000-1698080400@paluma.org
SUMMARY:Working Bee at the Community Centre
DESCRIPTION:On the first Saturday of every month\, we invite volunteers to come along to the Community Centre where Wilfred Karnol will coordinate one or more activities aimed at maintaining and improving the Hall and surrounding gardens\, the local walking track\, or other community activity.  We meet at 2 pm at the Community Hall and finish at about 4 pm with a free beer or soft drink.
URL:https://paluma.org/event/working-bee-at-the-community-centre
LOCATION:Paluma Community Hall\, 55 Mt Spec Road\, Paluma\, Australia
END:VEVENT
BEGIN:VEVENT
DTSTART;VALUE=DATE:20231028
DTEND;VALUE=DATE:20231029
DTSTAMP:20260425T225853
CREATED:20231017T081215Z
LAST-MODIFIED:20231017T083121Z
UID:8531-1698451200-1698537599@paluma.org
SUMMARY:Paluma Ultra
DESCRIPTION:Outer Limits is hosting the very first Paluma Ultra\, 52km trail run. Runners will tackle a challenge course from Paluma\, past the DCK\, over Mt Spec\, down Benham’s track\, past Forgotten Falls and back to Paluma. \nThey will quietly run out of Gumburu at 6am and finish at the village green between 12pm and 5pm. Everyone is welcome to come down to the village green to see them finish.
URL:https://paluma.org/event/paluma-ultra
LOCATION:Gumburu\, Australia
END:VEVENT
BEGIN:VEVENT
DTSTART;TZID=Australia/Brisbane:20231029T080000
DTEND;TZID=Australia/Brisbane:20231029T120000
DTSTAMP:20260425T225854
CREATED:20230214T015559Z
LAST-MODIFIED:20230214T015559Z
UID:7767-1698566400-1698580800@paluma.org
SUMMARY:Paluma Village Trail Run
DESCRIPTION:The Paluma Village Trail Run  features amazing trails\, taking you through the World Heritage listed rainforest in the most southern part of the Wet Tropics. This time of the year\, Paluma Village is a great escape from the heat in Townsville. Situated at over 900m\, the Paluma Range is cooler than the coastal region and it makes for great trail running in October. \nWe acknowledge the Nywaigi people as the Traditional Owners of this land. We pay our respects to their cultures\, their ancestors and their Elders\, past and present – and all future generations. \nFor more information on Paluma\, please visit the National Parks website or the Paluma Info website.
URL:https://paluma.org/event/paluma-village-trail-run
LOCATION:Paluma Community Hall\, 55 Mt Spec Road\, Paluma\, Australia
ORGANIZER;CN="Outerlimits Adventure":MAILTO:info@outerlimitsadventure.com.au
END:VEVENT
END:VCALENDAR