BEGIN:VCALENDAR
VERSION:2.0
PRODID:-//Paluma - our village in the mist - ECPv6.15.20//NONSGML v1.0//EN
CALSCALE:GREGORIAN
METHOD:PUBLISH
X-ORIGINAL-URL:https://paluma.org
X-WR-CALDESC:Events for Paluma - our village in the mist
REFRESH-INTERVAL;VALUE=DURATION:PT1H
X-Robots-Tag:noindex
X-PUBLISHED-TTL:PT1H
BEGIN:VTIMEZONE
TZID:Australia/Brisbane
BEGIN:STANDARD
TZOFFSETFROM:+1000
TZOFFSETTO:+1000
TZNAME:AEST
DTSTART:20220101T000000
END:STANDARD
END:VTIMEZONE
BEGIN:VEVENT
DTSTART;TZID=Australia/Brisbane:20230930T100000
DTEND;TZID=Australia/Brisbane:20230930T170000
DTSTAMP:20260426T003631
CREATED:20230923T000213Z
LAST-MODIFIED:20230923T000213Z
UID:8465-1696068000-1696093200@paluma.org
SUMMARY:Paluma Rural Fire Brigade - Public Meeting and AGM
DESCRIPTION:It’s that time of the year again!  On Saturday September 30th at 10am\, we will be holding a public meeting at the Paluma Community Centre with Paluma ratepayers regarding the setting of the fire levy for 2024. \n  \nFollowing that meeting we will then hold the brigade’s annual general meeting (AGM)
URL:https://paluma.org/event/paluma-rural-fire-brigade-public-meeting-and-agm
LOCATION:Paluma Community Hall\, 55 Mt Spec Road\, Paluma\, Australia
END:VEVENT
END:VCALENDAR