BEGIN:VCALENDAR
VERSION:2.0
PRODID:-//Paluma - our village in the mist - ECPv6.15.20//NONSGML v1.0//EN
CALSCALE:GREGORIAN
METHOD:PUBLISH
X-WR-CALNAME:Paluma - our village in the mist
X-ORIGINAL-URL:https://paluma.org
X-WR-CALDESC:Events for Paluma - our village in the mist
REFRESH-INTERVAL;VALUE=DURATION:PT1H
X-Robots-Tag:noindex
X-PUBLISHED-TTL:PT1H
BEGIN:VTIMEZONE
TZID:Australia/Brisbane
BEGIN:STANDARD
TZOFFSETFROM:+1000
TZOFFSETTO:+1000
TZNAME:AEST
DTSTART:20220101T000000
END:STANDARD
END:VTIMEZONE
BEGIN:VEVENT
DTSTART;TZID=Australia/Brisbane:20230603T140000
DTEND;TZID=Australia/Brisbane:20230603T160000
DTSTAMP:20260426T050027
CREATED:20230214T022437Z
LAST-MODIFIED:20230214T022437Z
UID:7777-1685800800-1685808000@paluma.org
SUMMARY:Paluma Community Working Bee
DESCRIPTION:On the first Saturday of every month\, we get together to carry out different jobs that need doing around the village\, this can range from track maintenance to cleaning the Hall or tending the community garden.  Details of the work planned are published during the preceding week. \nWe meet up at the Community Hall and then return there around 4pm for free refreshments. \nContact Wilfred Karnoll for further information.
URL:https://paluma.org/event/paluma-community-working-bee-4
LOCATION:Paluma Community Hall\, 55 Mt Spec Road\, Paluma\, Australia
END:VEVENT
BEGIN:VEVENT
DTSTART;TZID=Australia/Brisbane:20230617T183000
DTEND;TZID=Australia/Brisbane:20230617T223000
DTSTAMP:20260426T050027
CREATED:20230306T231234Z
LAST-MODIFIED:20230306T231234Z
UID:7851-1687026600-1687041000@paluma.org
SUMMARY:Les Hyland's 92nd Birthday Party
DESCRIPTION:There will be a gathering on Saturday night 17th June to celebrate Les Hyland’s 92nd birthday. Meet at the Community Hall at 6.30 pm. As usual\, bring a plate of food to share and bar will be open.
URL:https://paluma.org/event/les-hylands-92nd-birthday-party
LOCATION:Paluma Community Hall\, 55 Mt Spec Road\, Paluma\, Australia
END:VEVENT
BEGIN:VEVENT
DTSTART;TZID=Australia/Brisbane:20230624T130000
DTEND;TZID=Australia/Brisbane:20230624T160000
DTSTAMP:20260426T050027
CREATED:20230214T024850Z
LAST-MODIFIED:20230620T060955Z
UID:7787-1687611600-1687622400@paluma.org
SUMMARY:Annual Wattle & Gum Bush Dance & BBQ
DESCRIPTION:The annual Wattle n Gum Bush Dance and BBQ will be held at the Paluma Community Hall  this Saturday June 24th.  This is one of our most popular events of the year and there is always an eager group of dancers and bush music enthusiasts to encourage the band.  The BBQ will start a 12noon with the band commencing at 1pm. \nA gold coin donation is requested on entrance \nThe bar will open\, of course. \nThe Paluma Markets will commence the next day (Sunday) and will be open from 9am to 1pm
URL:https://paluma.org/event/annual-wattle-gum-bush-dance-bbq
LOCATION:Paluma Community Hall\, 55 Mt Spec Road\, Paluma\, Australia
END:VEVENT
BEGIN:VEVENT
DTSTART;TZID=Australia/Brisbane:20230625T090000
DTEND;TZID=Australia/Brisbane:20230625T130000
DTSTAMP:20260426T050027
CREATED:20230531T072053Z
LAST-MODIFIED:20230531T072053Z
UID:8197-1687683600-1687698000@paluma.org
SUMMARY:Paluma Community Market\, Sunday 25th June
DESCRIPTION:The Paluma Community Market will be held on Sunday 25th June at the Community Hall from 9 am to 1 pm. Come along to browse and buy from the various stalls selling locally made arts and crafts\, jewellery\, fruit and veggies\, plants and other wares. The PDCA will run the Sausage Sizzle.
URL:https://paluma.org/event/paluma-community-market-sunday-25th-june
LOCATION:Paluma Community Hall\, 55 Mt Spec Road\, Paluma\, Australia
END:VEVENT
END:VCALENDAR