BEGIN:VCALENDAR
VERSION:2.0
PRODID:-//Paluma - our village in the mist - ECPv6.15.20//NONSGML v1.0//EN
CALSCALE:GREGORIAN
METHOD:PUBLISH
X-WR-CALNAME:Paluma - our village in the mist
X-ORIGINAL-URL:https://paluma.org
X-WR-CALDESC:Events for Paluma - our village in the mist
REFRESH-INTERVAL;VALUE=DURATION:PT1H
X-Robots-Tag:noindex
X-PUBLISHED-TTL:PT1H
BEGIN:VTIMEZONE
TZID:Australia/Brisbane
BEGIN:STANDARD
TZOFFSETFROM:+1000
TZOFFSETTO:+1000
TZNAME:AEST
DTSTART:20220101T000000
END:STANDARD
END:VTIMEZONE
BEGIN:VEVENT
DTSTART;TZID=Australia/Brisbane:20240727T083000
DTEND;TZID=Australia/Brisbane:20240727T130000
DTSTAMP:20260425T005159
CREATED:20240306T060638Z
LAST-MODIFIED:20240306T060638Z
UID:8595-1722069000-1722085200@paluma.org
SUMMARY:Rollingstone Art & Craft Show and Sale
DESCRIPTION:
URL:https://paluma.org/event/rollingstone-art-craft-show-and-sale
LOCATION:Rollingstone Community Centre\, Community Crescent\, Balgal Beach\, Queensland\, 4816\, Australia
END:VEVENT
BEGIN:VEVENT
DTSTART;TZID=Australia/Brisbane:20240720T100000
DTEND;TZID=Australia/Brisbane:20240720T120000
DTSTAMP:20260425T005159
CREATED:20240524T035122Z
LAST-MODIFIED:20240524T041723Z
UID:8864-1721469600-1721476800@paluma.org
SUMMARY:Paluma History Display
DESCRIPTION:Every Saturday from March till November we open up the Community Hall and set out a variety of displays and resources that document the rich history of the region\, including early settlement\, construction of the range road and the heroic activities of the miners and loggers who explored the wilderness and developed its earliest industries. \nCome along and have a cup of coffee or tea  and chat with our local history enthusiasts.
URL:https://paluma.org/event/paluma-history-display-16
LOCATION:Paluma Community Hall\, 55 Mt Spec Road\, Paluma\, Australia
END:VEVENT
BEGIN:VEVENT
DTSTART;VALUE=DATE:20240713
DTEND;VALUE=DATE:20240714
DTSTAMP:20260425T005159
CREATED:20240308T002211Z
LAST-MODIFIED:20240308T002211Z
UID:8638-1720828800-1720915199@paluma.org
SUMMARY:Paluma Push
DESCRIPTION:The Mike Carney Toyota Paluma Push is one of North Queensland’s most iconic XC Mountain Bike races. It started in 2002 and is held on the third weekend of July each year. The event is an individual challenge as well as a great social ride. \nBook your camping spot at the Cricket Oval and join us for live music\, food truck fiesta\, bonfire and beers to celebrate all things Paluma Push and mountain biking in North Queensland.
URL:https://paluma.org/event/paluma-push-3
LOCATION:Paluma Community Hall\, 55 Mt Spec Road\, Paluma\, Australia
ORGANIZER;CN="Outerlimits Adventure":MAILTO:info@outerlimitsadventure.com.au
END:VEVENT
BEGIN:VEVENT
DTSTART;TZID=Australia/Brisbane:20240706T140000
DTEND;TZID=Australia/Brisbane:20240706T160000
DTSTAMP:20260425T005159
CREATED:20240308T004701Z
LAST-MODIFIED:20240529T041104Z
UID:8652-1720274400-1720281600@paluma.org
SUMMARY:Working Bee at the Community Centre
DESCRIPTION:On the first Saturday of every month\, we invite volunteers to come along to the Community Centre where Wilfred Karnol will coordinate one or more activities aimed at maintaining and improving the Hall and surrounding gardens\, the local walking track\, or other community activity.  We meet at 2 pm at the Community Hall and finish at about 4 pm with a free beer or soft drink.
URL:https://paluma.org/event/working-bee-at-the-community-centre-5
LOCATION:Paluma Community Hall\, 55 Mt Spec Road\, Paluma\, Australia
END:VEVENT
BEGIN:VEVENT
DTSTART;TZID=Australia/Brisbane:20240706T100000
DTEND;TZID=Australia/Brisbane:20240706T120000
DTSTAMP:20260425T005159
CREATED:20240524T034953Z
LAST-MODIFIED:20240524T041617Z
UID:8860-1720260000-1720267200@paluma.org
SUMMARY:Paluma History Display
DESCRIPTION:Every Saturday from March till November we open up the Community Hall and set out a variety of displays and resources that document the rich history of the region\, including early settlement\, construction of the range road and the heroic activities of the miners and loggers who explored the wilderness and developed its earliest industries. \nCome along and have a cup of coffee or tea  and chat with our local history enthusiasts.
URL:https://paluma.org/event/paluma-history-display-14
LOCATION:Paluma Community Hall\, 55 Mt Spec Road\, Paluma\, Australia
END:VEVENT
BEGIN:VEVENT
DTSTART;TZID=Australia/Brisbane:20240705T180000
DTEND;TZID=Australia/Brisbane:20240705T200000
DTSTAMP:20260425T005159
CREATED:20240307T230953Z
LAST-MODIFIED:20240307T230953Z
UID:8614-1720202400-1720209600@paluma.org
SUMMARY:PDCA Social Drinks in the Hall
DESCRIPTION:Once a month (on the Friday night before the Village Working Bee) we open the Community Hall and the bar between 6-8 pm for residents and visitors to come and socialize and play a friendly game of table tennis or darts.  Bring along some nibbles or some finger food to share if you feel inclined.
URL:https://paluma.org/event/pdca-social-drinks-in-the-hall-4
LOCATION:Paluma Community Hall\, 55 Mt Spec Road\, Paluma\, Australia
END:VEVENT
BEGIN:VEVENT
DTSTART;TZID=Australia/Brisbane:20240629T100000
DTEND;TZID=Australia/Brisbane:20240629T120000
DTSTAMP:20260425T005159
CREATED:20240524T034908Z
LAST-MODIFIED:20240524T041502Z
UID:8858-1719655200-1719662400@paluma.org
SUMMARY:Paluma History Display
DESCRIPTION:Every Saturday from March till November we open up the Community Hall and set out a variety of displays and resources that document the rich history of the region\, including early settlement\, construction of the range road and the heroic activities of the miners and loggers who explored the wilderness and developed its earliest industries. \nCome along and have a cup of coffee or tea  and chat with our local history enthusiasts.
URL:https://paluma.org/event/paluma-history-display-13
LOCATION:Paluma Community Hall\, 55 Mt Spec Road\, Paluma\, Australia
END:VEVENT
BEGIN:VEVENT
DTSTART;TZID=Australia/Brisbane:20240623T090000
DTEND;TZID=Australia/Brisbane:20240623T130000
DTSTAMP:20260425T005159
CREATED:20240308T001142Z
LAST-MODIFIED:20240308T001142Z
UID:8632-1719133200-1719147600@paluma.org
SUMMARY:Paluma Sunday Markets
DESCRIPTION:The Paluma Sunday Markets are held 3-4 times a year in the Paluma Community Hall.  Come and browse through a range of plants\, fabrics\, food and souvenirs.  Sausages sizzle and drinks also available.
URL:https://paluma.org/event/paluma-sunday-markets-5
LOCATION:Paluma Community Hall\, 55 Mt Spec Road\, Paluma\, Australia
END:VEVENT
BEGIN:VEVENT
DTSTART;TZID=Australia/Brisbane:20240622T120000
DTEND;TZID=Australia/Brisbane:20240622T160000
DTSTAMP:20260425T005159
CREATED:20240308T001905Z
LAST-MODIFIED:20240308T001905Z
UID:8636-1719057600-1719072000@paluma.org
SUMMARY:Annual Wattle & Gum Bush Dance & BBQ
DESCRIPTION:The annual Wattle n Gum Bush Dance and BBQ will be held at the Paluma Community Hall  this Saturday\, June 22nd.  This is one of our most popular events of the year and there is always an eager group of dancers and bush music enthusiasts to encourage the band.  The BBQ will start a 12 noon with the band commencing at 1pm. \nA gold coin donation is requested on entrance \nThe bar will open\, of course. \nThe Paluma Markets will commence the next day (Sunday) and will be open from 9am to 1pm
URL:https://paluma.org/event/annual-wattle-gum-bush-dance-bbq-2
LOCATION:Paluma Community Hall\, 55 Mt Spec Road\, Paluma\, Australia
END:VEVENT
BEGIN:VEVENT
DTSTART;TZID=Australia/Brisbane:20240615T100000
DTEND;TZID=Australia/Brisbane:20240615T120000
DTSTAMP:20260425T005159
CREATED:20240524T034456Z
LAST-MODIFIED:20240524T041404Z
UID:8852-1718445600-1718452800@paluma.org
SUMMARY:Paluma History Display
DESCRIPTION:Every Saturday from March till November we open up the Community Hall and set out a variety of displays and resources that document the rich history of the region\, including early settlement\, construction of the range road and the heroic activities of the miners and loggers who explored the wilderness and developed its earliest industries. \nCome along and have a cup of coffee or tea  and chat with our local history enthusiasts.
URL:https://paluma.org/event/paluma-history-display-10
LOCATION:Paluma Community Hall\, 55 Mt Spec Road\, Paluma\, Australia
END:VEVENT
BEGIN:VEVENT
DTSTART;TZID=Australia/Brisbane:20240608T140000
DTEND;TZID=Australia/Brisbane:20240608T160000
DTSTAMP:20260425T005159
CREATED:20240308T004427Z
LAST-MODIFIED:20240308T004427Z
UID:8650-1717855200-1717862400@paluma.org
SUMMARY:Working Bee at the Community Centre
DESCRIPTION:On the first Saturday of every month\, we invite volunteers to come along to the Community Centre where Wilfred Karnol will coordinate one or more activities aimed at maintaining and improving the Hall and surrounding gardens\, the local walking track\, or other community activity.  We meet at 2 pm at the Community Hall and finish at about 4 pm with a free beer or soft drink.
URL:https://paluma.org/event/working-bee-at-the-community-centre-4
LOCATION:Paluma Community Hall\, 55 Mt Spec Road\, Paluma\, Australia
END:VEVENT
BEGIN:VEVENT
DTSTART;TZID=Australia/Brisbane:20240608T100000
DTEND;TZID=Australia/Brisbane:20240608T120000
DTSTAMP:20260425T005159
CREATED:20240524T034345Z
LAST-MODIFIED:20240524T034345Z
UID:8850-1717840800-1717848000@paluma.org
SUMMARY:Paluma History Display
DESCRIPTION:Every Saturday from March till November we open up the Community Hall and set out a variety of displays and resources that document the rich history of the region\, including early settlement\, construction of the range road and the heroic activities of the miners and loggers who explored the wilderness and developed its earliest industries. \nCome along and have a cup of coffee or tea  and chat with our local history enthusiasts.
URL:https://paluma.org/event/paluma-history-display-9
LOCATION:Paluma Community Hall\, 55 Mt Spec Road\, Paluma\, Australia
END:VEVENT
BEGIN:VEVENT
DTSTART;TZID=Australia/Brisbane:20240607T180000
DTEND;TZID=Australia/Brisbane:20240607T200000
DTSTAMP:20260425T005159
CREATED:20240307T230851Z
LAST-MODIFIED:20240307T230851Z
UID:8612-1717783200-1717790400@paluma.org
SUMMARY:PDCA Social Drinks in the Hall
DESCRIPTION:Once a month (on the Friday night before the Village Working Bee) we open the Community Hall and the bar between 6-8 pm for residents and visitors to come and socialize and play a friendly game of table tennis or darts.  Bring along some nibbles or some finger food to share if you feel inclined.
URL:https://paluma.org/event/pdca-social-drinks-in-the-hall-3
LOCATION:Paluma Community Hall\, 55 Mt Spec Road\, Paluma\, Australia
END:VEVENT
BEGIN:VEVENT
DTSTART;TZID=Australia/Brisbane:20240529T110000
DTEND;TZID=Australia/Brisbane:20240529T130000
DTSTAMP:20260425T005159
CREATED:20240308T012508Z
LAST-MODIFIED:20240524T040747Z
UID:8674-1716980400-1716987600@paluma.org
SUMMARY:Paluma History Display
DESCRIPTION:Every Wednesday from March till November we open up the Community Hall and set out a variety of displays and resources that document the rich history of the region\, including early settlement\, construction of the range road and the heroic activities of the miners and loggers who explored the wilderness and developed its earliest industries. \nCome along and have a cup of coffee or tea  and chat with our local history enthusiasts.
URL:https://paluma.org/event/paluma-history-display-8
LOCATION:Paluma Community Hall\, 55 Mt Spec Road\, Paluma\, Australia
END:VEVENT
BEGIN:VEVENT
DTSTART;TZID=Australia/Brisbane:20240522T110000
DTEND;TZID=Australia/Brisbane:20240522T130000
DTSTAMP:20260425T005159
CREATED:20240308T012425Z
LAST-MODIFIED:20240308T012425Z
UID:8672-1716375600-1716382800@paluma.org
SUMMARY:Paluma History Display
DESCRIPTION:Every Wednesday from March till November we open up the Community Hall and set out a variety of displays and resources that document the rich history of the region\, including early settlement\, construction of the range road and the heroic activities of the miners and loggers who explored the wilderness and developed its earliest industries. \nCome along and have a cup of coffee or tea  and chat with our local history enthusiasts.
URL:https://paluma.org/event/paluma-history-display-7
LOCATION:Paluma Community Hall\, 55 Mt Spec Road\, Paluma\, Australia
END:VEVENT
BEGIN:VEVENT
DTSTART;TZID=Australia/Brisbane:20240515T110000
DTEND;TZID=Australia/Brisbane:20240515T130000
DTSTAMP:20260425T005159
CREATED:20240308T012311Z
LAST-MODIFIED:20240308T012311Z
UID:8670-1715770800-1715778000@paluma.org
SUMMARY:Paluma History Display
DESCRIPTION:Every Wednesday from March till November we open up the Community Hall and set out a variety of displays and resources that document the rich history of the region\, including early settlement\, construction of the range road and the heroic activities of the miners and loggers who explored the wilderness and developed its earliest industries. \nCome along and have a cup of coffee or tea  and chat with our local history enthusiasts.
URL:https://paluma.org/event/paluma-history-display-6
LOCATION:Paluma Community Hall\, 55 Mt Spec Road\, Paluma\, Australia
END:VEVENT
BEGIN:VEVENT
DTSTART;TZID=Australia/Brisbane:20240508T110000
DTEND;TZID=Australia/Brisbane:20240508T130000
DTSTAMP:20260425T005159
CREATED:20240308T012147Z
LAST-MODIFIED:20240308T012147Z
UID:8668-1715166000-1715173200@paluma.org
SUMMARY:Paluma History Display
DESCRIPTION:Every Wednesday from March till November we open up the Community Hall and set out a variety of displays and resources that document the rich history of the region\, including early settlement\, construction of the range road and the heroic activities of the miners and loggers who explored the wilderness and developed its earliest industries. \nCome along and have a cup of coffee or tea  and chat with our local history enthusiasts.
URL:https://paluma.org/event/paluma-history-display-5
LOCATION:Paluma Community Hall\, 55 Mt Spec Road\, Paluma\, Australia
END:VEVENT
BEGIN:VEVENT
DTSTART;TZID=Australia/Brisbane:20240504T140000
DTEND;TZID=Australia/Brisbane:20240504T160000
DTSTAMP:20260425T005159
CREATED:20240308T004134Z
LAST-MODIFIED:20240308T004134Z
UID:8648-1714831200-1714838400@paluma.org
SUMMARY:Working Bee at the Community Centre
DESCRIPTION:On the first Saturday of every month\, we invite volunteers to come along to the Community Centre where Wilfred Karnol will coordinate one or more activities aimed at maintaining and improving the Hall and surrounding gardens\, the local walking track\, or other community activity.  We meet at 2 pm at the Community Hall and finish at about 4 pm with a free beer or soft drink.
URL:https://paluma.org/event/working-bee-at-the-community-centre-3
LOCATION:Paluma Community Hall\, 55 Mt Spec Road\, Paluma\, Australia
END:VEVENT
BEGIN:VEVENT
DTSTART;TZID=Australia/Brisbane:20240503T180000
DTEND;TZID=Australia/Brisbane:20240503T200000
DTSTAMP:20260425T005159
CREATED:20240307T230510Z
LAST-MODIFIED:20240307T230510Z
UID:8610-1714759200-1714766400@paluma.org
SUMMARY:PDCA Social Drinks in the Hall
DESCRIPTION:Once a month (on the Friday night before the Village Working Bee) we open the Community Hall and the bar between 6-8 pm for residents and visitors to come and socialize and play a friendly game of table tennis or darts.  Bring along some nibbles or some finger food to share if you feel inclined.
URL:https://paluma.org/event/pdca-social-drinks-in-the-hall-2
LOCATION:Paluma Community Hall\, 55 Mt Spec Road\, Paluma\, Australia
END:VEVENT
BEGIN:VEVENT
DTSTART;TZID=Australia/Brisbane:20240501T110000
DTEND;TZID=Australia/Brisbane:20240501T130000
DTSTAMP:20260425T005159
CREATED:20240308T012018Z
LAST-MODIFIED:20240308T012018Z
UID:8666-1714561200-1714568400@paluma.org
SUMMARY:Paluma History Display
DESCRIPTION:Every Wednesday from March till November we open up the Community Hall and set out a variety of displays and resources that document the rich history of the region\, including early settlement\, construction of the range road and the heroic activities of the miners and loggers who explored the wilderness and developed its earliest industries. \nCome along and have a cup of coffee or tea  and chat with our local history enthusiasts.
URL:https://paluma.org/event/paluma-history-display-4
LOCATION:Paluma Community Hall\, 55 Mt Spec Road\, Paluma\, Australia
END:VEVENT
BEGIN:VEVENT
DTSTART;TZID=Australia/Brisbane:20240424T110000
DTEND;TZID=Australia/Brisbane:20240424T130000
DTSTAMP:20260425T005159
CREATED:20240308T011840Z
LAST-MODIFIED:20240308T011840Z
UID:8664-1713956400-1713963600@paluma.org
SUMMARY:Paluma History Display
DESCRIPTION:Every Wednesday from March till November we open up the Community Hall and set out a variety of displays and resources that document the rich history of the region\, including early settlement\, construction of the range road and the heroic activities of the miners and loggers who explored the wilderness and developed its earliest industries. \nCome along and have a cup of coffee or tea  and chat with our local history enthusiasts.
URL:https://paluma.org/event/paluma-history-display-3
LOCATION:Paluma Community Hall\, 55 Mt Spec Road\, Paluma\, Australia
END:VEVENT
BEGIN:VEVENT
DTSTART;TZID=Australia/Brisbane:20240420T120000
DTEND;TZID=Australia/Brisbane:20240420T140000
DTSTAMP:20260425T005159
CREATED:20240407T034724Z
LAST-MODIFIED:20240407T035128Z
UID:8783-1713614400-1713621600@paluma.org
SUMMARY:Memorial Celebration for Glenn Parker
DESCRIPTION:Bobbi Parker is holding a memorial celebration at the Community Hall at 12pm on April 20th to honour Glenn Parker who died recently at their home in Paluma. \n\n\n\nFriends and relatives from Townsville and other parts of Australia will be attending\, and Paluma residents are also invited to participate. There will be an open bar. You are invited to bring a plate of finger food.
URL:https://paluma.org/event/memorial-celebration-for-glenn-parker
LOCATION:Paluma Community Hall\, 55 Mt Spec Road\, Paluma\, Australia
END:VEVENT
BEGIN:VEVENT
DTSTART;TZID=Australia/Brisbane:20240417T110000
DTEND;TZID=Australia/Brisbane:20240417T130000
DTSTAMP:20260425T005159
CREATED:20240308T011736Z
LAST-MODIFIED:20240308T011736Z
UID:8662-1713351600-1713358800@paluma.org
SUMMARY:Paluma History Display
DESCRIPTION:Every Wednesday from March till November we open up the Community Hall and set out a variety of displays and resources that document the rich history of the region\, including early settlement\, construction of the range road and the heroic activities of the miners and loggers who explored the wilderness and developed its earliest industries. \nCome along and have a cup of coffee or tea  and chat with our local history enthusiasts.
URL:https://paluma.org/event/paluma-history-display-2
LOCATION:Paluma Community Hall\, 55 Mt Spec Road\, Paluma\, Australia
END:VEVENT
BEGIN:VEVENT
DTSTART;TZID=Australia/Brisbane:20240413T140000
DTEND;TZID=Australia/Brisbane:20240413T160000
DTSTAMP:20260425T005159
CREATED:20240308T003708Z
LAST-MODIFIED:20240308T003708Z
UID:8646-1713016800-1713024000@paluma.org
SUMMARY:Working Bee at the Community Centre
DESCRIPTION:On the first Saturday of every month\, we invite volunteers to come along to the Community Centre where Wilfred Karnol will coordinate one or more activities aimed at maintaining and improving the Hall and surrounding gardens\, the local walking track\, or other community activity.  We meet at 2 pm at the Community Hall and finish at about 4 pm with a free beer or soft drink.
URL:https://paluma.org/event/working-bee-at-the-community-centre-2
LOCATION:Paluma Community Hall\, 55 Mt Spec Road\, Paluma\, Australia
END:VEVENT
BEGIN:VEVENT
DTSTART;TZID=Australia/Brisbane:20240410T110000
DTEND;TZID=Australia/Brisbane:20240410T130000
DTSTAMP:20260425T005159
CREATED:20240307T234533Z
LAST-MODIFIED:20240307T234533Z
UID:8627-1712746800-1712754000@paluma.org
SUMMARY:Paluma History Display
DESCRIPTION:Every Wednesday from March till November we open up the Community Hall and set out a variety of displays and resources that document the rich history of the region\, including early settlement\, construction of the range road and the heroic activities of the miners and loggers who explored the wilderness and developed its earliest industries. \nCome along and have a cup of coffee or tea  and chat with our local history enthusiasts.
URL:https://paluma.org/event/paluma-history-display
LOCATION:Paluma Community Hall\, 55 Mt Spec Road\, Paluma\, Australia
END:VEVENT
BEGIN:VEVENT
DTSTART;TZID=Australia/Brisbane:20240406T120000
DTEND;TZID=Australia/Brisbane:20240406T143000
DTSTAMP:20260425T005159
CREATED:20240307T233533Z
LAST-MODIFIED:20240313T030854Z
UID:8624-1712404800-1712413800@paluma.org
SUMMARY:PDCA Annual General Meeting
DESCRIPTION:Members (and prospective members) are advised that the Annual General Meeting of the Paluma & District Community Association Inc. will be held on: \nSaturday\, April 6\, 2024\, at 12pm for a BBQ lunch followed by the AGM at 1:15pm in the Community Hall \nNominations are open for all Executive Committee positions. Nominations should be forwarded to any member of the Executive Committee or by email to PalumaPDCA@gmail.com. Please use the nomination forms\, which can be downloaded here. \nPositions are: \n\nPresident\,\n1 or 2 Vice-Presidents\nSecretary\nTreasurer\nGeneral Committee members (numbers flexible)\n\nMembers are reminded that Annual Subscriptions are now due and should be paid prior to the commencement of the AGM.   Membership is $45.00 Please use the subscription form here to submit your dues. New members are more than welcome and should use the same form. \nPlease note that you must be a PDCA member to nominate someone to the Committee or vote for any Committee member. \nThe AGM will be followed immediately by a normal General Meeting with the new Committee. \nAGM AGENDA \n\nOpening – circulation of attendance sheet\nApologies\nMinutes of previous AGM April 1st\, 2023\nPresident’s Report\nTreasurer’s report\nElection of Officers for 2024-2025\nElection of Auditor for 2024-2025\nClose of Annual General Meeting\n\nNormal General Meeting Agenda \n\nOpen General Meeting\nProposed Events/Fund-raising for the coming year\nAny other business\nClose of General Meeting
URL:https://paluma.org/event/pdca-annual-general-meeting-3
LOCATION:Paluma Community Hall\, 55 Mt Spec Road\, Paluma\, Australia
END:VEVENT
BEGIN:VEVENT
DTSTART;TZID=Australia/Brisbane:20240405T180000
DTEND;TZID=Australia/Brisbane:20240405T200000
DTSTAMP:20260425T005159
CREATED:20240307T230103Z
LAST-MODIFIED:20240307T230103Z
UID:8608-1712340000-1712347200@paluma.org
SUMMARY:PDCA Social Drinks in the Hall
DESCRIPTION:Once a month (on the Friday night before the Village Working Bee) we open the Community Hall and the bar between 6-8 pm for residents and visitors to come and socialize and play a friendly game of table tennis or darts.  Bring along some nibbles or some finger food to share if you feel inclined.
URL:https://paluma.org/event/pdca-social-drinks-in-the-hall
LOCATION:Paluma Community Hall\, 55 Mt Spec Road\, Paluma\, Australia
END:VEVENT
BEGIN:VEVENT
DTSTART;TZID=Australia/Brisbane:20240331T090000
DTEND;TZID=Australia/Brisbane:20240331T130000
DTSTAMP:20260425T005159
CREATED:20240307T235124Z
LAST-MODIFIED:20240307T235124Z
UID:8629-1711875600-1711890000@paluma.org
SUMMARY:Paluma Easter Markets
DESCRIPTION:The Paluma Sunday Markets are held 3-4 times a year in the Paluma Community Hall.  Come and browse through a range of plants\, fabrics\, food and souvenirs.  Sausages sizzle and drinks also available.
URL:https://paluma.org/event/paluma-easter-markets
LOCATION:Paluma Community Hall\, 55 Mt Spec Road\, Paluma\, Australia
END:VEVENT
BEGIN:VEVENT
DTSTART;TZID=Australia/Brisbane:20231209T080000
DTEND;TZID=Australia/Brisbane:20231209T170000
DTSTAMP:20260425T005159
CREATED:20230214T030520Z
LAST-MODIFIED:20230214T030520Z
UID:7793-1702108800-1702141200@paluma.org
SUMMARY:Tropical Christmas BBQ
DESCRIPTION:This is our last social evening for the year. Come and help us celebrate the beginning of the festive season in tropical style. \nBring a plate.
URL:https://paluma.org/event/tropical-christmas-bbq
LOCATION:Paluma Community Hall\, 55 Mt Spec Road\, Paluma\, Australia
END:VEVENT
BEGIN:VEVENT
DTSTART;TZID=Australia/Brisbane:20231104T183000
DTEND;TZID=Australia/Brisbane:20231104T223000
DTSTAMP:20260425T005159
CREATED:20230819T143917Z
LAST-MODIFIED:20230819T203039Z
UID:8405-1699122600-1699137000@paluma.org
SUMMARY:Monsters and Mayhem
DESCRIPTION:Saturday 4 November sees the return of the popular Monsters and Mayhem on the Mountain social at the Paluma Community Hall commencing at 6.30 PM. Dress to the ‘monsters’ theme and bring a plate of food to share. More information to follow…..
URL:https://paluma.org/event/monsters-and-mayhem
LOCATION:Paluma Community Hall\, 55 Mt Spec Road\, Paluma\, Australia
END:VEVENT
END:VCALENDAR