BEGIN:VCALENDAR
VERSION:2.0
PRODID:-//Paluma - our village in the mist - ECPv6.15.20//NONSGML v1.0//EN
CALSCALE:GREGORIAN
METHOD:PUBLISH
X-WR-CALNAME:Paluma - our village in the mist
X-ORIGINAL-URL:https://paluma.org
X-WR-CALDESC:Events for Paluma - our village in the mist
REFRESH-INTERVAL;VALUE=DURATION:PT1H
X-Robots-Tag:noindex
X-PUBLISHED-TTL:PT1H
BEGIN:VTIMEZONE
TZID:Australia/Brisbane
BEGIN:STANDARD
TZOFFSETFROM:+1000
TZOFFSETTO:+1000
TZNAME:AEST
DTSTART:20200101T000000
END:STANDARD
END:VTIMEZONE
BEGIN:VEVENT
DTSTART;TZID=Australia/Brisbane:20230408T140000
DTEND;TZID=Australia/Brisbane:20230408T160000
DTSTAMP:20260425T221642
CREATED:20230214T022014Z
LAST-MODIFIED:20230328T051848Z
UID:7773-1680962400-1680969600@paluma.org
SUMMARY:Paluma Community Working Bee
DESCRIPTION:On the first Saturday of every month\, we get together to carry out different jobs that need doing around the village\, this can range from track maintenance to cleaning the Hall or tending the community garden.  Details of the work planned are published during the preceding week. \nWe meet up at the Community Hall at 2 pm and then return there around 4pm for free refreshments. \nContact Wilfred Karnoll for further information.
URL:https://paluma.org/event/paluma-community-working-bee-2
LOCATION:Paluma Community Hall\, 55 Mt Spec Road\, Paluma\, Australia
END:VEVENT
BEGIN:VEVENT
DTSTART;TZID=Australia/Brisbane:20230401T120000
DTEND;TZID=Australia/Brisbane:20230401T143000
DTSTAMP:20260425T221642
CREATED:20230213T225635Z
LAST-MODIFIED:20230213T225635Z
UID:7762-1680350400-1680359400@paluma.org
SUMMARY:PDCA Annual General Meeting and BBQ lunch
DESCRIPTION:The PDCA Annual General Meeting will be held at the Community Hall on Saturday 1st April 2023. There will be a FREE BBQ Lunch at 12 PM with the AGM to commence at 1:15 PM.
URL:https://paluma.org/event/pdca-annual-general-meeting-and-bbq-lunch
LOCATION:Paluma Community Hall\, 55 Mt Spec Road\, Paluma\, Australia
END:VEVENT
BEGIN:VEVENT
DTSTART;TZID=Australia/Brisbane:20230318T063000
DTEND;TZID=Australia/Brisbane:20230318T223000
DTSTAMP:20260425T221642
CREATED:20230214T023507Z
LAST-MODIFIED:20230214T023507Z
UID:7781-1679121000-1679178600@paluma.org
SUMMARY:St Patrick's Day Dinner
DESCRIPTION:Join us to celebrate St Patrick’s day.  Bring a plate and wear something green!
URL:https://paluma.org/event/st-patricks-day-dinner
LOCATION:Paluma Community Hall\, 55 Mt Spec Road\, Paluma\, Australia
END:VEVENT
BEGIN:VEVENT
DTSTART;TZID=Australia/Brisbane:20230304T140000
DTEND;TZID=Australia/Brisbane:20230304T160000
DTSTAMP:20260425T221642
CREATED:20230214T021821Z
LAST-MODIFIED:20230214T021821Z
UID:7771-1677938400-1677945600@paluma.org
SUMMARY:Paluma Community Working Bee
DESCRIPTION:On the first Saturday of every month\, we get together to carry out different jobs that need doing around the village\, this can range from track maintenance to cleaning the Hall or tending the community garden.  Details of the work planned are published during the preceding week. \nWe meet up at the Community Hall and then return there around 4pm for free refreshments. \nContact Wilfred Karnoll for further information.
URL:https://paluma.org/event/paluma-community-working-bee
LOCATION:Paluma Community Hall\, 55 Mt Spec Road\, Paluma\, Australia
END:VEVENT
BEGIN:VEVENT
DTSTART;TZID=Australia/Brisbane:20221210T183000
DTEND;TZID=Australia/Brisbane:20221210T223000
DTSTAMP:20260425T221642
CREATED:20220314T105347Z
LAST-MODIFIED:20220314T105347Z
UID:6768-1670697000-1670711400@paluma.org
SUMMARY:Tropical BBQ
DESCRIPTION:The last social gathering for 2022\, the annual Paluma Tropical BBQ will be held on Saturday 10 December at the Community Hall at 6.30 PM. Wear your favourite tropical shirt and bring a plate of food (nibbles\, salad or sweets) to share. Bring your protein for the BBQ. Bar will be open for drinks.
URL:https://paluma.org/event/tropical-bbq-2
LOCATION:Paluma Community Hall\, 55 Mt Spec Road\, Paluma\, Australia
END:VEVENT
BEGIN:VEVENT
DTSTART;TZID=Australia/Brisbane:20221112T183000
DTEND;TZID=Australia/Brisbane:20221112T223000
DTSTAMP:20260425T221642
CREATED:20220314T105041Z
LAST-MODIFIED:20220314T105041Z
UID:6766-1668277800-1668292200@paluma.org
SUMMARY:Monsters and Mayhem on the Mountain
DESCRIPTION:Saturday 12 November sees the return of the popular Monsters and Mayhem on the Mountain social at the Paluma Community Hall commencing at 6.30 PM. Dress to the ‘monsters’ theme and bring a plate of food to share. More information to follow…..
URL:https://paluma.org/event/monsters-and-mayhem-on-the-mountain
LOCATION:Paluma Community Hall\, 55 Mt Spec Road\, Paluma\, Australia
END:VEVENT
BEGIN:VEVENT
DTSTART;TZID=Australia/Brisbane:20221030T070000
DTEND;TZID=Australia/Brisbane:20221030T160000
DTSTAMP:20260425T221642
CREATED:20220314T110420Z
LAST-MODIFIED:20220314T110420Z
UID:6777-1667113200-1667145600@paluma.org
SUMMARY:Outer Limits Paluma Trail Run
DESCRIPTION:The annual Paluma Trail Run will be held on Sunday 30 October 2022. Check out the Outer Limits website for more information.
URL:https://paluma.org/event/outer-limits-paluma-trail-run
LOCATION:Paluma Adventure Centre\, 7 Lookout Rd\, Paluma\, QLD\, 4816\, Australia
ORGANIZER;CN="Outerlimits Adventure":MAILTO:info@outerlimitsadventure.com.au
END:VEVENT
BEGIN:VEVENT
DTSTART;TZID=Australia/Brisbane:20221022T190000
DTEND;TZID=Australia/Brisbane:20221022T200000
DTSTAMP:20260425T221642
CREATED:20221017T100255Z
LAST-MODIFIED:20221017T100255Z
UID:7416-1666465200-1666468800@paluma.org
SUMMARY:Paluma After Dark
DESCRIPTION:Come join Juanita and me for a 30-40min walk along the track to Witts Lookout to look for nocturnal animals and glowing plants and fungi. \nBring a head torch\, and a UV torch if you have one. There might be a sprinkle of rain but heavy falls are not predicted \nMeet at Potters Park\, opposite 27 Lennox Cr at 7pm \nJamie Oliver
URL:https://paluma.org/event/paluma-after-dark-4
END:VEVENT
BEGIN:VEVENT
DTSTART;TZID=Australia/Brisbane:20221002T090000
DTEND;TZID=Australia/Brisbane:20221002T130000
DTSTAMP:20260425T221642
CREATED:20220314T110007Z
LAST-MODIFIED:20220314T110007Z
UID:6773-1664701200-1664715600@paluma.org
SUMMARY:Paluma Community Market
DESCRIPTION:The final Paluma Community Market for 2022 will be held on Sunday 2 October. The Market will run from 9 am to 1 pm at the Paluma Community Hall. \nMore information to follow…..
URL:https://paluma.org/event/paluma-community-market-2
LOCATION:Paluma Community Hall\, 55 Mt Spec Road\, Paluma\, Australia
END:VEVENT
BEGIN:VEVENT
DTSTART;TZID=Australia/Brisbane:20220917T183000
DTEND;TZID=Australia/Brisbane:20220917T223000
DTSTAMP:20260425T221642
CREATED:20220314T104805Z
LAST-MODIFIED:20220314T104805Z
UID:6764-1663439400-1663453800@paluma.org
SUMMARY:International Night at the Community Hall
DESCRIPTION:International Night will be held on Saturday 17 September at the Paluma Community Hall commencing at 6.30 PM. Bring a plate of food to share and the bar will be open for drinks. More information to follow…..
URL:https://paluma.org/event/international-night-at-the-community-hall
LOCATION:Paluma Community Hall\, 55 Mt Spec Road\, Paluma\, Australia
END:VEVENT
BEGIN:VEVENT
DTSTART;TZID=Australia/Brisbane:20220827T183000
DTEND;TZID=Australia/Brisbane:20220827T203000
DTSTAMP:20260425T221642
CREATED:20220810T200517Z
LAST-MODIFIED:20220810T200517Z
UID:7323-1661625000-1661632200@paluma.org
SUMMARY:Paluma After Dark
DESCRIPTION:Join us on a night-time walk through the local forest tracks to see what creatures and plants can be found after sunset. Bring along a head torch (preferably one that can focus into a tight beam). A UV torch is also useful to highlight some of the brightly fluorescent plants that we have recently found beside the tracks. There will be a few UV torches available to share if you don’t have one.
URL:https://paluma.org/event/paluma-after-dark-3
LOCATION:Potters Park – 27 Lennox Cr\, 27 Lennox Cr\, Paluma\, QUEENSLAND\, 4816\, Australia
END:VEVENT
BEGIN:VEVENT
DTSTART;TZID=Australia/Brisbane:20220820T183000
DTEND;TZID=Australia/Brisbane:20220820T223000
DTSTAMP:20260425T221642
CREATED:20220314T104615Z
LAST-MODIFIED:20220314T104615Z
UID:6762-1661020200-1661034600@paluma.org
SUMMARY:Back to the 50's Night
DESCRIPTION:Come ‘Back to the 50’s’ on Saturday 20 August at the Paluma Community Hall. Dress-up in your favourite 50’s gear and come along to enjoy the music and dancing 50’s style. Bring a plate to share and the bar will be open for alcoholic beverages and sodas. More information to follow…..
URL:https://paluma.org/event/back-to-the-50s-night
LOCATION:Paluma Community Hall\, 55 Mt Spec Road\, Paluma\, Australia
END:VEVENT
BEGIN:VEVENT
DTSTART;TZID=Australia/Brisbane:20220716T070000
DTEND;TZID=Australia/Brisbane:20220716T170000
DTSTAMP:20260425T221642
CREATED:20220314T110228Z
LAST-MODIFIED:20220314T110228Z
UID:6775-1657954800-1657990800@paluma.org
SUMMARY:Outer Limits Paluma Push
DESCRIPTION:The annual Paluma Push mountain bike race will be held on Saturday and Sunday 16 & 17 July 2022. Check out the Outer Limits website for more information.
URL:https://paluma.org/event/outer-limits-paluma-push
LOCATION:Paluma Adventure Centre\, 7 Lookout Rd\, Paluma\, QLD\, 4816\, Australia
ORGANIZER;CN="Outerlimits Adventure":MAILTO:info@outerlimitsadventure.com.au
END:VEVENT
BEGIN:VEVENT
DTSTART;TZID=Australia/Brisbane:20220626T090000
DTEND;TZID=Australia/Brisbane:20220626T130000
DTSTAMP:20260425T221642
CREATED:20220314T105728Z
LAST-MODIFIED:20220314T105728Z
UID:6771-1656234000-1656248400@paluma.org
SUMMARY:Paluma Community Market
DESCRIPTION:The Paluma Community Market will be held on Sunday 26 June after the ‘Wattle n Gum’ Bush Dance on Saturday 25 June. The Market will run from 9 am to 1 pm at the Paluma Community Hall. \nMore information to follow…..
URL:https://paluma.org/event/paluma-community-market
LOCATION:Paluma Community Hall\, 55 Mt Spec Road\, Paluma\, Australia
END:VEVENT
BEGIN:VEVENT
DTSTART;TZID=Australia/Brisbane:20220625T120000
DTEND;TZID=Australia/Brisbane:20220625T160000
DTSTAMP:20260425T221642
CREATED:20220314T103948Z
LAST-MODIFIED:20220314T104052Z
UID:6757-1656158400-1656172800@paluma.org
SUMMARY:Paluma Bush Dance with 'Wattle n Gum'
DESCRIPTION:The annual Paluma Dance with ‘Wattle n Gum’ will be held at the Community Hall on Saturday 25 June from 1 PM to 4 PM. A BBQ Lunch will be held from 12 noon and the bar will be open all afternoon for drinks. Entry is by gold coin donation please. More information to follow…….
URL:https://paluma.org/event/paluma-bush-dance-with-wattle-n-gum
LOCATION:Paluma Community Hall\, 55 Mt Spec Road\, Paluma\, Australia
END:VEVENT
BEGIN:VEVENT
DTSTART;TZID=Australia/Brisbane:20220618T183000
DTEND;TZID=Australia/Brisbane:20220618T200000
DTSTAMP:20260425T221642
CREATED:20220430T080220Z
LAST-MODIFIED:20220430T080220Z
UID:7017-1655577000-1655582400@paluma.org
SUMMARY:Paluma After Dark
DESCRIPTION:Join us on a night-time walk through the local forest tracks to see what creatures and plants can be found after sunset. Bring along a head torch (preferably one that can focus into a tight beam). A UV torch is also useful to highlight some of the brightly fluorescent plants that we have recently found beside the tracks. There will be a few UV torches available to share if you don’t have one.
URL:https://paluma.org/event/paluma-after-dark-2
LOCATION:Potters Park – 27 Lennox Cr\, 27 Lennox Cr\, Paluma\, QUEENSLAND\, 4816\, Australia
END:VEVENT
BEGIN:VEVENT
DTSTART;TZID=Australia/Brisbane:20220514T160000
DTEND;TZID=Australia/Brisbane:20220514T200000
DTSTAMP:20260425T221642
CREATED:20220314T103641Z
LAST-MODIFIED:20220315T021444Z
UID:6755-1652544000-1652558400@paluma.org
SUMMARY:Watercolours & Wine Workshop with Colwyn Campbell
DESCRIPTION:Local artist Colwyn Campbell will host and tutor a Watercolours & Wine Workshop at the Community Hall on Saturday 14 May commencing at 4 pm. Bar will be open for refreshments. There may be a small cost for materials (paint & paper\, etc) to be advised. Or please bring your own materials. \nMore information to follow…..
URL:https://paluma.org/event/watercolours-wine-workshop-with-colwyn-campbell
LOCATION:Paluma Community Hall\, 55 Mt Spec Road\, Paluma\, Australia
END:VEVENT
BEGIN:VEVENT
DTSTART;TZID=Australia/Brisbane:20220507T170000
DTEND;TZID=Australia/Brisbane:20220507T213000
DTSTAMP:20260425T221642
CREATED:20220314T103422Z
LAST-MODIFIED:20220314T103422Z
UID:6753-1651942800-1651959000@paluma.org
SUMMARY:Games Night with the Klumpp's
DESCRIPTION:Games Night will be held at the Community Hall on Saturday 7 May at 5 PM. A sausage sizzle will be held for dinner and the bar will be open for drinks. More information to follow….. \n 
URL:https://paluma.org/event/games-night-with-the-klumpps
LOCATION:Paluma Community Hall\, 55 Mt Spec Road\, Paluma\, Australia
END:VEVENT
BEGIN:VEVENT
DTSTART;TZID=Australia/Brisbane:20220423T190000
DTEND;TZID=Australia/Brisbane:20220423T203000
DTSTAMP:20260425T221642
CREATED:20220405T035900Z
LAST-MODIFIED:20220405T045946Z
UID:6861-1650740400-1650745800@paluma.org
SUMMARY:Paluma After Dark
DESCRIPTION:Join us on a night-time walk through the local forest tracks to see what creatures and plants can be found after sunset. Bring along a head torch (preferably one that can focus into a tight beam). A UV torch is also useful to highlight some of the brightly fluorescent plants that we have recently found beside the tracks. There will be a few UV torches available to share if you don’t have one.
URL:https://paluma.org/event/paluma-after-dark
LOCATION:Potters Park – 27 Lennox Cr\, 27 Lennox Cr\, Paluma\, QUEENSLAND\, 4816\, Australia
END:VEVENT
BEGIN:VEVENT
DTSTART;TZID=Australia/Brisbane:20220423T120000
DTEND;TZID=Australia/Brisbane:20220423T150000
DTSTAMP:20260425T221642
CREATED:20220314T103128Z
LAST-MODIFIED:20220314T103128Z
UID:6751-1650715200-1650726000@paluma.org
SUMMARY:PDCA Annual General Meeting
DESCRIPTION:The PDCA Annual General Meeting will be held at the Community Hall on Saturday 23 April 2022. There will be a FREE BBQ Lunch at 12 PM with the AGM to commence at 1 PM.
URL:https://paluma.org/event/pdca-annual-general-meeting-2
LOCATION:Paluma Community Hall\, 55 Mt Spec Road\, Paluma\, Australia
END:VEVENT
BEGIN:VEVENT
DTSTART;TZID=Australia/Brisbane:20220417T090000
DTEND;TZID=Australia/Brisbane:20220417T130000
DTSTAMP:20260425T221642
CREATED:20220213T091656Z
LAST-MODIFIED:20220314T105515Z
UID:6618-1650186000-1650200400@paluma.org
SUMMARY:Paluma Community Market
DESCRIPTION:The Paluma Community Market will be held on Easter Sunday\, 17th April 2022 from 9 am to 1 pm at the Paluma Community Hall. \nMore information to follow…..
URL:https://paluma.org/event/paluma-community-markets
LOCATION:Paluma Community Hall\, 55 Mt Spec Road\, Paluma\, Australia
END:VEVENT
BEGIN:VEVENT
DTSTART;TZID=Australia/Brisbane:20220319T183000
DTEND;TZID=Australia/Brisbane:20220319T223000
DTSTAMP:20260425T221642
CREATED:20220213T091430Z
LAST-MODIFIED:20220213T091910Z
UID:6616-1647714600-1647729000@paluma.org
SUMMARY:St. Patricks Day Social
DESCRIPTION:St. Patrick’s Day Social will be held at the Paluma Community Hall on Saturday 19th March at 6.30 pm. \nPlease bring a plate of food to share and the bar will be open for low-cost beverages.
URL:https://paluma.org/event/st-patricks-social
LOCATION:Paluma Community Hall\, 55 Mt Spec Road\, Paluma\, Australia
END:VEVENT
BEGIN:VEVENT
DTSTART;TZID=Australia/Brisbane:20220219T183000
DTEND;TZID=Australia/Brisbane:20220219T223000
DTSTAMP:20260425T221642
CREATED:20220213T091138Z
LAST-MODIFIED:20220213T091138Z
UID:6614-1645295400-1645309800@paluma.org
SUMMARY:Chinese New Year Social
DESCRIPTION:Chinese New Year Social will be held at the Paluma Community Hall on Saturday 19th February at 6.30 pm. \nBar will be open and please bring a plate of food to share.
URL:https://paluma.org/event/chinese-new-year-social-2
LOCATION:Paluma Community Hall\, 55 Mt Spec Road\, Paluma\, Australia
END:VEVENT
BEGIN:VEVENT
DTSTART;TZID=Australia/Brisbane:20220115T173000
DTEND;TZID=Australia/Brisbane:20220115T223000
DTSTAMP:20260425T221642
CREATED:20211226T002612Z
LAST-MODIFIED:20211226T002630Z
UID:6549-1642267800-1642285800@paluma.org
SUMMARY:Colwyn's 80th Birthday Party
DESCRIPTION:Colwyn Campbell’s friends and her extended Paluma family are invited to attend her 80th Birthday celebration on Saturday 15th January 2022. \nThe Party will be held at the Rainforest Inn\, commencing at 5.30 pm. \nPlease bring a plate of food to share. All welcome.
URL:https://paluma.org/event/colwyns-80th-birthday-party
LOCATION:Rainforest Inn\, Mt Spec Road\, Paluma\, Queensland\, 4816\, Australia
END:VEVENT
BEGIN:VEVENT
DTSTART;TZID=Australia/Brisbane:20220108T140000
DTEND;TZID=Australia/Brisbane:20220108T170000
DTSTAMP:20260425T221642
CREATED:20211229T031104Z
LAST-MODIFIED:20211229T031425Z
UID:6555-1641650400-1641661200@paluma.org
SUMMARY:Working Bee\, Rainforest Walking Track
DESCRIPTION:Working Bee at the Rainforest Walking Track on Saturday 8th January at 2 pm. \nPlease meet at the Community Hall and bring along your wheel barrow and shovel. \nContact Wilfred if you have any questions.
URL:https://paluma.org/event/working-bee-rainforest-walking-track-saturday-8th-january-at-2-pm
LOCATION:Paluma
END:VEVENT
BEGIN:VEVENT
DTSTART;TZID=Australia/Brisbane:20211211T183000
DTEND;TZID=Australia/Brisbane:20211211T223000
DTSTAMP:20260425T221642
CREATED:20210208T230442Z
LAST-MODIFIED:20210208T230442Z
UID:5572-1639247400-1639261800@paluma.org
SUMMARY:Paluma Tropical BBQ\, Saturday 11 December
DESCRIPTION:Paluma Tropical Xmas BBQ\, Saturday 11 December. \nMore information to follow….
URL:https://paluma.org/event/paluma-tropical-bbq-saturday-11-december
LOCATION:Paluma Community Hall\, 55 Mt Spec Road\, Paluma\, Australia
END:VEVENT
BEGIN:VEVENT
DTSTART;TZID=Australia/Brisbane:20211106T183000
DTEND;TZID=Australia/Brisbane:20211106T223000
DTSTAMP:20260425T221642
CREATED:20210208T230417Z
LAST-MODIFIED:20210208T230417Z
UID:5570-1636223400-1636237800@paluma.org
SUMMARY:Return of the Monsters & Mayhem on the Mountain Social\, Saturday 6 November
DESCRIPTION:Return of the Monsters & Mayhem on the Mountain\, Saturday 6 November. \nMore information to follow…….
URL:https://paluma.org/event/return-of-the-monsters-mayhem-on-the-mountain-social-saturday-6-november
LOCATION:Paluma Community Hall\, 55 Mt Spec Road\, Paluma\, Australia
END:VEVENT
BEGIN:VEVENT
DTSTART;TZID=Australia/Brisbane:20211031T073000
DTEND;TZID=Australia/Brisbane:20211031T193000
DTSTAMP:20260425T221642
CREATED:20210208T230356Z
LAST-MODIFIED:20210208T230356Z
UID:5568-1635665400-1635708600@paluma.org
SUMMARY:Outer Limits Paluma Trail Run\, Sunday 31 October
DESCRIPTION:Outer Limits Paluma Trail Run\, Sunday 31 October. \nContact Outer Limits for more information…..
URL:https://paluma.org/event/outer-limits-paluma-trail-run-sunday-31-october
END:VEVENT
BEGIN:VEVENT
DTSTART;TZID=Australia/Brisbane:20211024T103000
DTEND;TZID=Australia/Brisbane:20211024T123000
DTSTAMP:20260425T221642
CREATED:20210208T230314Z
LAST-MODIFIED:20210208T230314Z
UID:5566-1635071400-1635078600@paluma.org
SUMMARY:Paluma Community Hall 20th Anniversary\, Sunday 24th October
DESCRIPTION:Paluma Community Hall 2oth Anniversary Celebration\, Sunday 24 October. Morning Tea at 10.30 am. \nMore information to follow…….
URL:https://paluma.org/event/paluma-community-hall-20th-anniversary-sunday-24th-october
LOCATION:Paluma Community Hall\, 55 Mt Spec Road\, Paluma\, Australia
END:VEVENT
BEGIN:VEVENT
DTSTART;TZID=Australia/Brisbane:20211016T140000
DTEND;TZID=Australia/Brisbane:20211016T160000
DTSTAMP:20260425T221642
CREATED:20211007T021433Z
LAST-MODIFIED:20211007T021433Z
UID:6336-1634392800-1634400000@paluma.org
SUMMARY:Working Bee - Rainforest Walking Track\, Saturday 16 October 2 pm to 4 pm
DESCRIPTION:Working Bee to be held on Saturday 16th October\, from 2pm to 4pm at the Rainforest Walking Track opposite the Community Hall.  \nPlease come and join us with a wheel burrow\, shovel and rake\, and a bit of elbow-grease!. Remember the saying – Many hands make light work!! \nA refreshing drink will be made available at the Community Hall after the Working Bee. \nFeel free to contact Wilfred  on 0447 822 626 if you have any questions.
URL:https://paluma.org/event/working-bee-rainforest-walking-track-saturday-16-october-2-pm-to-4-pm
LOCATION:Paluma
END:VEVENT
END:VCALENDAR