BEGIN:VCALENDAR
VERSION:2.0
PRODID:-//Paluma - our village in the mist - ECPv6.15.20//NONSGML v1.0//EN
CALSCALE:GREGORIAN
METHOD:PUBLISH
X-WR-CALNAME:Paluma - our village in the mist
X-ORIGINAL-URL:https://paluma.org
X-WR-CALDESC:Events for Paluma - our village in the mist
REFRESH-INTERVAL;VALUE=DURATION:PT1H
X-Robots-Tag:noindex
X-PUBLISHED-TTL:PT1H
BEGIN:VTIMEZONE
TZID:Australia/Brisbane
BEGIN:STANDARD
TZOFFSETFROM:+1000
TZOFFSETTO:+1000
TZNAME:AEST
DTSTART:20240101T000000
END:STANDARD
END:VTIMEZONE
BEGIN:VEVENT
DTSTART;TZID=Australia/Brisbane:20250905T180000
DTEND;TZID=Australia/Brisbane:20250905T210000
DTSTAMP:20260424T091004
CREATED:20241126T084126Z
LAST-MODIFIED:20241126T084126Z
UID:9791-1757095200-1757106000@paluma.org
SUMMARY:PDCA Social Drinks in Hall
DESCRIPTION:Once a month (on the Friday night before the Village Working Bee) we open the Community Hall and the bar between 6-8 pm for residents and visitors to come and socialise and play a friendly game of table tennis or darts.  Bring along some nibbles or some finger food to share if you feel inclined.
URL:https://paluma.org/event/pdca-social-drinks-in-hall-7
END:VEVENT
BEGIN:VEVENT
DTSTART;TZID=Australia/Brisbane:20250815T183000
DTEND;TZID=Australia/Brisbane:20250815T203000
DTSTAMP:20260424T091004
CREATED:20241126T084156Z
LAST-MODIFIED:20241126T084156Z
UID:9801-1755282600-1755289800@paluma.org
SUMMARY:SES Group Meeting
DESCRIPTION:
URL:https://paluma.org/event/ses-group-meeting-7
END:VEVENT
BEGIN:VEVENT
DTSTART;TZID=Australia/Brisbane:20250802T140000
DTEND;TZID=Australia/Brisbane:20250802T160000
DTSTAMP:20260424T091004
CREATED:20241126T084055Z
LAST-MODIFIED:20241126T084055Z
UID:9779-1754143200-1754150400@paluma.org
SUMMARY:Working Bee at community Hall
DESCRIPTION:On the first Saturday of every month\, we invite volunteers to come along to the Community Centre where Wilfred Karnol will coordinate one or more activities aimed at maintaining and improving the Hall and surrounding gardens\, the local walking track\, or other community activity.  We meet at 2 pm at the Community Hall and finish at about 4 pm with a free beer or soft drink.
URL:https://paluma.org/event/working-bee-at-community-hall-2
END:VEVENT
BEGIN:VEVENT
DTSTART;TZID=Australia/Brisbane:20250801T180000
DTEND;TZID=Australia/Brisbane:20250801T210000
DTSTAMP:20260424T091004
CREATED:20241126T084125Z
LAST-MODIFIED:20241126T084125Z
UID:9790-1754071200-1754082000@paluma.org
SUMMARY:PDCA Social Drinks in Hall
DESCRIPTION:Once a month (on the Friday night before the Village Working Bee) we open the Community Hall and the bar between 6-8 pm for residents and visitors to come and socialise and play a friendly game of table tennis or darts.  Bring along some nibbles or some finger food to share if you feel inclined.
URL:https://paluma.org/event/pdca-social-drinks-in-hall-6
END:VEVENT
BEGIN:VEVENT
DTSTART;TZID=Australia/Brisbane:20250718T183000
DTEND;TZID=Australia/Brisbane:20250718T203000
DTSTAMP:20260424T091004
CREATED:20241126T084155Z
LAST-MODIFIED:20241126T084155Z
UID:9800-1752863400-1752870600@paluma.org
SUMMARY:SES Group Meeting
DESCRIPTION:
URL:https://paluma.org/event/ses-group-meeting-6
END:VEVENT
BEGIN:VEVENT
DTSTART;TZID=Australia/Brisbane:20250705T140000
DTEND;TZID=Australia/Brisbane:20250705T160000
DTSTAMP:20260424T091004
CREATED:20241126T084041Z
LAST-MODIFIED:20241126T084041Z
UID:9778-1751724000-1751731200@paluma.org
SUMMARY:Working Bee at Community Hall
DESCRIPTION:On the first Saturday of every month\, we invite volunteers to come along to the Community Centre where Wilfred Karnol will coordinate one or more activities aimed at maintaining and improving the Hall and surrounding gardens\, the local walking track\, or other community activity.  We meet at 2 pm at the Community Hall and finish at about 4 pm with a free beer or soft drink.
URL:https://paluma.org/event/working-bee-at-community-hall
END:VEVENT
BEGIN:VEVENT
DTSTART;TZID=Australia/Brisbane:20250704T180000
DTEND;TZID=Australia/Brisbane:20250704T210000
DTSTAMP:20260424T091004
CREATED:20241126T084125Z
LAST-MODIFIED:20241126T084125Z
UID:9789-1751652000-1751662800@paluma.org
SUMMARY:PDCA Social Drinks in Hall
DESCRIPTION:Once a month (on the Friday night before the Village Working Bee) we open the Community Hall and the bar between 6-8 pm for residents and visitors to come and socialise and play a friendly game of table tennis or darts.  Bring along some nibbles or some finger food to share if you feel inclined.
URL:https://paluma.org/event/pdca-social-drinks-in-hall-5
END:VEVENT
BEGIN:VEVENT
DTSTART;TZID=Australia/Brisbane:20250620T183000
DTEND;TZID=Australia/Brisbane:20250620T203000
DTSTAMP:20260424T091004
CREATED:20241126T084155Z
LAST-MODIFIED:20241126T084155Z
UID:9799-1750444200-1750451400@paluma.org
SUMMARY:SES Group Meeting
DESCRIPTION:
URL:https://paluma.org/event/ses-group-meeting-5
END:VEVENT
BEGIN:VEVENT
DTSTART;TZID=Australia/Brisbane:20250607T140000
DTEND;TZID=Australia/Brisbane:20250607T160000
DTSTAMP:20260424T091004
CREATED:20241126T084041Z
LAST-MODIFIED:20241126T084041Z
UID:9777-1749304800-1749312000@paluma.org
SUMMARY:Working Bee at Community Centre
DESCRIPTION:On the first Saturday of every month\, we invite volunteers to come along to the Community Centre where Wilfred Karnol will coordinate one or more activities aimed at maintaining and improving the Hall and surrounding gardens\, the local walking track\, or other community activity.  We meet at 2 pm at the Community Hall and finish at about 4 pm with a free beer or soft drink.
URL:https://paluma.org/event/working-bee-at-community-centre
END:VEVENT
BEGIN:VEVENT
DTSTART;TZID=Australia/Brisbane:20250606T180000
DTEND;TZID=Australia/Brisbane:20250606T210000
DTSTAMP:20260424T091004
CREATED:20241126T084111Z
LAST-MODIFIED:20241126T084111Z
UID:9788-1749232800-1749243600@paluma.org
SUMMARY:PDCA Social Drinks in Hall
DESCRIPTION:Once a month (on the Friday night before the Village Working Bee) we open the Community Hall and the bar between 6-8 pm for residents and visitors to come and socialise and play a friendly game of table tennis or darts.  Bring along some nibbles or some finger food to share if you feel inclined.n
URL:https://paluma.org/event/pdca-social-drinks-in-hall-4
END:VEVENT
BEGIN:VEVENT
DTSTART;TZID=Australia/Brisbane:20250516T183000
DTEND;TZID=Australia/Brisbane:20250516T203000
DTSTAMP:20260424T091004
CREATED:20241126T084141Z
LAST-MODIFIED:20241126T084141Z
UID:9798-1747420200-1747427400@paluma.org
SUMMARY:SES Group Meeting
DESCRIPTION:
URL:https://paluma.org/event/ses-group-meeting-4
END:VEVENT
BEGIN:VEVENT
DTSTART;TZID=Australia/Brisbane:20250503T140000
DTEND;TZID=Australia/Brisbane:20250503T160000
DTSTAMP:20260424T091004
CREATED:20241126T083907Z
LAST-MODIFIED:20241126T083907Z
UID:9738-1746280800-1746288000@paluma.org
SUMMARY:Working Bee at the Community Hall
DESCRIPTION:On the first Saturday of every month\, we invite volunteers to come along to the Community Centre where Wilfred Karnol will coordinate one or more activities aimed at maintaining and improving the Hall and surrounding gardens\, the local walking track\, or other community activity.  We meet at 2 pm at the Community Hall and finish at about 4 pm with a free beer or soft drink.
URL:https://paluma.org/event/working-bee-at-the-community-hall-3
END:VEVENT
BEGIN:VEVENT
DTSTART;TZID=Australia/Brisbane:20250502T180000
DTEND;TZID=Australia/Brisbane:20250502T200000
DTSTAMP:20260424T091004
CREATED:20241126T084111Z
LAST-MODIFIED:20241126T084111Z
UID:9787-1746208800-1746216000@paluma.org
SUMMARY:PDCA Social Drinks in Hall
DESCRIPTION:Once a month (on the Friday night before the Village Working Bee) we open the Community Hall and the bar between 6-8 pm for residents and visitors to come and socialise and play a friendly game of table tennis or darts.  Bring along some nibbles or some finger food to share if you feel inclined.n
URL:https://paluma.org/event/pdca-social-drinks-in-hall-3
END:VEVENT
BEGIN:VEVENT
DTSTART;TZID=Australia/Brisbane:20250418T183000
DTEND;TZID=Australia/Brisbane:20250418T203000
DTSTAMP:20260424T091004
CREATED:20241126T084141Z
LAST-MODIFIED:20241126T084141Z
UID:9797-1745001000-1745008200@paluma.org
SUMMARY:SES Group Meeting
DESCRIPTION:
URL:https://paluma.org/event/ses-group-meeting-3
END:VEVENT
BEGIN:VEVENT
DTSTART;TZID=Australia/Brisbane:20250412T150000
DTEND;TZID=Australia/Brisbane:20250412T170000
DTSTAMP:20260424T091004
CREATED:20250318T080026Z
LAST-MODIFIED:20250405T214301Z
UID:10111-1744470000-1744477200@paluma.org
SUMMARY:PDCA Meeting
DESCRIPTION:There will be a regular meeting of the PDCA Council at 3pm\, after the community meeting. This PDCA meeting will cover various ongoing items (see agenda below). While these meetings have traditionally been considered as business meetings attended only by the elected members of the Council/Executive\, we welcome any residents to attend and to raise any items that they would like the PDCA to consider in addition to what is already on the agenda. Here is the proposed agenda. \n\n\n\nAGENDA \n\n\n\n\nApologies\n\n\n\nSuggested PDCA actions arising from previous Community Review Meeting on lessons learned during February’s extreme rain event\nAction Arising\n\nHistory project – mining and timber history; “What to see and do in Paluma” flyers and linked QR code.\n\n\n\nMonitoring of Telstra generator and back-up battery\n\n\n\nUpdating Paluma online presence:  PDCA activities; Paluma.org update; Facebook page;\n\n\n\nAccess to PRFB funds to share costs in hall upgrades eg: Solar panels and battery storage\n\n\n\n\n\n\n\nPaluma Community Information and News network options – for urgent and non-urgent items\n\n\n\nFuture events and Hall bookings\n\n\n\nTreasurer’s Report\n\n\n\nAny Other Business\n\n\n\nConfirm next meeting date – Annual General Meeting (election of officers) to be followed by exec meeting
URL:https://paluma.org/event/pdca-meeting
LOCATION:Paluma Community Hall\, 55 Mt Spec Road\, Paluma\, Australia
END:VEVENT
BEGIN:VEVENT
DTSTART;TZID=Australia/Brisbane:20250412T130000
DTEND;TZID=Australia/Brisbane:20250412T143000
DTSTAMP:20260424T091004
CREATED:20250314T210832Z
LAST-MODIFIED:20250405T222540Z
UID:10082-1744462800-1744468200@paluma.org
SUMMARY:Community Meeting to review experiences and lessons learned from recent rain event
DESCRIPTION:A community meeting to review our experiences during & after the February extreme weather event will be held on Saturday the 12th April commencing at 1 pm in the Paluma Community Hall. The objective is to record lessons learnt for the future\, discuss known problems & see what we can do to improve how we manage such events. All members of the community are encouraged to attend. \nThe meeting is being organised by the Paluma SES.  PDCA and Paluma RFS officers will also be attending. \nPaluma Community Review – Agenda (12th April) \n\n Intro – meeting objectives\n Community Resilience\n Problems encountered\n\nMedical – Scripts/Telehealth\n Communications – Telstra/Star link/UHF comms/Resident comms/chopper comms\nPower Outage – generators/fuel/efficiency/ergon generator/solar\nAccess – roads/cloud cover\nFood\nWater\n Waste disposal\nMail\n\n\nPre-wet season engagement/preparation\nCommunity Coordinator \nLDCC feedback?\n\n\n\n\n  \n 
URL:https://paluma.org/event/community-meeting-to-review-experiences-and-lessons-learned-from-recent-rain-event
LOCATION:Paluma Community Hall\, 55 Mt Spec Road\, Paluma\, Australia
ORGANIZER;CN="Paluma SES":MAILTO:c-t-a@activate.net.au
END:VEVENT
BEGIN:VEVENT
DTSTART;TZID=Australia/Brisbane:20250412T120000
DTEND;TZID=Australia/Brisbane:20250412T130000
DTSTAMP:20260424T091004
CREATED:20250318T075822Z
LAST-MODIFIED:20250405T222327Z
UID:10109-1744459200-1744462800@paluma.org
SUMMARY:PDCA BBQ Lunch
DESCRIPTION:In addition to the Community Meeting to review experiences and lessons learned from the recent rains (Saturday\, April 12 at 1pm) the PDCA will be hosting a BBQ lunch at the Community Hall at 12 pm before the meeting.
URL:https://paluma.org/event/pdca-bbq-lunch
LOCATION:Paluma Community Hall\, 55 Mt Spec Road\, Paluma\, Australia
END:VEVENT
BEGIN:VEVENT
DTSTART;TZID=Australia/Brisbane:20250405T140000
DTEND;TZID=Australia/Brisbane:20250405T160000
DTSTAMP:20260424T091004
CREATED:20241126T083907Z
LAST-MODIFIED:20241126T083907Z
UID:9737-1743861600-1743868800@paluma.org
SUMMARY:Working Bee at the Community Hall
DESCRIPTION:On the first Saturday of every month\, we invite volunteers to come along to the Community Centre where Wilfred Karnol will coordinate one or more activities aimed at maintaining and improving the Hall and surrounding gardens\, the local walking track\, or other community activity.  We meet at 2 pm at the Community Hall and finish at about 4 pm with a free beer or soft drink.
URL:https://paluma.org/event/working-bee-at-the-community-hall-2
END:VEVENT
BEGIN:VEVENT
DTSTART;TZID=Australia/Brisbane:20250404T180000
DTEND;TZID=Australia/Brisbane:20250404T210000
DTSTAMP:20260424T091004
CREATED:20241126T084111Z
LAST-MODIFIED:20241126T084111Z
UID:9786-1743789600-1743800400@paluma.org
SUMMARY:PDCA Social Drinks in the Hall
DESCRIPTION:Once a month (on the Friday night before the Village Working Bee) we open the Community Hall and the bar between 6-8 pm for residents and visitors to come and socialise and play a friendly game of table tennis or darts.  Bring along some nibbles or some finger food to share if you feel inclined.
URL:https://paluma.org/event/pdca-social-drinks-in-the-hall-12
END:VEVENT
BEGIN:VEVENT
DTSTART;TZID=Australia/Brisbane:20250321T183000
DTEND;TZID=Australia/Brisbane:20250321T203000
DTSTAMP:20260424T091004
CREATED:20241126T084141Z
LAST-MODIFIED:20241126T084141Z
UID:9796-1742581800-1742589000@paluma.org
SUMMARY:SES Group Meeting
DESCRIPTION:
URL:https://paluma.org/event/ses-group-meeting-2
END:VEVENT
BEGIN:VEVENT
DTSTART;TZID=Australia/Brisbane:20250301T140000
DTEND;TZID=Australia/Brisbane:20250301T160000
DTSTAMP:20260424T091004
CREATED:20241126T083906Z
LAST-MODIFIED:20241126T083906Z
UID:9736-1740837600-1740844800@paluma.org
SUMMARY:Working Bee at the Community Hall
DESCRIPTION:On the first Saturday of every month\, we invite volunteers to come along to the Community Centre where Wilfred Karnol will coordinate one or more activities aimed at maintaining and improving the Hall and surrounding gardens\, the local walking track\, or other community activity.  We meet at 2 pm at the Community Hall and finish at about 4 pm with a free beer or soft drink.
URL:https://paluma.org/event/working-bee-at-the-community-hall
END:VEVENT
BEGIN:VEVENT
DTSTART;TZID=Australia/Brisbane:20250228T180000
DTEND;TZID=Australia/Brisbane:20250228T210000
DTSTAMP:20260424T091004
CREATED:20241126T084111Z
LAST-MODIFIED:20241126T084111Z
UID:9785-1740765600-1740776400@paluma.org
SUMMARY:PDCA Social Drinks in Hall
DESCRIPTION:Once a month (on the Friday night before the Village Working Bee) we open the Community Hall and the bar between 6-8 pm for residents and visitors to come and socialise and play a friendly game of table tennis or darts.  Bring along some nibbles or some finger food to share if you feel inclined.
URL:https://paluma.org/event/pdca-social-drinks-in-hall-2
END:VEVENT
BEGIN:VEVENT
DTSTART;TZID=Australia/Brisbane:20250221T183000
DTEND;TZID=Australia/Brisbane:20250221T203000
DTSTAMP:20260424T091004
CREATED:20241126T083909Z
LAST-MODIFIED:20241126T083909Z
UID:9741-1740162600-1740169800@paluma.org
SUMMARY:SES Group Meeting
DESCRIPTION:
URL:https://paluma.org/event/ses-group-meeting
END:VEVENT
BEGIN:VEVENT
DTSTART;TZID=Australia/Brisbane:20250209T100000
DTEND;TZID=Australia/Brisbane:20250209T113000
DTSTAMP:20260424T091004
CREATED:20241126T083906Z
LAST-MODIFIED:20241126T083906Z
UID:9735-1739095200-1739100600@paluma.org
SUMMARY:PDCA committee meeting
DESCRIPTION:
URL:https://paluma.org/event/pdca-committee-meeting
END:VEVENT
BEGIN:VEVENT
DTSTART;TZID=Australia/Brisbane:20250201T140000
DTEND;TZID=Australia/Brisbane:20250201T160000
DTSTAMP:20260424T091004
CREATED:20241126T084041Z
LAST-MODIFIED:20241126T084041Z
UID:9776-1738418400-1738425600@paluma.org
SUMMARY:Working Bee at the Community Centre
DESCRIPTION:On the first Saturday of every month\, we invite volunteers to come along to the Community Centre where Wilfred Karnol will coordinate one or more activities aimed at maintaining and improving the Hall and surrounding gardens\, the local walking track\, or other community activity.  We meet at 2 pm at the Community Hall and finish at about 4 pm with a free beer or soft drink.
URL:https://paluma.org/event/working-bee-at-the-community-centre-11
END:VEVENT
BEGIN:VEVENT
DTSTART;TZID=Australia/Brisbane:20250131T180000
DTEND;TZID=Australia/Brisbane:20250131T203000
DTSTAMP:20260424T091004
CREATED:20241122T061733Z
LAST-MODIFIED:20241122T061733Z
UID:9558-1738346400-1738355400@paluma.org
SUMMARY:PDCA Social Drinks in the Hall
DESCRIPTION:Once a month (on the Friday night before the Village Working Bee) we open the Community Hall and the bar between 6-8 pm for residents and visitors to come and socialise and play a friendly game of table tennis or darts. Bring along some nibbles or some finger food to share if you feel inclined.
URL:https://paluma.org/event/pdca-social-drinks-in-the-hall-11
END:VEVENT
BEGIN:VEVENT
DTSTART;TZID=Australia/Brisbane:20250125T090000
DTEND;TZID=Australia/Brisbane:20250127T000000
DTSTAMP:20260424T091004
CREATED:20241122T040721Z
LAST-MODIFIED:20241126T070721Z
UID:9524-1737795600-1737936000@paluma.org
SUMMARY:Yoga in the Mist - weekend workshop
DESCRIPTION:
URL:https://paluma.org/event/__trashed-13
END:VEVENT
BEGIN:VEVENT
DTSTART;TZID=Australia/Brisbane:20250117T183000
DTEND;TZID=Australia/Brisbane:20250117T203000
DTSTAMP:20260424T091004
CREATED:20241122T040721Z
LAST-MODIFIED:20241122T061806Z
UID:9520-1737138600-1737145800@paluma.org
SUMMARY:SES Group Meeting
DESCRIPTION:
URL:https://paluma.org/event/__trashed-14
END:VEVENT
BEGIN:VEVENT
DTSTART;TZID=Australia/Brisbane:20250104T140000
DTEND;TZID=Australia/Brisbane:20250104T160000
DTSTAMP:20260424T091004
CREATED:20241122T061835Z
LAST-MODIFIED:20241126T084757Z
UID:9552-1735999200-1736006400@paluma.org
SUMMARY:Working Bee at the Community Centre
DESCRIPTION:n the first Saturday of every month\, we invite volunteers to come along to the Community Centre where Wilfred Karnol will coordinate one or more activities aimed at maintaining and improving the Hall and surrounding gardens\, the local walking track\, or other community activity. We meet at 2 pm at the Community Hall and finish at about 4 pm with a free beer or soft drink.
URL:https://paluma.org/event/working-bee-at-the-community-centre-10
END:VEVENT
BEGIN:VEVENT
DTSTART;TZID=Australia/Brisbane:20250103T180000
DTEND;TZID=Australia/Brisbane:20250103T210000
DTSTAMP:20260424T091004
CREATED:20241126T083313Z
LAST-MODIFIED:20241126T084211Z
UID:9656-1735927200-1735938000@paluma.org
SUMMARY:PDCA Social Drinks in Hall
DESCRIPTION:Once a month (on the Friday night before the Village Working Bee) we open the Community Hall and the bar between 6-8 pm for residents and visitors to come and socialise and play a friendly game of table tennis or darts.  Bring along some nibbles or some finger food to share if you feel inclined.
URL:https://paluma.org/event/pdca-social-drinks-in-hall
END:VEVENT
END:VCALENDAR