BEGIN:VCALENDAR
VERSION:2.0
PRODID:-//Paluma - our village in the mist - ECPv6.15.20//NONSGML v1.0//EN
CALSCALE:GREGORIAN
METHOD:PUBLISH
X-WR-CALNAME:Paluma - our village in the mist
X-ORIGINAL-URL:https://paluma.org
X-WR-CALDESC:Events for Paluma - our village in the mist
REFRESH-INTERVAL;VALUE=DURATION:PT1H
X-Robots-Tag:noindex
X-PUBLISHED-TTL:PT1H
BEGIN:VTIMEZONE
TZID:UTC
BEGIN:STANDARD
TZOFFSETFROM:+0000
TZOFFSETTO:+0000
TZNAME:UTC
DTSTART:20170101T000000
END:STANDARD
END:VTIMEZONE
BEGIN:VEVENT
DTSTART;TZID=UTC:20180717T110000
DTEND;TZID=UTC:20180717T130000
DTSTAMP:20260425T204351
CREATED:20180418T170253Z
LAST-MODIFIED:20180418T170253Z
UID:143-1531825200-1531832400@paluma.org
SUMMARY:Tuesday History Display
DESCRIPTION:Every Tuesday we open up the Community Hall and set out a variety of displays and resources that document the rich history of the region\, including early settlement\, construction of the range road and the heroic activities of the miners and loggers who explored the wilderness and developed its earliest industries. \nCome along and have a cup of coffee or tea  and chat with our local history enthusiasts.
URL:https://paluma.org/event/tuesday-history-display-3
LOCATION:Paluma Community Hall\, 55 Mt Spec Road\, Paluma\, Australia
END:VEVENT
BEGIN:VEVENT
DTSTART;TZID=UTC:20180710T110000
DTEND;TZID=UTC:20180710T130000
DTSTAMP:20260425T204351
CREATED:20180418T165908Z
LAST-MODIFIED:20180418T170031Z
UID:139-1531220400-1531227600@paluma.org
SUMMARY:Tuesday History Display
DESCRIPTION:Every Tuesday we open up the Community Hall and set out a variety of displays and resources that document the rich history of the region\, including early settlement\, construction of the range road and the heroic activities of the miners and loggers who explored the wilderness and developed its earliest industries. \nCome along and have a cup of coffee or tea  and chat with our local history enthusiasts.
URL:https://paluma.org/event/tuesday-history-display-2
LOCATION:Paluma Community Hall\, 55 Mt Spec Road\, Paluma\, Australia
END:VEVENT
BEGIN:VEVENT
DTSTART;TZID=UTC:20180703T110000
DTEND;TZID=UTC:20180703T130000
DTSTAMP:20260425T204351
CREATED:20180418T165609Z
LAST-MODIFIED:20180418T170009Z
UID:136-1530615600-1530622800@paluma.org
SUMMARY:Tuesday History Display
DESCRIPTION:Every Tuesday we open up the Community Hall and set out a variety of displays and resources that document the rich history of the region\, including early settlement\, construction of the range road and the heroic activities of the miners and loggers who explored the wilderness and developed its earliest industries. \nCome along and have a cup of coffee or tea  and chat with our local history enthusiasts.
URL:https://paluma.org/event/tuesday-history-display
LOCATION:Paluma Community Hall\, 55 Mt Spec Road\, Paluma\, Australia
END:VEVENT
BEGIN:VEVENT
DTSTART;TZID=UTC:20180630T190000
DTEND;TZID=UTC:20180630T230000
DTSTAMP:20260425T204351
CREATED:20180418T160023Z
LAST-MODIFIED:20180511T133302Z
UID:123-1530385200-1530399600@paluma.org
SUMMARY:Paluma Solstice Dance
DESCRIPTION:The ever popular Solstice Bush Dance is on again\, featuring Wattle ‘n Gum.  An event not to miss!
URL:https://paluma.org/event/paluma-bush-dance
LOCATION:Paluma Community Hall\, 55 Mt Spec Road\, Paluma\, Australia
END:VEVENT
BEGIN:VEVENT
DTSTART;TZID=UTC:20180623T110000
DTEND;TZID=UTC:20180623T160000
DTSTAMP:20260425T204351
CREATED:20180517T154843Z
LAST-MODIFIED:20180517T163849Z
UID:770-1529751600-1529769600@paluma.org
SUMMARY:Paluma Adventure Centre - Grand Opening
DESCRIPTION:The newly constructed high ropes course opposite the Rainforest Inn will be officially opening on June 23. Please Book online for free BBQ Lunch and half price afternoon sessions.
URL:https://paluma.org/event/high-ropes-course-grand-opening
LOCATION:Paluma Adventure Centre\, 7 Lookout Rd\, Paluma\, QLD\, 4816\, Australia
ORGANIZER;CN="Outerlimits Adventure":MAILTO:info@outerlimitsadventure.com.au
END:VEVENT
BEGIN:VEVENT
DTSTART;TZID=UTC:20180603T090000
DTEND;TZID=UTC:20180603T170000
DTSTAMP:20260425T204351
CREATED:20180517T161822Z
LAST-MODIFIED:20180517T163026Z
UID:782-1528016400-1528045200@paluma.org
SUMMARY:Paluma Adventure Centre - Open Day
DESCRIPTION:The Paluma Adventure Centre will open up its High Ropes course to the public for 3 sessions (9-11am; 11:30am – 1pm and 2pm – 4pm) Cost per session is $30.
URL:https://paluma.org/event/paluma-adventure-centre-open-day-2
END:VEVENT
BEGIN:VEVENT
DTSTART;TZID=UTC:20180520T090000
DTEND;TZID=UTC:20180520T170000
DTSTAMP:20260425T204351
CREATED:20180517T160115Z
LAST-MODIFIED:20180517T163326Z
UID:780-1526806800-1526835600@paluma.org
SUMMARY:Paluma Adventure Centre - Open Day
DESCRIPTION:  \n \nThe Paluma Adventure Centre will open up its High Ropes course to the public for 3 sessions (9-11am; 11:30am – 1pm and 2pm – 4pm) Cost per session is $30.
URL:https://paluma.org/event/paluma-adventure-centre-open-day
LOCATION:Paluma Adventure Centre\, 7 Lookout Rd\, Paluma\, QLD\, 4816\, Australia
ORGANIZER;CN="Outerlimits Adventure":MAILTO:info@outerlimitsadventure.com.au
END:VEVENT
END:VCALENDAR