BEGIN:VCALENDAR
VERSION:2.0
PRODID:-//Paluma - our village in the mist - ECPv6.15.20//NONSGML v1.0//EN
CALSCALE:GREGORIAN
METHOD:PUBLISH
X-WR-CALNAME:Paluma - our village in the mist
X-ORIGINAL-URL:https://paluma.org
X-WR-CALDESC:Events for Paluma - our village in the mist
REFRESH-INTERVAL;VALUE=DURATION:PT1H
X-Robots-Tag:noindex
X-PUBLISHED-TTL:PT1H
BEGIN:VTIMEZONE
TZID:Australia/Brisbane
BEGIN:STANDARD
TZOFFSETFROM:+1000
TZOFFSETTO:+1000
TZNAME:AEST
DTSTART:20240101T000000
END:STANDARD
END:VTIMEZONE
BEGIN:VEVENT
DTSTART;TZID=Australia/Brisbane:20260307T140000
DTEND;TZID=Australia/Brisbane:20260307T160000
DTSTAMP:20260424T085855
CREATED:20251214T042726Z
LAST-MODIFIED:20251214T042726Z
UID:10862-1772892000-1772899200@paluma.org
SUMMARY:Working Bee at Community Hall
DESCRIPTION:On the first Saturday of every month\, we invite volunteers to come along to the Community Centre where Wilfred Karnol will coordinate one or more activities aimed at maintaining and improving the Hall and surrounding gardens\, the local walking track\, or other community activity. We meet at 2 pm at the Community Hall and finish at about 4 pm with a free beer or soft drink.
URL:https://paluma.org/event/working-bee-at-community-hall-9
END:VEVENT
BEGIN:VEVENT
DTSTART;TZID=Australia/Brisbane:20260306T180000
DTEND;TZID=Australia/Brisbane:20260306T200000
DTSTAMP:20260424T085855
CREATED:20251214T041900Z
LAST-MODIFIED:20251214T041921Z
UID:10871-1772820000-1772827200@paluma.org
SUMMARY:PDCA Social Drinks in Hall
DESCRIPTION:Once a month (on the Friday night before the Village Working Bee) we open the Community Hall and the bar between 6-8 pm for residents and visitors to come and socialise and play a friendly game of table tennis or darts. Bring along some nibbles or some finger food to share if you feel inclined.
URL:https://paluma.org/event/pdca-social-drinks-in-hall-12
END:VEVENT
BEGIN:VEVENT
DTSTART;TZID=Australia/Brisbane:20260220T183000
DTEND;TZID=Australia/Brisbane:20260220T203000
DTSTAMP:20260424T085855
CREATED:20251214T041604Z
LAST-MODIFIED:20251214T041604Z
UID:10861-1771612200-1771619400@paluma.org
SUMMARY:SES Group Meeting
DESCRIPTION:
URL:https://paluma.org/event/ses-group-meeting-13
END:VEVENT
BEGIN:VEVENT
DTSTART;TZID=Australia/Brisbane:20260207T140000
DTEND;TZID=Australia/Brisbane:20260207T160000
DTSTAMP:20260424T085855
CREATED:20251214T052649Z
LAST-MODIFIED:20251214T052649Z
UID:10875-1770472800-1770480000@paluma.org
SUMMARY:Working Bee at Community Hall
DESCRIPTION:On the first Saturday of every month\, we invite volunteers to come along to the Community Centre where Wilfred Karnol will coordinate one or more activities aimed at maintaining and improving the Hall and surrounding gardens\, the local walking track\, or other community activity. We meet at 2 pm at the Community Hall and finish at about 4 pm with a free beer or soft drink.
URL:https://paluma.org/event/working-bee-at-community-hall-15
END:VEVENT
BEGIN:VEVENT
DTSTART;TZID=Australia/Brisbane:20260206T180000
DTEND;TZID=Australia/Brisbane:20260206T200000
DTSTAMP:20260424T085855
CREATED:20251214T052536Z
LAST-MODIFIED:20251214T052536Z
UID:10919-1770400800-1770408000@paluma.org
SUMMARY:PDCA Social Drinks in Hall
DESCRIPTION:Once a month (on the Friday night before the Village Working Bee) we open the Community Hall and the bar between 6-8 pm for residents and visitors to come and socialise and play a friendly game of table tennis or darts. Bring along some nibbles or some finger food to share if you feel inclined.
URL:https://paluma.org/event/pdca-social-drinks-in-hall-18
END:VEVENT
BEGIN:VEVENT
DTSTART;TZID=Australia/Brisbane:20260117T100000
DTEND;TZID=Australia/Brisbane:20260117T120000
DTSTAMP:20260424T085855
CREATED:20251221T090325Z
LAST-MODIFIED:20251221T090325Z
UID:10968-1768644000-1768651200@paluma.org
SUMMARY:Rural Fire Brigade AGM
DESCRIPTION:public fire levy meeting to start at 10am followed by the AGM.
URL:https://paluma.org/event/rural-fire-brigade-agm
END:VEVENT
BEGIN:VEVENT
DTSTART;TZID=Australia/Brisbane:20260116T183000
DTEND;TZID=Australia/Brisbane:20260116T203000
DTSTAMP:20260424T085855
CREATED:20251214T030405Z
LAST-MODIFIED:20251214T030507Z
UID:10916-1768588200-1768595400@paluma.org
SUMMARY:SES Group Meeting
DESCRIPTION:
URL:https://paluma.org/event/ses-group-meeting-12
END:VEVENT
BEGIN:VEVENT
DTSTART;TZID=Australia/Brisbane:20260103T140000
DTEND;TZID=Australia/Brisbane:20260103T160000
DTSTAMP:20260424T085855
CREATED:20241126T084111Z
LAST-MODIFIED:20241126T084111Z
UID:9784-1767448800-1767456000@paluma.org
SUMMARY:working Bee at Community Hall
DESCRIPTION:On the first Saturday of every month\, we invite volunteers to come along to the Community Centre where Wilfred Karnol will coordinate one or more activities aimed at maintaining and improving the Hall and surrounding gardens\, the local walking track\, or other community activity.  We meet at 2 pm at the Community Hall and finish at about 4 pm with a free beer or soft drink.
URL:https://paluma.org/event/working-bee-at-community-hall-7
END:VEVENT
BEGIN:VEVENT
DTSTART;TZID=Australia/Brisbane:20260102T180000
DTEND;TZID=Australia/Brisbane:20260102T210000
DTSTAMP:20260424T085855
CREATED:20241126T084141Z
LAST-MODIFIED:20241126T084141Z
UID:9795-1767376800-1767387600@paluma.org
SUMMARY:PDCA Social Drinks in Hall
DESCRIPTION:Once a month (on the Friday night before the Village Working Bee) we open the Community Hall and the bar between 6-8 pm for residents and visitors to come and socialise and play a friendly game of table tennis or darts.  Bring along some nibbles or some finger food to share if you feel inclined.
URL:https://paluma.org/event/pdca-social-drinks-in-hall-11
END:VEVENT
BEGIN:VEVENT
DTSTART;TZID=Australia/Brisbane:20251219T183000
DTEND;TZID=Australia/Brisbane:20251219T203000
DTSTAMP:20260424T085855
CREATED:20241126T084211Z
LAST-MODIFIED:20241126T084211Z
UID:9805-1766169000-1766176200@paluma.org
SUMMARY:SES Group Meeting
DESCRIPTION:
URL:https://paluma.org/event/ses-group-meeting-11
END:VEVENT
BEGIN:VEVENT
DTSTART;TZID=Australia/Brisbane:20251213T180000
DTEND;TZID=Australia/Brisbane:20251213T220000
DTSTAMP:20260424T085855
CREATED:20251104T022623Z
LAST-MODIFIED:20251104T022623Z
UID:10626-1765648800-1765663200@paluma.org
SUMMARY:Tropical X-mas BBQ
DESCRIPTION:The PDCA’s end of year function\, the Tropical Christmas BBQ\, will be held on Saturday December 13th from 6:30 – 10pm. \nBring along whatever you wish to cook on the bbq and a side or dessert to share. The PDCA will have a few sausages and onions on the BBQ. \nThe bar will be open of course. It is time to kick back and welcome in the silly season.
URL:https://paluma.org/event/tropical-x-mas-bbq
LOCATION:Paluma Community Hall\, 55 Mt Spec Road\, Paluma\, Australia
END:VEVENT
BEGIN:VEVENT
DTSTART;TZID=Australia/Brisbane:20251213T173000
DTEND;TZID=Australia/Brisbane:20251213T183000
DTSTAMP:20260424T085855
CREATED:20251211T000008Z
LAST-MODIFIED:20251211T000008Z
UID:10739-1765647000-1765650600@paluma.org
SUMMARY:Community Briefing on Paluma Emergency Action Plan
DESCRIPTION:The briefing will be led by Sonya Bryce and Charlie Allen\, who have put many hours into collecting relevant information\, procedures and contacts so that we can effectively self-organise if we experience a serious rain event or cyclone in the future. The document will be continuously revised and improved. The current version and relevant appendices can be accessed on Paluma.org here.
URL:https://paluma.org/event/community-briefing-on-paluma-emergency-action-plan
END:VEVENT
BEGIN:VEVENT
DTSTART;TZID=Australia/Brisbane:20251206T140000
DTEND;TZID=Australia/Brisbane:20251206T160000
DTSTAMP:20260424T085855
CREATED:20241126T084056Z
LAST-MODIFIED:20241126T084056Z
UID:9783-1765029600-1765036800@paluma.org
SUMMARY:Working Bee at Community Hall
DESCRIPTION:On the first Saturday of every month\, we invite volunteers to come along to the Community Centre where Wilfred Karnol will coordinate one or more activities aimed at maintaining and improving the Hall and surrounding gardens\, the local walking track\, or other community activity.  We meet at 2 pm at the Community Hall and finish at about 4 pm with a free beer or soft drink.
URL:https://paluma.org/event/working-bee-at-community-hall-6
END:VEVENT
BEGIN:VEVENT
DTSTART;TZID=Australia/Brisbane:20251205T180000
DTEND;TZID=Australia/Brisbane:20251205T210000
DTSTAMP:20260424T085855
CREATED:20241126T084141Z
LAST-MODIFIED:20241126T084141Z
UID:9794-1764957600-1764968400@paluma.org
SUMMARY:PDCA Social Drinks in Hall
DESCRIPTION:Once a month (on the Friday night before the Village Working Bee) we open the Community Hall and the bar between 6-8 pm for residents and visitors to come and socialise and play a friendly game of table tennis or darts.  Bring along some nibbles or some finger food to share if you feel inclined.
URL:https://paluma.org/event/pdca-social-drinks-in-hall-10
END:VEVENT
BEGIN:VEVENT
DTSTART;TZID=Australia/Brisbane:20251121T183000
DTEND;TZID=Australia/Brisbane:20251121T203000
DTSTAMP:20260424T085855
CREATED:20241126T084211Z
LAST-MODIFIED:20241126T084211Z
UID:9804-1763749800-1763757000@paluma.org
SUMMARY:SES Group Meeting
DESCRIPTION:
URL:https://paluma.org/event/ses-group-meeting-10
END:VEVENT
BEGIN:VEVENT
DTSTART;TZID=Australia/Brisbane:20251101T140000
DTEND;TZID=Australia/Brisbane:20251101T160000
DTSTAMP:20260424T085855
CREATED:20241126T084055Z
LAST-MODIFIED:20241126T084055Z
UID:9782-1762005600-1762012800@paluma.org
SUMMARY:Working Bee at Community Hall
DESCRIPTION:On the first Saturday of every month\, we invite volunteers to come along to the Community Centre where Wilfred Karnol will coordinate one or more activities aimed at maintaining and improving the Hall and surrounding gardens\, the local walking track\, or other community activity.  We meet at 2 pm at the Community Hall and finish at about 4 pm with a free beer or soft drink.
URL:https://paluma.org/event/working-bee-at-community-hall-5
END:VEVENT
BEGIN:VEVENT
DTSTART;TZID=Australia/Brisbane:20251031T180000
DTEND;TZID=Australia/Brisbane:20251031T210000
DTSTAMP:20260424T085855
CREATED:20241126T084126Z
LAST-MODIFIED:20241126T084126Z
UID:9793-1761933600-1761944400@paluma.org
SUMMARY:PDCA Social Drinks in Hall
DESCRIPTION:Once a month (on the Friday night before the Village Working Bee) we open the Community Hall and the bar between 6-8 pm for residents and visitors to come and socialise and play a friendly game of table tennis or darts.  Bring along some nibbles or some finger food to share if you feel inclined.
URL:https://paluma.org/event/pdca-social-drinks-in-hall-9
END:VEVENT
BEGIN:VEVENT
DTSTART;TZID=Australia/Brisbane:20251031T170000
DTEND;TZID=Australia/Brisbane:20251031T190000
DTSTAMP:20260424T085855
CREATED:20251008T015815Z
LAST-MODIFIED:20251008T015815Z
UID:10588-1761930000-1761937200@paluma.org
SUMMARY:Cassowary Project Update and Community Social event
DESCRIPTION:What: Social drinks and delicious Thai curries (by donation)\, presentations on Paluma Range Cassowary Project and high altitude Wet Tropics birds. \nWhy: To update the community and citizen science volunteers on findings from Superb Wren Ecological’s cassowary project\, BirdLife Townsville’s Wet Tropics Birds with Altitude and Key Biodiversity Area program. Weekend bird survey planning and logistics \nFor catering purposes please rsvp to \nsuperbwrenecological@gmail.com\n 
URL:https://paluma.org/event/cassowary-project-update-and-community-social-event
LOCATION:Paluma Community Hall\, 55 Mt Spec Road\, Paluma\, Australia
END:VEVENT
BEGIN:VEVENT
DTSTART;TZID=Australia/Brisbane:20251025T170000
DTEND;TZID=Australia/Brisbane:20251025T230000
DTSTAMP:20260424T085855
CREATED:20250819T033357Z
LAST-MODIFIED:20250917T103859Z
UID:10535-1761411600-1761433200@paluma.org
SUMMARY:Paluma Games Night
DESCRIPTION:Peter and Dorothy Klump have announced that this year’s Paluma Games Night will be held on  Saturday\, October 25th\, at the Community Hall starting at 5:30 pm. \n\nThe evening will start with a sausage sizzle dinner ($3.00) at 5:30 pm\, with the bar open for the purchase of drinks\, including Lynda Radbone’s famous Mulled Wine.\n  \nBy 7:oo pm\, the teams of two will have been announced and the various games will commence. These will include darts\, indoor bowls\, ping pong\, and soccer pinball to name a few.\n\n  \nPrevious years have proved a great success with lots of friendly participation mixed with bouts of enthusiastic competition. There are probably a few residents looking to topple the previous winners in some categories\, so the spirits will be high. \nThis year will include  a special “Children Competition” (12years and under). Prizes included. \nHope to see you there!
URL:https://paluma.org/event/paluma-games-night-2
LOCATION:Paluma Community Hall\, 55 Mt Spec Road\, Paluma\, Australia
END:VEVENT
BEGIN:VEVENT
DTSTART;TZID=Australia/Brisbane:20251017T183000
DTEND;TZID=Australia/Brisbane:20251017T203000
DTSTAMP:20260424T085855
CREATED:20241126T084156Z
LAST-MODIFIED:20241126T084156Z
UID:9803-1760725800-1760733000@paluma.org
SUMMARY:SES Group Meeting
DESCRIPTION:
URL:https://paluma.org/event/ses-group-meeting-9
END:VEVENT
BEGIN:VEVENT
DTSTART;TZID=Australia/Brisbane:20251004T140000
DTEND;TZID=Australia/Brisbane:20251004T160000
DTSTAMP:20260424T085855
CREATED:20241126T084055Z
LAST-MODIFIED:20241126T084055Z
UID:9781-1759586400-1759593600@paluma.org
SUMMARY:Working Bee at Community Hall
DESCRIPTION:On the first Saturday of every month\, we invite volunteers to come along to the Community Centre where Wilfred Karnol will coordinate one or more activities aimed at maintaining and improving the Hall and surrounding gardens\, the local walking track\, or other community activity.  We meet at 2 pm at the Community Hall and finish at about 4 pm with a free beer or soft drink.
URL:https://paluma.org/event/working-bee-at-community-hall-4
END:VEVENT
BEGIN:VEVENT
DTSTART;TZID=Australia/Brisbane:20251003T180000
DTEND;TZID=Australia/Brisbane:20251003T210000
DTSTAMP:20260424T085855
CREATED:20241126T084126Z
LAST-MODIFIED:20241126T084126Z
UID:9792-1759514400-1759525200@paluma.org
SUMMARY:PDCA Social Drinks in Hall
DESCRIPTION:Once a month (on the Friday night before the Village Working Bee) we open the Community Hall and the bar between 6-8 pm for residents and visitors to come and socialise and play a friendly game of table tennis or darts.  Bring along some nibbles or some finger food to share if you feel inclined.
URL:https://paluma.org/event/pdca-social-drinks-in-hall-8
END:VEVENT
BEGIN:VEVENT
DTSTART;VALUE=DATE:20251003
DTEND;VALUE=DATE:20251007
DTSTAMP:20260424T085855
CREATED:20250817T035130Z
LAST-MODIFIED:20250817T035130Z
UID:10533-1759449600-1759795199@paluma.org
SUMMARY:Yoga workshop
DESCRIPTION:
URL:https://paluma.org/event/yoga-workshop
LOCATION:Paluma Community Hall\, 55 Mt Spec Road\, Paluma\, Australia
END:VEVENT
BEGIN:VEVENT
DTSTART;TZID=Australia/Brisbane:20250919T183000
DTEND;TZID=Australia/Brisbane:20250919T203000
DTSTAMP:20260424T085855
CREATED:20241126T084156Z
LAST-MODIFIED:20241126T084156Z
UID:9802-1758306600-1758313800@paluma.org
SUMMARY:SES Group Meeting
DESCRIPTION:
URL:https://paluma.org/event/ses-group-meeting-8
END:VEVENT
BEGIN:VEVENT
DTSTART;TZID=Australia/Brisbane:20250906T140000
DTEND;TZID=Australia/Brisbane:20250906T160000
DTSTAMP:20260424T085855
CREATED:20241126T084055Z
LAST-MODIFIED:20241126T084055Z
UID:9780-1757167200-1757174400@paluma.org
SUMMARY:Working Bee at Community Hall
DESCRIPTION:On the first Saturday of every month\, we invite volunteers to come along to the Community Centre where Wilfred Karnol will coordinate one or more activities aimed at maintaining and improving the Hall and surrounding gardens\, the local walking track\, or other community activity.  We meet at 2 pm at the Community Hall and finish at about 4 pm with a free beer or soft drink.
URL:https://paluma.org/event/working-bee-at-community-hall-3
END:VEVENT
BEGIN:VEVENT
DTSTART;TZID=Australia/Brisbane:20250905T180000
DTEND;TZID=Australia/Brisbane:20250905T210000
DTSTAMP:20260424T085855
CREATED:20241126T084126Z
LAST-MODIFIED:20241126T084126Z
UID:9791-1757095200-1757106000@paluma.org
SUMMARY:PDCA Social Drinks in Hall
DESCRIPTION:Once a month (on the Friday night before the Village Working Bee) we open the Community Hall and the bar between 6-8 pm for residents and visitors to come and socialise and play a friendly game of table tennis or darts.  Bring along some nibbles or some finger food to share if you feel inclined.
URL:https://paluma.org/event/pdca-social-drinks-in-hall-7
END:VEVENT
BEGIN:VEVENT
DTSTART;TZID=Australia/Brisbane:20250815T183000
DTEND;TZID=Australia/Brisbane:20250815T203000
DTSTAMP:20260424T085855
CREATED:20241126T084156Z
LAST-MODIFIED:20241126T084156Z
UID:9801-1755282600-1755289800@paluma.org
SUMMARY:SES Group Meeting
DESCRIPTION:
URL:https://paluma.org/event/ses-group-meeting-7
END:VEVENT
BEGIN:VEVENT
DTSTART;TZID=Australia/Brisbane:20250802T140000
DTEND;TZID=Australia/Brisbane:20250802T160000
DTSTAMP:20260424T085855
CREATED:20241126T084055Z
LAST-MODIFIED:20241126T084055Z
UID:9779-1754143200-1754150400@paluma.org
SUMMARY:Working Bee at community Hall
DESCRIPTION:On the first Saturday of every month\, we invite volunteers to come along to the Community Centre where Wilfred Karnol will coordinate one or more activities aimed at maintaining and improving the Hall and surrounding gardens\, the local walking track\, or other community activity.  We meet at 2 pm at the Community Hall and finish at about 4 pm with a free beer or soft drink.
URL:https://paluma.org/event/working-bee-at-community-hall-2
END:VEVENT
BEGIN:VEVENT
DTSTART;TZID=Australia/Brisbane:20250801T180000
DTEND;TZID=Australia/Brisbane:20250801T210000
DTSTAMP:20260424T085855
CREATED:20241126T084125Z
LAST-MODIFIED:20241126T084125Z
UID:9790-1754071200-1754082000@paluma.org
SUMMARY:PDCA Social Drinks in Hall
DESCRIPTION:Once a month (on the Friday night before the Village Working Bee) we open the Community Hall and the bar between 6-8 pm for residents and visitors to come and socialise and play a friendly game of table tennis or darts.  Bring along some nibbles or some finger food to share if you feel inclined.
URL:https://paluma.org/event/pdca-social-drinks-in-hall-6
END:VEVENT
BEGIN:VEVENT
DTSTART;TZID=Australia/Brisbane:20250718T183000
DTEND;TZID=Australia/Brisbane:20250718T203000
DTSTAMP:20260424T085855
CREATED:20241126T084155Z
LAST-MODIFIED:20241126T084155Z
UID:9800-1752863400-1752870600@paluma.org
SUMMARY:SES Group Meeting
DESCRIPTION:
URL:https://paluma.org/event/ses-group-meeting-6
END:VEVENT
END:VCALENDAR