BEGIN:VCALENDAR
VERSION:2.0
PRODID:-//Paluma - our village in the mist - ECPv6.15.20//NONSGML v1.0//EN
CALSCALE:GREGORIAN
METHOD:PUBLISH
X-WR-CALNAME:Paluma - our village in the mist
X-ORIGINAL-URL:https://paluma.org
X-WR-CALDESC:Events for Paluma - our village in the mist
REFRESH-INTERVAL;VALUE=DURATION:PT1H
X-Robots-Tag:noindex
X-PUBLISHED-TTL:PT1H
BEGIN:VTIMEZONE
TZID:Australia/Brisbane
BEGIN:STANDARD
TZOFFSETFROM:+1000
TZOFFSETTO:+1000
TZNAME:AEST
DTSTART:20170101T000000
END:STANDARD
END:VTIMEZONE
BEGIN:VTIMEZONE
TZID:UTC
BEGIN:STANDARD
TZOFFSETFROM:+0000
TZOFFSETTO:+0000
TZNAME:UTC
DTSTART:20170101T000000
END:STANDARD
END:VTIMEZONE
BEGIN:VEVENT
DTSTART;TZID=Australia/Brisbane:20191006T090000
DTEND;TZID=Australia/Brisbane:20191006T130000
DTSTAMP:20260426T024429
CREATED:20190628T021145Z
LAST-MODIFIED:20190628T021145Z
UID:3051-1570352400-1570366800@paluma.org
SUMMARY:Paluma Sunday Markets & Sausage Sizzle
DESCRIPTION:The next Paluma Market and Sausage Sizzle will be held at the Community Hall on Sunday 6 October 2019 between 9 AM and 1 PM. \nNew stallholders are invited and would be very welcome. If you would like to hold a stall at the next market\, please contact Lynn Hyland at lynnhyland@optusnet.com.au \n  \n 
URL:https://paluma.org/event/paluma-sunday-markets-sausage-sizzle
LOCATION:Paluma Community Hall\, 55 Mt Spec Road\, Paluma\, Australia
END:VEVENT
BEGIN:VEVENT
DTSTART;TZID=Australia/Brisbane:20190914T160000
DTEND;TZID=Australia/Brisbane:20190914T173000
DTSTAMP:20260426T024429
CREATED:20190901T000157Z
LAST-MODIFIED:20190901T000157Z
UID:3222-1568476800-1568482200@paluma.org
SUMMARY:Paluma Rural Fire Brigade AGM
DESCRIPTION:Members of the Paluma Rural Fire Brigade (PRFB) are advised that Len Cook proposes to hold the Annual General Meeting (AGM) on Saturday 14th September at 4 PM at the Community Hall. \n\n\n\nLen Cook advises that a full forum is required to the hold the meeting. \n\n\n\nIf you are a member of the PRFB please advise your availability to attend the AGM by contacting Len Cook via email:- anagama@activ8.net.au
URL:https://paluma.org/event/paluma-rural-fire-brigade-agm
LOCATION:Paluma Community Hall\, 55 Mt Spec Road\, Paluma\, Australia
END:VEVENT
BEGIN:VEVENT
DTSTART;TZID=Australia/Brisbane:20190810T183000
DTEND;TZID=Australia/Brisbane:20190810T220000
DTSTAMP:20260426T024429
CREATED:20190525T061132Z
LAST-MODIFIED:20190525T061132Z
UID:2900-1565461800-1565474400@paluma.org
SUMMARY:Glamour and Glitz Night
DESCRIPTION:Dance the night away with music in whatever feels Glitzy and Galmourous to you at the Community Hall.  Bring a plate to share.
URL:https://paluma.org/event/glamour-and-glitz-night
LOCATION:Paluma Community Hall\, 55 Mt Spec Road\, Paluma\, Australia
END:VEVENT
BEGIN:VEVENT
DTSTART;VALUE=DATE:20190721
DTEND;VALUE=DATE:20190722
DTSTAMP:20260426T024429
CREATED:20190325T222345Z
LAST-MODIFIED:20190325T222345Z
UID:2309-1563667200-1563753599@paluma.org
SUMMARY:PALUMA PUSH 2019
DESCRIPTION:
URL:https://paluma.org/event/paluma-push-2019
LOCATION:Paluma
END:VEVENT
BEGIN:VEVENT
DTSTART;TZID=Australia/Brisbane:20190630T090000
DTEND;TZID=Australia/Brisbane:20190630T130000
DTSTAMP:20260426T024429
CREATED:20190512T002529Z
LAST-MODIFIED:20190512T002529Z
UID:2819-1561885200-1561899600@paluma.org
SUMMARY:Paluma Sunday Market & Sausage Sizzle
DESCRIPTION:The next Paluma Market and Sausage Sizzle will be held at the Community Hall on Sunday 30 June 2019 between 9 AM and 1 PM. \nNew stallholders are invited and would be very welcome. If you would like to hold a stall at the next market\, please contact Lynn Hyland at lynnhyland@optusnet.com.au \n  \n 
URL:https://paluma.org/event/paluma-sunday-market-sausage-sizzle
LOCATION:Paluma Community Hall\, 55 Mt Spec Road\, Paluma\, Australia
END:VEVENT
BEGIN:VEVENT
DTSTART;TZID=Australia/Brisbane:20190629T193000
DTEND;TZID=Australia/Brisbane:20190629T223000
DTSTAMP:20260426T024429
CREATED:20190513T095449Z
LAST-MODIFIED:20190513T095449Z
UID:2851-1561836600-1561847400@paluma.org
SUMMARY:WATTLE 'N' GUM BUSH DANCE
DESCRIPTION:
URL:https://paluma.org/event/wattle-n-gum-bush-dance
LOCATION:Paluma Community Hall\, 55 Mt Spec Road\, Paluma\, Australia
END:VEVENT
BEGIN:VEVENT
DTSTART;VALUE=DATE:20190629
DTEND;VALUE=DATE:20190701
DTSTAMP:20260426T024429
CREATED:20190622T073053Z
LAST-MODIFIED:20190622T080004Z
UID:3041-1561766400-1561939199@paluma.org
SUMMARY:Pre-Push Ride & Pizza Night
DESCRIPTION:Outer Limits Adventure is organizing a social ride along sections of the upcoming Paluma Push course next Sunday. There will a Pizza night on Saturday just prior to the Bush Dance. \n \nWith the High Ropes course open on Saturday afternoon\, and the  Markets and Sausage Sizzle happening on Sunday it looks like it will be a busy Weekend for all locals and visitors!
URL:https://paluma.org/event/pre-push-ride-pizza-night
LOCATION:Paluma Adventure Centre\, 7 Lookout Rd\, Paluma\, QLD\, 4816\, Australia
ORGANIZER;CN="Outerlimits Adventure":MAILTO:info@outerlimitsadventure.com.au
END:VEVENT
BEGIN:VEVENT
DTSTART;TZID=Australia/Brisbane:20190608T183000
DTEND;TZID=Australia/Brisbane:20190608T220000
DTSTAMP:20260426T024429
CREATED:20190525T055833Z
LAST-MODIFIED:20190525T061634Z
UID:2894-1560018600-1560031200@paluma.org
SUMMARY:Soup and Casserole and Country Music Night
DESCRIPTION:Dress in your best (or most tattered) jeans and check shirt and come along to a night of country music and possible impromptu line dancing  at the Community Hall. Bring a soup or casserole.
URL:https://paluma.org/event/soup-and-casserole-and-country-music-night
LOCATION:Paluma Community Hall\, 55 Mt Spec Road\, Paluma\, Australia
END:VEVENT
BEGIN:VEVENT
DTSTART;TZID=Australia/Brisbane:20190505T090000
DTEND;TZID=Australia/Brisbane:20190505T130000
DTSTAMP:20260426T024429
CREATED:20190426T063318Z
LAST-MODIFIED:20190426T063340Z
UID:2682-1557046800-1557061200@paluma.org
SUMMARY:Paluma Market & Sausage Sizzle
DESCRIPTION:
URL:https://paluma.org/event/paluma-markets-sausage-sizzle
LOCATION:Paluma Community Hall\, 55 Mt Spec Road\, Paluma\, Australia
END:VEVENT
BEGIN:VEVENT
DTSTART;TZID=Australia/Brisbane:20190421T140000
DTEND;TZID=Australia/Brisbane:20190421T170000
DTSTAMP:20260426T024429
CREATED:20190217T082242Z
LAST-MODIFIED:20190217T082242Z
UID:2164-1555855200-1555866000@paluma.org
SUMMARY:A Celebration of Roy Mackay's Life
DESCRIPTION:Roy Mackay’s family can now confirm plans for the celebration of Roy’s long\, full and incredibly rich life.  This event will be held at the Paluma Village Hall from 2pm on Sunday 21st April\, after the Easter market. \n\n\n\nA barbecue and refreshments will be provided and further beverages will be available from the bar. \n\n\n\nAfter the current period of grief and mourning that many of us are going through\, this will be an opportunity to celebrate his life with love\, happiness and respect. \n\n\n\nWe look forward to seeing all of you who knew Roy\, who would like to join us and are able to do so. \n\n\n\nAnyone who would like to say a few words about Roy will be able to after family members have done so. To assist with planning it would help (but isn’t essential) if those wishing to speak could let David Mackay know by email: kdavidmackay@gmail.com
URL:https://paluma.org/event/a-celebration-of-roy-mackays-life
LOCATION:Paluma Community Hall\, 55 Mt Spec Road\, Paluma\, Australia
END:VEVENT
BEGIN:VEVENT
DTSTART;TZID=Australia/Brisbane:20190420T170000
DTEND;TZID=Australia/Brisbane:20190420T190000
DTSTAMP:20260426T024429
CREATED:20190307T002757Z
LAST-MODIFIED:20190307T002942Z
UID:2244-1555779600-1555786800@paluma.org
SUMMARY:PDCA Annual General Meeting
DESCRIPTION:Members (and prospective members) are advised that the Annual General Meeting of the Paluma & District Community Association Inc. will be held on: Saturday April 20th\, 2019 at 5pm in the Community Hall Nominations are open for all Executive Committee positions. Nominations should be forwarded to the Secretary to arrive no later than Wednesday 10th April 2019. Please use the nomination forms\, which can be downloaded here.  Positions are: \n\nPresident\,\n2 Vice-Presidents\nSecretary\nTreasurer\nGeneral Committee members (numbers flexible)\n\n\nMembers are reminded that Annual Subscriptions are now due and should be paid prior to the commencement of the AGM.   Membership is available in two classes\, these being  Ordinary & Family. All classes attract the same subscription fee of $40.00 Please use the subscription form here to submit your dues. New members are more than welcome and should use the same form. \n\n\n\nPlease note that you must be a PDCA member to nominate someone to the Committee or vote for any Committee member. \n\n\n\nThe AGM will be followed immediately by a normal General Meeting with with the new Committee. \n\nSee separate post for details on agenda.
URL:https://paluma.org/event/pdca-annual-general-meeting
LOCATION:Paluma Community Hall\, 55 Mt Spec Road\, Paluma\, Australia
END:VEVENT
BEGIN:VEVENT
DTSTART;TZID=Australia/Brisbane:20190402T180000
DTEND;TZID=Australia/Brisbane:20190402T203000
DTSTAMP:20260426T024429
CREATED:20190227T042820Z
LAST-MODIFIED:20190227T043048Z
UID:2211-1554228000-1554237000@paluma.org
SUMMARY:Community Council Meeting
DESCRIPTION:
URL:https://paluma.org/event/council-community-meeting
LOCATION:Rollingstone Community Centre\, Community Crescent\, Balgal Beach\, Queensland\, 4816\, Australia
END:VEVENT
BEGIN:VEVENT
DTSTART;TZID=Australia/Brisbane:20190316T190000
DTEND;TZID=Australia/Brisbane:20190316T220000
DTSTAMP:20260426T024429
CREATED:20190304T012424Z
LAST-MODIFIED:20190304T012526Z
UID:2220-1552762800-1552773600@paluma.org
SUMMARY:St. Patrick's Day Celebration
DESCRIPTION:St. Patrick’s Day is on March 17th but in Paluma we will celebrate it on Saturday the 16th March.  In view of the afternoon tea in honour of Roy Mackay that same day\, we will start at 7 PM this year instead of 6.30 PM\, allowing time for participants to both to prepare a dish to share in the usual fashion. Yes\, potatoes are allowed!  \n\nThe bar will be open and there will be a limited stock of Uncle Arthur’s beverage – the founder of Guinness Brewery was Arthur Guinness.  If you have any Irish jokes to share do bring them along and there will be a quiz about Ireland [No Googling Allowed!!!!!!]. So\, sharpen your brains about things Irish. And wear something green !\n\nAny inquiries to Les Hyland     lhyland1@skymesh.com.au
URL:https://paluma.org/event/st-patricks-day-celebration
LOCATION:Paluma Community Hall\, 55 Mt Spec Road\, Paluma\, Australia
END:VEVENT
BEGIN:VEVENT
DTSTART;TZID=Australia/Brisbane:20190316T153000
DTEND;TZID=Australia/Brisbane:20190316T173000
DTSTAMP:20260426T024429
CREATED:20190226T040607Z
LAST-MODIFIED:20190226T040607Z
UID:2199-1552750200-1552757400@paluma.org
SUMMARY:ROY MACKAY - Paluma Reflects
DESCRIPTION: In response to many requests from Roy’s friends\, we have decided to hold an afternoon tea in his honour so that his friends can gather to celebrate the remarkable life of a remarkable man. This will be held at the Rainforest Inn on Saturday 16 March at 3.30 pm. We look forward to seeing many of Roy’s friends and to sharing reminiscences of his exploits and life adventures and the memories of the many ways he touched our lives. \n\n\n\nWe would request that attendees bring a plate of finger food to share – savoury or sweet. \n\n\n\nDrinks can be purchased at the Rainforest Inn. \n\n\n\nFor any enquiries please contact one of the following: \n\n\n\nJennie:       0418 867 925 \n\n\n\nBeth:          0404 759 718 \n\n\n\n\n\nMichele:    0417 767 099 \n\n\n\nColwyn:    4770 8559   colwynmc@activ8.net.au
URL:https://paluma.org/event/roy-mackay-paluma-reflects
LOCATION:Rainforest Inn\, Mt Spec Road\, Paluma\, Queensland\, 4816\, Australia
END:VEVENT
BEGIN:VEVENT
DTSTART;TZID=Australia/Brisbane:20190126T130000
DTEND;TZID=Australia/Brisbane:20190126T210000
DTSTAMP:20260426T024429
CREATED:20190120T023646Z
LAST-MODIFIED:20190120T211221Z
UID:1983-1548507600-1548536400@paluma.org
SUMMARY:Outer Limits Australia Day Bash
DESCRIPTION:When: Saturday 26 January\, From 1 PM onwards. BBQ Dinner at 6 PM. \nWhere: Outer Limits Centre\, Mt Spec Road \nBYO Drinks & BBQ \nFREE High Ropes\, Climbing & Games \nDress Code: Aussie\, Aussie\, Aussie
URL:https://paluma.org/event/outer-limits-australia-day-bash
LOCATION:Paluma Adventure Centre\, 7 Lookout Rd\, Paluma\, QLD\, 4816\, Australia
ORGANIZER;CN="Outerlimits Adventure":MAILTO:info@outerlimitsadventure.com.au
END:VEVENT
BEGIN:VEVENT
DTSTART;TZID=Australia/Brisbane:20181208T183000
DTEND;TZID=Australia/Brisbane:20181208T213000
DTSTAMP:20260426T024429
CREATED:20181116T100831Z
LAST-MODIFIED:20181116T100831Z
UID:1732-1544293800-1544304600@paluma.org
SUMMARY:Tropical Xmas BBQ
DESCRIPTION:     \n\nWhen: Saturday 8th December\, 6.30 pm\nWhere: Community Hall\nBYO meat\, sausages or whatever you want on the BBQ\nPlease bring a salad or sweet to share\nThe Bar will be OPEN with the usual low priced drinks\nCome and join us for the last Social of 2018\n\n     \n 
URL:https://paluma.org/event/tropical-xmas-bbq
LOCATION:Paluma Community Hall\, 55 Mt Spec Road\, Paluma\, Australia
END:VEVENT
BEGIN:VEVENT
DTSTART;TZID=Australia/Brisbane:20181201T103000
DTEND;TZID=Australia/Brisbane:20181201T113000
DTSTAMP:20260426T024429
CREATED:20181122T002147Z
LAST-MODIFIED:20181122T002147Z
UID:1762-1543660200-1543663800@paluma.org
SUMMARY:Telstra Paluma Mobile Tower Launch Celebration
DESCRIPTION:     Paluma Mobile Tower – Launch Celebration\nTelstra (Regional Australia\, North Qld) and the Paluma & District Community Association (PDCA) invites all Paluma residents to attend a Morning Tea to celebrate the launch of the new Paluma Mobile Telephone Tower. \nWhen: Saturday 1st December 2018\, 10.30 AM \nWhere: Rainforest Inn\, Paluma \nMorning Tea will be provided courtesy of Telstra. \nThe PDCA encourages the attendance of Paluma residents\, so please pass the word about this upcoming event! \n \n  \n 
URL:https://paluma.org/event/telstra-paluma-mobile-tower-launch-celebration
LOCATION:Rainforest Inn\, Mt Spec Road\, Paluma\, Queensland\, 4816\, Australia
END:VEVENT
BEGIN:VEVENT
DTSTART;VALUE=DATE:20181123
DTEND;VALUE=DATE:20181126
DTSTAMP:20260426T024429
CREATED:20180510T185429Z
LAST-MODIFIED:20180510T190718Z
UID:714-1542931200-1543190399@paluma.org
SUMMARY:Rainforest Plant Identification Short Course 2018
DESCRIPTION:Presented by the Australian Tropical Herbarium and James Cook University\, the Rainforest Plant Identification Short Course has been developed for the interested lay person. The three day course is held annually in Paluma at the end of November and covers such topics as ‘what is a rainforest?’ how plants are named\, and plant structure and terminology. There are walks in the rainforest\, ‘hands on’ learning through identification of local native plants and a review of important rainforest plants and features used to identify them in the field. \nThis year’s course will run from 23 to 25 November. \nParticipants will arrive at JCU’s Paluma house on the evening before the course starts for dinner at 7.30 pm. Teaching will run from 8.30 am to 4.00 pm on Friday\, Saturday and Sunday\, with work-books and hand lenses provided. Meals also are provided. Course Fees are $600\, which includes dormitory accommodation at JCU’s house\, or $500 with no accommodation. \nFor enrolments and further information about this very interesting course contact the Australian Tropical Herbarium – telephone: 07 4232 1837 or email: enquiry@ath.org.au\nEnrollment forms are also available at the Paluma Community Hall or phone Colwyn on 07 4770 8559
URL:https://paluma.org/event/rainforest-plant-identification-short-course-2018
LOCATION:JCU Paluma House\, 34 Mt Spec Rd\, Paluma\, QLD\, 4816\, Australia
END:VEVENT
BEGIN:VEVENT
DTSTART;VALUE=DATE:20181112
DTEND;VALUE=DATE:20181113
DTSTAMP:20260426T024429
CREATED:20180807T034654Z
LAST-MODIFIED:20180807T034654Z
UID:1127-1541980800-1542067199@paluma.org
SUMMARY:Kerbside Bulk Rubbish Collection for Paluma
DESCRIPTION:The Townsville City Council Kerbside Rubbish Collection program will occur in Paluma on November 12th\, 2018 \nFor more information go to www.townsville.qld.gov.au/water-waste-and-environment/waste-and-recycling/kerbside-collection \n 
URL:https://paluma.org/event/kerbside-bulk-rubbish-collection-for-paluma
END:VEVENT
BEGIN:VEVENT
DTSTART;TZID=Australia/Brisbane:20181111T110000
DTEND;TZID=Australia/Brisbane:20181111T113000
DTSTAMP:20260426T024429
CREATED:20181030T050830Z
LAST-MODIFIED:20181031T025624Z
UID:1580-1541934000-1541935800@paluma.org
SUMMARY:Remembrance Day Gathering
DESCRIPTION:LEST WE FORGET   \nREMEMBRANCE DAY SUNDAY 11 NOVEMBER \nRemembrance Day Gathering\, 11 AM on Sunday 11 November 2018 at the Paluma Community Hall. \nPlease meet at the Community Hall at approximately 10.45 AM in preparation for the raising of the flag and a minute of silence at 11 AM to commemorate Remembrance Day. \nALL PALUMA RESIDENTS AND VISITORS WELCOME
URL:https://paluma.org/event/remembrance-day-gathering
LOCATION:Paluma Community Hall\, 55 Mt Spec Road\, Paluma\, Australia
END:VEVENT
BEGIN:VEVENT
DTSTART;VALUE=DATE:20181028
DTEND;VALUE=DATE:20181029
DTSTAMP:20260426T024429
CREATED:20180821T224301Z
LAST-MODIFIED:20180821T224400Z
UID:1197-1540684800-1540771199@paluma.org
SUMMARY:Paluma Dam Good Trail Run
DESCRIPTION:The annual trail run at Paluma\, organized by Outer Limits Adventure Fitness\, will be held on October 28 this year. \nThis is the 6th run in the Outer Limits Trail Run Series 2018. \nRace HQ\, start and finish for all distances will be at the village green in the Paluma township. There is an array of trails around the village crossing creeks\, passing water falls and lookouts. Paluma is cooler then the coastal region and it makes for great trail running in October. \n\nWe have $2000 worth of great prizes for our top 3 winners for each distance and first place in each age group. This includes some new trail running shoes and hydration vests from Salomon!\n\n\nTickets are on sale now!\n\n\n\n\nRegistration opens 1st January 2018. Click here to register \nGo to the website for more details
URL:https://paluma.org/event/paluma-dam-good-trail-run-2
LOCATION:Paluma Adventure Centre\, 7 Lookout Rd\, Paluma\, QLD\, 4816\, Australia
ORGANIZER;CN="Outerlimits Adventure":MAILTO:info@outerlimitsadventure.com.au
END:VEVENT
BEGIN:VEVENT
DTSTART;TZID=Australia/Brisbane:20181027T170000
DTEND;TZID=Australia/Brisbane:20181027T210000
DTSTAMP:20260426T024429
CREATED:20181011T011937Z
LAST-MODIFIED:20181011T011937Z
UID:1462-1540659600-1540674000@paluma.org
SUMMARY:Paluma Dinner under the Stars
DESCRIPTION:Outer Limits would like to invite you to a community dinner on Saturday\, 27th October at the Adventure Centre.  Starting  5pm \nPlease RSVP before October 25th:\ninfo@outerlimitsadventure.com.au  ph 0421 484 211 \nCatering by the Feel Good Foodie. $15 per person/ BYO drinks \n 
URL:https://paluma.org/event/paluma-dinner-under-the-stars
LOCATION:Paluma Adventure Centre\, 7 Lookout Rd\, Paluma\, QLD\, 4816\, Australia
ORGANIZER;CN="Outerlimits Adventure":MAILTO:info@outerlimitsadventure.com.au
END:VEVENT
BEGIN:VEVENT
DTSTART;TZID=Australia/Brisbane:20181019T180000
DTEND;TZID=Australia/Brisbane:20181022T140000
DTSTAMP:20260426T024429
CREATED:20180821T223611Z
LAST-MODIFIED:20180821T223611Z
UID:1195-1539972000-1540216800@paluma.org
SUMMARY:Wilderness First Aid Course
DESCRIPTION:Outerlimits Adventure through Sam Stedman is sponsoring a 3-day Remote and Wilderness First Aid Course in Paluma. \nJason Taylor from Category 5 Emergency Care is coming to Paluma to teach a Standard Wilderness and Remote First Aid course. \nSam and Aline have done multiple courses with Jason already and highly recommend them to anyone who likes to adventure and maybe even works outdoors\, especially in remote areas. So we have teamed up with Jason and we are bringing you the Standard R.A.W First Aid course to Paluma. \nWe will spend the weekend at the Adventure Centre in Paluma and stay at the Adventure House. Meals will be provided\, please let us know if you have any dietary requirements.
URL:https://paluma.org/event/wilderness-first-aid-course
LOCATION:Paluma Adventure Centre\, 7 Lookout Rd\, Paluma\, QLD\, 4816\, Australia
ORGANIZER;CN="Outerlimits Adventure":MAILTO:info@outerlimitsadventure.com.au
END:VEVENT
BEGIN:VEVENT
DTSTART;TZID=Australia/Brisbane:20181019T090000
DTEND;TZID=Australia/Brisbane:20181019T163000
DTSTAMP:20260426T024429
CREATED:20181005T000911Z
LAST-MODIFIED:20181005T000911Z
UID:1393-1539939600-1539966600@paluma.org
SUMMARY:Garden Competition
DESCRIPTION:Sharpen your secateurs and polish that green thumb of yours! Judging for the annual Paluma Garden Competition will occur on October 19th. The judges will be accompanied around each garden by a PDCA executive member. Please let us know in advance if you would prefer that we not visit your garden on this date.
URL:https://paluma.org/event/garden-competition
END:VEVENT
BEGIN:VEVENT
DTSTART;TZID=UTC:20180930T090000
DTEND;TZID=UTC:20180930T130000
DTSTAMP:20260426T024429
CREATED:20180418T160400Z
LAST-MODIFIED:20180709T044309Z
UID:125-1538298000-1538312400@paluma.org
SUMMARY:Paluma Sunday Markets
DESCRIPTION:Come and browse through a range of plants\, fabrics\, food and souvenirs at our local Paluma Markets. Sausage sizzle and drinks also available.
URL:https://paluma.org/event/paluma-sunday-markets
LOCATION:Paluma Community Hall\, 55 Mt Spec Road\, Paluma\, Australia
END:VEVENT
BEGIN:VEVENT
DTSTART;TZID=Australia/Brisbane:20180922T170000
DTEND;TZID=Australia/Brisbane:20180922T190000
DTSTAMP:20260426T024429
CREATED:20180905T020605Z
LAST-MODIFIED:20180905T020605Z
UID:1283-1537635600-1537642800@paluma.org
SUMMARY:Opening Ceremony for the new Community Hall extension
DESCRIPTION:After more than a year of planning and many months of construction\, the new Training/Meeting Room at the Community Hall has been completed!  The PDCA\, Rural Fire Brigade and SES invites all residents and PDCA members to join us for an official opening ceremony on September 22\, 2018 at 5:00pm. After the ceremony\, we will be offering wine and cheese and there will be a brief presentation by the PDCA President on our Vision for Paluma. We will be encouraging comments\, questions and suggestions following this presentation. \nWe hope you can join us.
URL:https://paluma.org/event/opening-ceremony-for-the-new-community-hall-extension
LOCATION:Paluma Community Hall\, 55 Mt Spec Road\, Paluma\, Australia
END:VEVENT
BEGIN:VEVENT
DTSTART;TZID=Australia/Brisbane:20180825T153000
DTEND;TZID=Australia/Brisbane:20180825T170000
DTSTAMP:20260426T024429
CREATED:20180810T051045Z
LAST-MODIFIED:20180810T092538Z
UID:1136-1535211000-1535216400@paluma.org
SUMMARY:Working Bee to Spread Mulch and Topsoil around Village Green
DESCRIPTION:Mulching In the Mist – Village Green\, Paluma\nThere will be a Working Bee at the Village Green on Saturday 25th August 2018\, commencing at 3.30 PM. \nThe Working Bee is to complete the spreading of wood-chip mulch around the Trees in Memory garden bed and also to complete the spreading of topsoil on the Village Green. \nThe Working Bee is to assist and complete the great work already undertaken by Michael Drew in attending to the Village Green. \nAll are welcome to attend and lend a hand. Please bring:- \n Your gardening expertise\, prowess and enthusiasm\n Your favourite rake\, spade\, wheelbarrow\, bucket or other garden tools \n“Many hands make light work”\, so please come along for some fresh air and exercise. \nThe Village Green and the Trees in Memory will love you for it………and so will the scrub turkeys!! \nFor more information contact Michele on 0417 767 099
URL:https://paluma.org/event/working-bee-to-spread-mulch-and-topsoil-around-village-green
LOCATION:Paluma Community Hall\, 55 Mt Spec Road\, Paluma\, Australia
END:VEVENT
BEGIN:VEVENT
DTSTART;VALUE=DATE:20180722
DTEND;VALUE=DATE:20180723
DTSTAMP:20260426T024429
CREATED:20180418T161033Z
LAST-MODIFIED:20180418T161033Z
UID:128-1532217600-1532303999@paluma.org
SUMMARY:Paluma Push
DESCRIPTION:Every year Paluma is overrun with bikes and riders participating in this major event at the village.  It provides a variety of courses to suit different ages and ambitions.  The courses consist of dirt roads\, old 4WD tracks\, single technical track through the rainforest\, sections of cow pad single track with climbs and lots of fun downhills
URL:https://paluma.org/event/paluma-push
LOCATION:Paluma Community Hall\, 55 Mt Spec Road\, Paluma\, Australia
END:VEVENT
BEGIN:VEVENT
DTSTART;TZID=Australia/Brisbane:20180721T183000
DTEND;TZID=Australia/Brisbane:20180721T210000
DTSTAMP:20260426T024429
CREATED:20180709T003630Z
LAST-MODIFIED:20180709T005553Z
UID:968-1532197800-1532206800@paluma.org
SUMMARY:Rollingstone Trivia Night
DESCRIPTION:One of our sister organisations is holding at Trivia Night at the Rollingstone Community Centre.  Bookings are essential if you want to participate as a team. All proceeds will go to the Royal Flying Doctor Service. There is prize money to be won and an entertaining evening on the offering. \n \n 
URL:https://paluma.org/event/rollingstone-trivia-night
LOCATION:Rollingstone Community Centre\, Community Crescent\, Balgal Beach\, Queensland\, 4816\, Australia
ORGANIZER;CN="Rollingstone & District Community Association":MAILTO:rollingstonertc@bigpond.com
END:VEVENT
BEGIN:VEVENT
DTSTART;TZID=UTC:20180717T110000
DTEND;TZID=UTC:20180717T130000
DTSTAMP:20260426T024429
CREATED:20180418T170253Z
LAST-MODIFIED:20180418T170253Z
UID:143-1531825200-1531832400@paluma.org
SUMMARY:Tuesday History Display
DESCRIPTION:Every Tuesday we open up the Community Hall and set out a variety of displays and resources that document the rich history of the region\, including early settlement\, construction of the range road and the heroic activities of the miners and loggers who explored the wilderness and developed its earliest industries. \nCome along and have a cup of coffee or tea  and chat with our local history enthusiasts.
URL:https://paluma.org/event/tuesday-history-display-3
LOCATION:Paluma Community Hall\, 55 Mt Spec Road\, Paluma\, Australia
END:VEVENT
END:VCALENDAR