BEGIN:VCALENDAR
VERSION:2.0
PRODID:-//Paluma - our village in the mist - ECPv6.15.20//NONSGML v1.0//EN
CALSCALE:GREGORIAN
METHOD:PUBLISH
X-WR-CALNAME:Paluma - our village in the mist
X-ORIGINAL-URL:https://paluma.org
X-WR-CALDESC:Events for Paluma - our village in the mist
REFRESH-INTERVAL;VALUE=DURATION:PT1H
X-Robots-Tag:noindex
X-PUBLISHED-TTL:PT1H
BEGIN:VTIMEZONE
TZID:Australia/Brisbane
BEGIN:STANDARD
TZOFFSETFROM:+1000
TZOFFSETTO:+1000
TZNAME:AEST
DTSTART:20180101T000000
END:STANDARD
END:VTIMEZONE
BEGIN:VEVENT
DTSTART;TZID=Australia/Brisbane:20210501T110000
DTEND;TZID=Australia/Brisbane:20210501T130000
DTSTAMP:20260425T235503
CREATED:20210412T015313Z
LAST-MODIFIED:20210412T015313Z
UID:5726-1619866800-1619874000@paluma.org
SUMMARY:Paluma Rural Fire Brigade - BBQ\, Public Meeting & Recruitment Drive
DESCRIPTION:You are Invited to Attend:- \nA BBQ/Public Meeting/Recruitment Drive\, Saturday 1st May at 11 AM \nPaluma RFB Station (Community Hall) \nWithout your support the Paluma RFB community service may be lost from the Paluma community. Please come along and support the RFB.
URL:https://paluma.org/event/paluma-rural-fire-brigade-bbq-public-meeting-recruitment-drive
LOCATION:Paluma Community Hall\, 55 Mt Spec Road\, Paluma\, Australia
END:VEVENT
BEGIN:VEVENT
DTSTART;TZID=Australia/Brisbane:20210424T120000
DTEND;TZID=Australia/Brisbane:20210424T140000
DTSTAMP:20260425T235503
CREATED:20210208T231342Z
LAST-MODIFIED:20210421T101738Z
UID:5577-1619265600-1619272800@paluma.org
SUMMARY:PDCA Annual General Meeting with BBQ Lunch\, Saturday 24 April
DESCRIPTION:PDCA Annual General Meeting with BBQ Lunch\, Saturday April 24.
URL:https://paluma.org/event/pdca-annual-general-meeting-with-bbq-lunch-saturday-24-april
LOCATION:Paluma Community Hall\, 55 Mt Spec Road\, Paluma\, Australia
END:VEVENT
BEGIN:VEVENT
DTSTART;TZID=Australia/Brisbane:20210423T183000
DTEND;TZID=Australia/Brisbane:20210423T203000
DTSTAMP:20260425T235503
CREATED:20210416T123746Z
LAST-MODIFIED:20210416T123746Z
UID:5732-1619202600-1619209800@paluma.org
SUMMARY:Anicca - an exhibition by Colwyn Campbell
DESCRIPTION:All Paluma residents are cordially invited
URL:https://paluma.org/event/anicca-an-exhibition-by-colwyn-campbell
LOCATION:Drill Hall Studio\, 27 Mitchell St\, North Ward\, Townsville\, Qld\, Australia
ORGANIZER;CN="The Drill Hall Studio":MAILTO:sue@thedrillhallstudio.com.au
END:VEVENT
BEGIN:VEVENT
DTSTART;TZID=Australia/Brisbane:20210423T153000
DTEND;TZID=Australia/Brisbane:20210423T170000
DTSTAMP:20260425T235503
CREATED:20210420T044856Z
LAST-MODIFIED:20210420T044856Z
UID:5742-1619191800-1619197200@paluma.org
SUMMARY:Meet & Greet with Councillor Margie Ryder - April 30; 3:30 pm
DESCRIPTION:Our local representative for the Townsville City\, Councillor Margie Ryder will be visiting Paluma on Friday April 30th and would like to meet with any residents who are interested in chatting with her about local Paluma issues. Please come along to the Community Hall at 3:30. \nCoffee and afternoon tea with be available.
URL:https://paluma.org/event/meet-330-pm
LOCATION:Paluma Community Hall\, 55 Mt Spec Road\, Paluma\, Australia
END:VEVENT
BEGIN:VEVENT
DTSTART;TZID=Australia/Brisbane:20210404T090000
DTEND;TZID=Australia/Brisbane:20210404T130000
DTSTAMP:20260425T235503
CREATED:20210208T080458Z
LAST-MODIFIED:20210208T080458Z
UID:5545-1617526800-1617541200@paluma.org
SUMMARY:Paluma Markets\, Sunday 4th April 2021
DESCRIPTION:Paluma PDCA Markets to be held at the Community Hall on Sunday 4th April 2021.  More information to follow…….
URL:https://paluma.org/event/paluma-markets-sunday-4th-april-2021
LOCATION:Paluma Community Hall\, 55 Mt Spec Road\, Paluma\, Australia
END:VEVENT
BEGIN:VEVENT
DTSTART;TZID=Australia/Brisbane:20210320T183000
DTEND;TZID=Australia/Brisbane:20210320T223000
DTSTAMP:20260425T235503
CREATED:20210208T080438Z
LAST-MODIFIED:20210208T080438Z
UID:5542-1616265000-1616279400@paluma.org
SUMMARY:St. Patricks Night Social\, Saturday 20 March
DESCRIPTION:St. Patrick’s Night Social to be held on Saturday 20 March 2021. \nMore information to follow……
URL:https://paluma.org/event/st-patricks-night-social-saturday-20-march
LOCATION:Paluma Community Hall\, 55 Mt Spec Road\, Paluma\, Australia
END:VEVENT
BEGIN:VEVENT
DTSTART;TZID=Australia/Brisbane:20210320T160000
DTEND;TZID=Australia/Brisbane:20210320T173000
DTSTAMP:20260425T235503
CREATED:20210304T034040Z
LAST-MODIFIED:20210304T034040Z
UID:5679-1616256000-1616261400@paluma.org
SUMMARY:Paluma Rural Fire Brigade - AGM
DESCRIPTION:The Annual General Meeting of the Paluma Rural fire Brigade will be held on Saturday\, 20th March 2021 at the Community Hall. All members are encouraged to attend\, and anyone interested in joining or serving on the Committee are also warmly invited. If you have any questions about the PRFB or what’s involved in joining as a Volunteer\, please contact Len Cook.
URL:https://paluma.org/event/paluma-rural-fire-brigade-agm-2
LOCATION:Paluma Community Hall\, 55 Mt Spec Road\, Paluma\, Australia
END:VEVENT
BEGIN:VEVENT
DTSTART;TZID=Australia/Brisbane:20210220T183000
DTEND;TZID=Australia/Brisbane:20210220T223000
DTSTAMP:20260425T235503
CREATED:20210203T064425Z
LAST-MODIFIED:20210203T064425Z
UID:5512-1613845800-1613860200@paluma.org
SUMMARY:Chinese New Year Social
DESCRIPTION:The year 2021 is flying by and it’s time for the first Paluma Social Event of the year. Chinese New Year will be acknowledged and celebrated in true Paluma-style and you are invited to attend. 2021 is the Year of the Ox. \nWhen & Where: Saturday 20 February 2021 at 6.30 PM. Paluma Community Hall. \nBring a plate to share (sweet or savoury). Bar will be open.
URL:https://paluma.org/event/chinese-new-year-social
LOCATION:Paluma Community Hall\, 55 Mt Spec Road\, Paluma\, Australia
END:VEVENT
BEGIN:VEVENT
DTSTART;TZID=Australia/Brisbane:20201212T183000
DTEND;TZID=Australia/Brisbane:20201212T220000
DTSTAMP:20260425T235503
CREATED:20201108T094341Z
LAST-MODIFIED:20201122T064951Z
UID:5265-1607797800-1607810400@paluma.org
SUMMARY:Paluma Tropical Breeze BBQ
DESCRIPTION:The final Paluma Social Event for 2020 is the Tropical Breeze BBQ to be held on Saturday 12 December 2020 at 6.30 PM at the Paluma Community Hall. The BBQ will be fired up\, so please bring along:- \n\nYour choice of meat/protein for the BBQ\nA plate for sharing – nibbles\, salad bowl or dessert\nAttire is casual tropical\, so please wear your best tropical outfit. There will be a free drink for the person who most embraces the tropical theme.\nYour Xmas spirit!
URL:https://paluma.org/event/paluma-tropical-breeze-bbq
LOCATION:Paluma Community Hall\, 55 Mt Spec Road\, Paluma\, Australia
END:VEVENT
BEGIN:VEVENT
DTSTART;TZID=Australia/Brisbane:20201107T183000
DTEND;TZID=Australia/Brisbane:20201107T223000
DTSTAMP:20260425T235503
CREATED:20200824T011324Z
LAST-MODIFIED:20200824T011324Z
UID:4987-1604773800-1604788200@paluma.org
SUMMARY:Paluma Social - Monsters & Mayhem on the Mountain
DESCRIPTION:Paluma Social – Monsters & Mayhem on the Mountain\, Saturday 7 November 2020 at 6.30 PM. \nBring a plate to share. Come as you are or dressed in your most ghastly or horrifying costume.
URL:https://paluma.org/event/paluma-social-monsters-mayhem-on-the-mountain
LOCATION:Paluma Community Hall\, 55 Mt Spec Road\, Paluma\, Australia
END:VEVENT
BEGIN:VEVENT
DTSTART;VALUE=DATE:20201101
DTEND;VALUE=DATE:20201102
DTSTAMP:20260425T235503
CREATED:20200907T050527Z
LAST-MODIFIED:20200907T050554Z
UID:5024-1604188800-1604275199@paluma.org
SUMMARY:Paluma Dam Good Trail Run
DESCRIPTION:The final run in the Outer Limits Trail Run Series 2020. \nWe keep the best for last. The Paluma Dam Good Trail Run is our favourite event in the series. It features amazing trails\, taking you through the World Heritage listed rainforest in the southern part of the Wet Tropics. This time of the year\, Paluma is a great escape from the heat in Townsville. Situated at over 900m\, the Paluma Range is cooler then the coastal region and it makes for great trail running in October. \nRace HQ\, start and finish for all distances is at the village green in Paluma. There is an array of trails around the village\, crossing creeks\, passing water falls and lookouts. \n\n\n\nRegister Here
URL:https://paluma.org/event/paluma-dam-good-trail-run
LOCATION:Paluma Community Hall\, 55 Mt Spec Road\, Paluma\, Australia
ORGANIZER;CN="Outerlimits Adventure":MAILTO:info@outerlimitsadventure.com.au
END:VEVENT
BEGIN:VEVENT
DTSTART;VALUE=DATE:20201011
DTEND;VALUE=DATE:20201012
DTSTAMP:20260425T235503
CREATED:20200630T234830Z
LAST-MODIFIED:20200630T235026Z
UID:4729-1602374400-1602460799@paluma.org
SUMMARY:Paluma Push 2020
DESCRIPTION:After delays and uncertainties resulting from COVID-19  the Paluma Push for 2020 is now confirmed and scheduled for October 11.  Visit the Paluma Push website for more information and bookings.
URL:https://paluma.org/event/paluma-push-2020
LOCATION:Paluma Community Hall\, 55 Mt Spec Road\, Paluma\, Australia
ORGANIZER;CN="Outerlimits Adventure":MAILTO:info@outerlimitsadventure.com.au
END:VEVENT
BEGIN:VEVENT
DTSTART;TZID=Australia/Brisbane:20201010T173000
DTEND;TZID=Australia/Brisbane:20201010T210000
DTSTAMP:20260425T235503
CREATED:20200905T053456Z
LAST-MODIFIED:20200905T053456Z
UID:5014-1602351000-1602363600@paluma.org
SUMMARY:Paluma Push Pre-Push Dinner
DESCRIPTION:Join us to celebrate the Mike Carney Toyota Paluma Push on Saturday evening\, 10th October at the Paluma Community Hall. The dinner is a 2 course roast banquet style dinner cooked and served by Magnums.\nBookings are essential.\n\nPlease make sure to book your spot online before Thursday\, 8th October.\n\nBook your spot here\n\nIf you have already registered for the Paluma Push\, you can log in to ACTIVE to add the dinner.
URL:https://paluma.org/event/paluma-push-pre-push-dinner
LOCATION:Paluma Community Hall\, 55 Mt Spec Road\, Paluma\, Australia
ORGANIZER;CN="Outerlimits Adventure":MAILTO:info@outerlimitsadventure.com.au
END:VEVENT
BEGIN:VEVENT
DTSTART;TZID=Australia/Brisbane:20200321T120000
DTEND;TZID=Australia/Brisbane:20200321T143000
DTSTAMP:20260425T235503
CREATED:20200205T040701Z
LAST-MODIFIED:20200318T020436Z
UID:3935-1584792000-1584801000@paluma.org
SUMMARY:PDCA BBQ Lunch and Annual General Meeting (change of date)
DESCRIPTION:The date for our Annual General Meeting has been shifted to 1 week earlier to avoid conflict with Qld Election Day. \nCome along for a free lunch at noon followed by our Annual  General Meeting at 1pm.  If you would like to nominate someone for a position on the PDCA executive\, or you are interested in being on the committee\, please let one of us know.
URL:https://paluma.org/event/pdca-bbq-lunch-and-annual-general-meeting
LOCATION:Paluma Community Hall\, 55 Mt Spec Road\, Paluma\, Australia
END:VEVENT
BEGIN:VEVENT
DTSTART;TZID=Australia/Brisbane:20200314T183000
DTEND;TZID=Australia/Brisbane:20200314T220000
DTSTAMP:20260425T235503
CREATED:20190525T062403Z
LAST-MODIFIED:20190525T062403Z
UID:2906-1584210600-1584223200@paluma.org
SUMMARY:St Patrick's Irish Night
DESCRIPTION:As usual\, Green is the Theme. \nBring a plate to share
URL:https://paluma.org/event/st-patricks-irish-night
LOCATION:Paluma Community Hall\, 55 Mt Spec Road\, Paluma\, Australia
END:VEVENT
BEGIN:VEVENT
DTSTART;TZID=Australia/Brisbane:20191207T183000
DTEND;TZID=Australia/Brisbane:20191207T220000
DTSTAMP:20260425T235503
CREATED:20190525T062008Z
LAST-MODIFIED:20190525T062008Z
UID:2904-1575743400-1575756000@paluma.org
SUMMARY:Tropical BBQ
DESCRIPTION:Come to our annual end of year BBQ with music from the Pacific. \nBring a plate to share.
URL:https://paluma.org/event/tropical-bbq
LOCATION:Paluma Community Hall\, 55 Mt Spec Road\, Paluma\, Australia
END:VEVENT
BEGIN:VEVENT
DTSTART;TZID=Australia/Brisbane:20191206T080000
DTEND;TZID=Australia/Brisbane:20191208T170000
DTSTAMP:20260425T235503
CREATED:20190429T223705Z
LAST-MODIFIED:20190829T225214Z
UID:2709-1575619200-1575824400@paluma.org
SUMMARY:Rainforest Plant Identification Short Course 2019
DESCRIPTION:ENROLMENTS OPEN \n \nPresented by the Australian Tropical Herbarium and the Wet Tropics Management Authority\, our annual plant identification short courses will be held at James Cook University Cairns Campus on the weekend after Cairns Show (Saturday 20 – Monday 22 July) and in the beautiful mountain village of Paluma\, about 60 km N of Townsville (Friday 6 December – Sunday 8 December). \n\nstate and local government land managers\n\nThese courses are targetted at the interested layperson\, and will be of interest to: \n\n\n\n\n\n\n\nrangers\nschool science teachers\nanyone with an interest in tropical Australia’s incredible biodiversity\n\n\n\n\n\n\n\nOnline enrolments are now open at https://events.jcu.edu.au/plantidcourse. \nFor more information\, please see the attached brochure. \nSpaces are limited\, and enrolments close a week before the course commencement date.
URL:https://paluma.org/event/rainforest-plant-identification-short-course-2019
LOCATION:Paluma Community Hall\, 55 Mt Spec Road\, Paluma\, Australia
END:VEVENT
BEGIN:VEVENT
DTSTART;TZID=Australia/Brisbane:20191102T183000
DTEND;TZID=Australia/Brisbane:20191102T220000
DTSTAMP:20260425T235503
CREATED:20190525T061506Z
LAST-MODIFIED:20191014T023632Z
UID:2902-1572719400-1572732000@paluma.org
SUMMARY:International Night at Paluma
DESCRIPTION:Enjoy an International Night at Paluma with a selection of music from different countries and cultures while you sample food from around the world. \nBring an internationally themed plate to share. \n 
URL:https://paluma.org/event/music-from-around-the-world
LOCATION:Paluma Community Hall\, 55 Mt Spec Road\, Paluma\, Australia
END:VEVENT
BEGIN:VEVENT
DTSTART;VALUE=DATE:20191027
DTEND;VALUE=DATE:20191028
DTSTAMP:20260425T235503
CREATED:20190712T231827Z
LAST-MODIFIED:20190712T232015Z
UID:3105-1572134400-1572220799@paluma.org
SUMMARY:Paluma Dam Good Trail Run
DESCRIPTION:
URL:https://paluma.org/event/paluma-dam-good-run
LOCATION:Paluma Community Hall\, 55 Mt Spec Road\, Paluma\, Australia
ORGANIZER;CN="Outerlimits Adventure":MAILTO:info@outerlimitsadventure.com.au
END:VEVENT
BEGIN:VEVENT
DTSTART;TZID=Australia/Brisbane:20191026T180000
DTEND;TZID=Australia/Brisbane:20191026T220000
DTSTAMP:20260425T235503
CREATED:20190605T042549Z
LAST-MODIFIED:20190712T231332Z
UID:2959-1572112800-1572127200@paluma.org
SUMMARY:Paluma Dinner Under The Stars
DESCRIPTION:
URL:https://paluma.org/event/paluma-dinner-under-the-stars-2
LOCATION:Paluma Adventure Centre\, 7 Lookout Rd\, Paluma\, QLD\, 4816\, Australia
ORGANIZER;CN="Outerlimits Adventure":MAILTO:info@outerlimitsadventure.com.au
END:VEVENT
BEGIN:VEVENT
DTSTART;TZID=Australia/Brisbane:20191006T090000
DTEND;TZID=Australia/Brisbane:20191006T130000
DTSTAMP:20260425T235503
CREATED:20190628T021145Z
LAST-MODIFIED:20190628T021145Z
UID:3051-1570352400-1570366800@paluma.org
SUMMARY:Paluma Sunday Markets & Sausage Sizzle
DESCRIPTION:The next Paluma Market and Sausage Sizzle will be held at the Community Hall on Sunday 6 October 2019 between 9 AM and 1 PM. \nNew stallholders are invited and would be very welcome. If you would like to hold a stall at the next market\, please contact Lynn Hyland at lynnhyland@optusnet.com.au \n  \n 
URL:https://paluma.org/event/paluma-sunday-markets-sausage-sizzle
LOCATION:Paluma Community Hall\, 55 Mt Spec Road\, Paluma\, Australia
END:VEVENT
BEGIN:VEVENT
DTSTART;TZID=Australia/Brisbane:20190914T160000
DTEND;TZID=Australia/Brisbane:20190914T173000
DTSTAMP:20260425T235503
CREATED:20190901T000157Z
LAST-MODIFIED:20190901T000157Z
UID:3222-1568476800-1568482200@paluma.org
SUMMARY:Paluma Rural Fire Brigade AGM
DESCRIPTION:Members of the Paluma Rural Fire Brigade (PRFB) are advised that Len Cook proposes to hold the Annual General Meeting (AGM) on Saturday 14th September at 4 PM at the Community Hall. \n\n\n\nLen Cook advises that a full forum is required to the hold the meeting. \n\n\n\nIf you are a member of the PRFB please advise your availability to attend the AGM by contacting Len Cook via email:- anagama@activ8.net.au
URL:https://paluma.org/event/paluma-rural-fire-brigade-agm
LOCATION:Paluma Community Hall\, 55 Mt Spec Road\, Paluma\, Australia
END:VEVENT
BEGIN:VEVENT
DTSTART;TZID=Australia/Brisbane:20190810T183000
DTEND;TZID=Australia/Brisbane:20190810T220000
DTSTAMP:20260425T235503
CREATED:20190525T061132Z
LAST-MODIFIED:20190525T061132Z
UID:2900-1565461800-1565474400@paluma.org
SUMMARY:Glamour and Glitz Night
DESCRIPTION:Dance the night away with music in whatever feels Glitzy and Galmourous to you at the Community Hall.  Bring a plate to share.
URL:https://paluma.org/event/glamour-and-glitz-night
LOCATION:Paluma Community Hall\, 55 Mt Spec Road\, Paluma\, Australia
END:VEVENT
BEGIN:VEVENT
DTSTART;VALUE=DATE:20190721
DTEND;VALUE=DATE:20190722
DTSTAMP:20260425T235503
CREATED:20190325T222345Z
LAST-MODIFIED:20190325T222345Z
UID:2309-1563667200-1563753599@paluma.org
SUMMARY:PALUMA PUSH 2019
DESCRIPTION:
URL:https://paluma.org/event/paluma-push-2019
LOCATION:Paluma
END:VEVENT
BEGIN:VEVENT
DTSTART;TZID=Australia/Brisbane:20190630T090000
DTEND;TZID=Australia/Brisbane:20190630T130000
DTSTAMP:20260425T235503
CREATED:20190512T002529Z
LAST-MODIFIED:20190512T002529Z
UID:2819-1561885200-1561899600@paluma.org
SUMMARY:Paluma Sunday Market & Sausage Sizzle
DESCRIPTION:The next Paluma Market and Sausage Sizzle will be held at the Community Hall on Sunday 30 June 2019 between 9 AM and 1 PM. \nNew stallholders are invited and would be very welcome. If you would like to hold a stall at the next market\, please contact Lynn Hyland at lynnhyland@optusnet.com.au \n  \n 
URL:https://paluma.org/event/paluma-sunday-market-sausage-sizzle
LOCATION:Paluma Community Hall\, 55 Mt Spec Road\, Paluma\, Australia
END:VEVENT
BEGIN:VEVENT
DTSTART;TZID=Australia/Brisbane:20190629T193000
DTEND;TZID=Australia/Brisbane:20190629T223000
DTSTAMP:20260425T235503
CREATED:20190513T095449Z
LAST-MODIFIED:20190513T095449Z
UID:2851-1561836600-1561847400@paluma.org
SUMMARY:WATTLE 'N' GUM BUSH DANCE
DESCRIPTION:
URL:https://paluma.org/event/wattle-n-gum-bush-dance
LOCATION:Paluma Community Hall\, 55 Mt Spec Road\, Paluma\, Australia
END:VEVENT
BEGIN:VEVENT
DTSTART;VALUE=DATE:20190629
DTEND;VALUE=DATE:20190701
DTSTAMP:20260425T235503
CREATED:20190622T073053Z
LAST-MODIFIED:20190622T080004Z
UID:3041-1561766400-1561939199@paluma.org
SUMMARY:Pre-Push Ride & Pizza Night
DESCRIPTION:Outer Limits Adventure is organizing a social ride along sections of the upcoming Paluma Push course next Sunday. There will a Pizza night on Saturday just prior to the Bush Dance. \n \nWith the High Ropes course open on Saturday afternoon\, and the  Markets and Sausage Sizzle happening on Sunday it looks like it will be a busy Weekend for all locals and visitors!
URL:https://paluma.org/event/pre-push-ride-pizza-night
LOCATION:Paluma Adventure Centre\, 7 Lookout Rd\, Paluma\, QLD\, 4816\, Australia
ORGANIZER;CN="Outerlimits Adventure":MAILTO:info@outerlimitsadventure.com.au
END:VEVENT
BEGIN:VEVENT
DTSTART;TZID=Australia/Brisbane:20190608T183000
DTEND;TZID=Australia/Brisbane:20190608T220000
DTSTAMP:20260425T235503
CREATED:20190525T055833Z
LAST-MODIFIED:20190525T061634Z
UID:2894-1560018600-1560031200@paluma.org
SUMMARY:Soup and Casserole and Country Music Night
DESCRIPTION:Dress in your best (or most tattered) jeans and check shirt and come along to a night of country music and possible impromptu line dancing  at the Community Hall. Bring a soup or casserole.
URL:https://paluma.org/event/soup-and-casserole-and-country-music-night
LOCATION:Paluma Community Hall\, 55 Mt Spec Road\, Paluma\, Australia
END:VEVENT
BEGIN:VEVENT
DTSTART;TZID=Australia/Brisbane:20190505T090000
DTEND;TZID=Australia/Brisbane:20190505T130000
DTSTAMP:20260425T235503
CREATED:20190426T063318Z
LAST-MODIFIED:20190426T063340Z
UID:2682-1557046800-1557061200@paluma.org
SUMMARY:Paluma Market & Sausage Sizzle
DESCRIPTION:
URL:https://paluma.org/event/paluma-markets-sausage-sizzle
LOCATION:Paluma Community Hall\, 55 Mt Spec Road\, Paluma\, Australia
END:VEVENT
BEGIN:VEVENT
DTSTART;TZID=Australia/Brisbane:20190421T140000
DTEND;TZID=Australia/Brisbane:20190421T170000
DTSTAMP:20260425T235503
CREATED:20190217T082242Z
LAST-MODIFIED:20190217T082242Z
UID:2164-1555855200-1555866000@paluma.org
SUMMARY:A Celebration of Roy Mackay's Life
DESCRIPTION:Roy Mackay’s family can now confirm plans for the celebration of Roy’s long\, full and incredibly rich life.  This event will be held at the Paluma Village Hall from 2pm on Sunday 21st April\, after the Easter market. \n\n\n\nA barbecue and refreshments will be provided and further beverages will be available from the bar. \n\n\n\nAfter the current period of grief and mourning that many of us are going through\, this will be an opportunity to celebrate his life with love\, happiness and respect. \n\n\n\nWe look forward to seeing all of you who knew Roy\, who would like to join us and are able to do so. \n\n\n\nAnyone who would like to say a few words about Roy will be able to after family members have done so. To assist with planning it would help (but isn’t essential) if those wishing to speak could let David Mackay know by email: kdavidmackay@gmail.com
URL:https://paluma.org/event/a-celebration-of-roy-mackays-life
LOCATION:Paluma Community Hall\, 55 Mt Spec Road\, Paluma\, Australia
END:VEVENT
END:VCALENDAR