BEGIN:VCALENDAR
VERSION:2.0
PRODID:-//Paluma - our village in the mist - ECPv6.15.20//NONSGML v1.0//EN
CALSCALE:GREGORIAN
METHOD:PUBLISH
X-ORIGINAL-URL:https://paluma.org
X-WR-CALDESC:Events for Paluma - our village in the mist
REFRESH-INTERVAL;VALUE=DURATION:PT1H
X-Robots-Tag:noindex
X-PUBLISHED-TTL:PT1H
BEGIN:VTIMEZONE
TZID:Australia/Brisbane
BEGIN:STANDARD
TZOFFSETFROM:+1000
TZOFFSETTO:+1000
TZNAME:AEST
DTSTART:20250101T000000
END:STANDARD
END:VTIMEZONE
BEGIN:VEVENT
DTSTART;TZID=Australia/Brisbane:20260427T090000
DTEND;TZID=Australia/Brisbane:20260427T150000
DTSTAMP:20260423T215537
CREATED:20260326T083309Z
LAST-MODIFIED:20260326T083309Z
UID:11116-1777280400-1777302000@paluma.org
SUMMARY:Meeting - Photo Comp committee
DESCRIPTION:
URL:https://paluma.org/event/meeting-photo-comp-committee
END:VEVENT
BEGIN:VEVENT
DTSTART;TZID=Australia/Brisbane:20260501T180000
DTEND;TZID=Australia/Brisbane:20260501T200000
DTSTAMP:20260423T215537
CREATED:20251214T044259Z
LAST-MODIFIED:20251214T044259Z
UID:10877-1777658400-1777665600@paluma.org
SUMMARY:PDCA Social Drinks in Hall
DESCRIPTION:Once a month (on the Friday night before the Village Working Bee) we open the Community Hall and the bar between 6-8 pm for residents and visitors to come and socialise and play a friendly game of table tennis or darts. Bring along some nibbles or some finger food to share if you feel inclined.
URL:https://paluma.org/event/pdca-social-drinks-in-hall-14
END:VEVENT
BEGIN:VEVENT
DTSTART;TZID=Australia/Brisbane:20260502T140000
DTEND;TZID=Australia/Brisbane:20260502T160000
DTSTAMP:20260423T215537
CREATED:20251214T044416Z
LAST-MODIFIED:20251214T044416Z
UID:10887-1777730400-1777737600@paluma.org
SUMMARY:Working Bee at Community Hall
DESCRIPTION:On the first Saturday of every month\, we invite volunteers to come along to the Community Centre where Wilfred Karnol will coordinate one or more activities aimed at maintaining and improving the Hall and surrounding gardens\, the local walking track\, or other community activity. We meet at 2 pm at the Community Hall and finish at about 4 pm with a free beer or soft drink.
URL:https://paluma.org/event/working-bee-at-community-hall-12
END:VEVENT
BEGIN:VEVENT
DTSTART;TZID=Australia/Brisbane:20260515T183000
DTEND;TZID=Australia/Brisbane:20260515T203000
DTSTAMP:20260423T215537
CREATED:20251214T044531Z
LAST-MODIFIED:20251214T044531Z
UID:10896-1778869800-1778877000@paluma.org
SUMMARY:SES Group Meeting
DESCRIPTION:
URL:https://paluma.org/event/ses-group-meeting-16
END:VEVENT
BEGIN:VEVENT
DTSTART;TZID=Australia/Brisbane:20260605T180000
DTEND;TZID=Australia/Brisbane:20260605T200000
DTSTAMP:20260423T215537
CREATED:20251214T044641Z
LAST-MODIFIED:20251214T044641Z
UID:10864-1780682400-1780689600@paluma.org
SUMMARY:PDCA Social Drinks in Hall
DESCRIPTION:Once a month (on the Friday night before the Village Working Bee) we open the Community Hall and the bar between 6-8 pm for residents and visitors to come and socialise and play a friendly game of table tennis or darts. Bring along some nibbles or some finger food to share if you feel inclined.
URL:https://paluma.org/event/pdca-social-drinks-in-hall-15
END:VEVENT
BEGIN:VEVENT
DTSTART;TZID=Australia/Brisbane:20260606T140000
DTEND;TZID=Australia/Brisbane:20260606T160000
DTSTAMP:20260423T215537
CREATED:20251214T045159Z
LAST-MODIFIED:20251214T045159Z
UID:10878-1780754400-1780761600@paluma.org
SUMMARY:Working Bee at Community Hall
DESCRIPTION:On the first Saturday of every month\, we invite volunteers to come along to the Community Centre where Wilfred Karnol will coordinate one or more activities aimed at maintaining and improving the Hall and surrounding gardens\, the local walking track\, or other community activity. We meet at 2 pm at the Community Hall and finish at about 4 pm with a free beer or soft drink.
URL:https://paluma.org/event/working-bee-at-community-hall-13
END:VEVENT
BEGIN:VEVENT
DTSTART;TZID=Australia/Brisbane:20260619T183000
DTEND;TZID=Australia/Brisbane:20260619T203000
DTSTAMP:20260423T215537
CREATED:20251214T045309Z
LAST-MODIFIED:20251214T045309Z
UID:10892-1781893800-1781901000@paluma.org
SUMMARY:SES Group Meeting
DESCRIPTION:
URL:https://paluma.org/event/ses-group-meeting-17
END:VEVENT
BEGIN:VEVENT
DTSTART;TZID=Australia/Brisbane:20260703T180000
DTEND;TZID=Australia/Brisbane:20260703T200000
DTSTAMP:20260423T215537
CREATED:20251214T052119Z
LAST-MODIFIED:20251214T052119Z
UID:10868-1783101600-1783108800@paluma.org
SUMMARY:PDCA Social Drinks in Hall
DESCRIPTION:Once a month (on the Friday night before the Village Working Bee) we open the Community Hall and the bar between 6-8 pm for residents and visitors to come and socialise and play a friendly game of table tennis or darts. Bring along some nibbles or some finger food to share if you feel inclined.
URL:https://paluma.org/event/pdca-social-drinks-in-hall-17
END:VEVENT
BEGIN:VEVENT
DTSTART;TZID=Australia/Brisbane:20260704T140000
DTEND;TZID=Australia/Brisbane:20260704T160000
DTSTAMP:20260423T215537
CREATED:20251214T045440Z
LAST-MODIFIED:20251214T045440Z
UID:10865-1783173600-1783180800@paluma.org
SUMMARY:Working bee at Community Hall
DESCRIPTION:On the first Saturday of every month\, we invite volunteers to come along to the Community Centre where Wilfred Karnol will coordinate one or more activities aimed at maintaining and improving the Hall and surrounding gardens\, the local walking track\, or other community activity. We meet at 2 pm at the Community Hall and finish at about 4 pm with a free beer or soft drink.
URL:https://paluma.org/event/working-bee-at-community-hall-14
END:VEVENT
BEGIN:VEVENT
DTSTART;TZID=Australia/Brisbane:20260717T183000
DTEND;TZID=Australia/Brisbane:20260717T203000
DTSTAMP:20260423T215537
CREATED:20251214T052305Z
LAST-MODIFIED:20251214T052305Z
UID:10893-1784313000-1784320200@paluma.org
SUMMARY:SES Group Meeting
DESCRIPTION:
URL:https://paluma.org/event/ses-group-meeting-18
END:VEVENT
END:VCALENDAR