BEGIN:VCALENDAR
VERSION:2.0
PRODID:-//Paluma - our village in the mist - ECPv6.15.20//NONSGML v1.0//EN
CALSCALE:GREGORIAN
METHOD:PUBLISH
X-WR-CALNAME:Paluma - our village in the mist
X-ORIGINAL-URL:https://paluma.org
X-WR-CALDESC:Events for Paluma - our village in the mist
REFRESH-INTERVAL;VALUE=DURATION:PT1H
X-Robots-Tag:noindex
X-PUBLISHED-TTL:PT1H
BEGIN:VTIMEZONE
TZID:Australia/Brisbane
BEGIN:STANDARD
TZOFFSETFROM:+1000
TZOFFSETTO:+1000
TZNAME:AEST
DTSTART:20250101T000000
END:STANDARD
END:VTIMEZONE
BEGIN:VEVENT
DTSTART;TZID=Australia/Brisbane:20260320T183000
DTEND;TZID=Australia/Brisbane:20260320T203000
DTSTAMP:20260424T021034
CREATED:20251214T044046Z
LAST-MODIFIED:20251214T044046Z
UID:10895-1774031400-1774038600@paluma.org
SUMMARY:SES Group Meeting
DESCRIPTION:
URL:https://paluma.org/event/ses-group-meeting-15
END:VEVENT
END:VCALENDAR