BEGIN:VCALENDAR
VERSION:2.0
PRODID:-//Paluma - our village in the mist - ECPv6.15.20//NONSGML v1.0//EN
CALSCALE:GREGORIAN
METHOD:PUBLISH
X-ORIGINAL-URL:https://paluma.org
X-WR-CALDESC:Events for Paluma - our village in the mist
REFRESH-INTERVAL;VALUE=DURATION:PT1H
X-Robots-Tag:noindex
X-PUBLISHED-TTL:PT1H
BEGIN:VTIMEZONE
TZID:Australia/Brisbane
BEGIN:STANDARD
TZOFFSETFROM:+1000
TZOFFSETTO:+1000
TZNAME:AEST
DTSTART:20240101T000000
END:STANDARD
END:VTIMEZONE
BEGIN:VEVENT
DTSTART;TZID=Australia/Brisbane:20251025T170000
DTEND;TZID=Australia/Brisbane:20251025T230000
DTSTAMP:20260424T100310
CREATED:20250819T033357Z
LAST-MODIFIED:20250917T103859Z
UID:10535-1761411600-1761433200@paluma.org
SUMMARY:Paluma Games Night
DESCRIPTION:Peter and Dorothy Klump have announced that this year’s Paluma Games Night will be held on  Saturday\, October 25th\, at the Community Hall starting at 5:30 pm. \n\nThe evening will start with a sausage sizzle dinner ($3.00) at 5:30 pm\, with the bar open for the purchase of drinks\, including Lynda Radbone’s famous Mulled Wine.\n  \nBy 7:oo pm\, the teams of two will have been announced and the various games will commence. These will include darts\, indoor bowls\, ping pong\, and soccer pinball to name a few.\n\n  \nPrevious years have proved a great success with lots of friendly participation mixed with bouts of enthusiastic competition. There are probably a few residents looking to topple the previous winners in some categories\, so the spirits will be high. \nThis year will include  a special “Children Competition” (12years and under). Prizes included. \nHope to see you there!
URL:https://paluma.org/event/paluma-games-night-2
LOCATION:Paluma Community Hall\, 55 Mt Spec Road\, Paluma\, Australia
END:VEVENT
END:VCALENDAR