BEGIN:VCALENDAR
VERSION:2.0
PRODID:-//Paluma - our village in the mist - ECPv6.15.20//NONSGML v1.0//EN
CALSCALE:GREGORIAN
METHOD:PUBLISH
X-WR-CALNAME:Paluma - our village in the mist
X-ORIGINAL-URL:https://paluma.org
X-WR-CALDESC:Events for Paluma - our village in the mist
REFRESH-INTERVAL;VALUE=DURATION:PT1H
X-Robots-Tag:noindex
X-PUBLISHED-TTL:PT1H
BEGIN:VTIMEZONE
TZID:Australia/Brisbane
BEGIN:STANDARD
TZOFFSETFROM:+1000
TZOFFSETTO:+1000
TZNAME:AEST
DTSTART:20230101T000000
END:STANDARD
END:VTIMEZONE
BEGIN:VEVENT
DTSTART;TZID=Australia/Brisbane:20241005T100000
DTEND;TZID=Australia/Brisbane:20241005T120000
DTSTAMP:20260425T050413
CREATED:20240605T010259Z
LAST-MODIFIED:20240901T222221Z
UID:8932-1728122400-1728129600@paluma.org
SUMMARY:Paluma History Display
DESCRIPTION:Every Saturday from March till November we open up the Community Hall and set out a variety of displays and resources that document the rich history of the region\, including early settlement\, construction of the range road and the heroic activities of the miners and loggers who explored the wilderness and developed its earliest industries. \nCome along and have a cup of coffee or tea  and chat with our local history enthusiasts.
URL:https://paluma.org/event/paluma-history-display-24
LOCATION:Paluma Community Hall\, 55 Mt Spec Road\, Paluma\, Australia
END:VEVENT
BEGIN:VEVENT
DTSTART;TZID=Australia/Brisbane:20241005T140000
DTEND;TZID=Australia/Brisbane:20241005T160000
DTSTAMP:20260425T050413
CREATED:20240308T010945Z
LAST-MODIFIED:20240308T010945Z
UID:8658-1728136800-1728144000@paluma.org
SUMMARY:Working Bee at the Community Centre
DESCRIPTION:On the first Saturday of every month\, we invite volunteers to come along to the Community Centre where Wilfred Karnol will coordinate one or more activities aimed at maintaining and improving the Hall and surrounding gardens\, the local walking track\, or other community activity.  We meet at 2 pm at the Community Hall and finish at about 4 pm with a free beer or soft drink.
URL:https://paluma.org/event/working-bee-at-the-community-centre-8
LOCATION:Paluma Community Hall\, 55 Mt Spec Road\, Paluma\, Australia
END:VEVENT
END:VCALENDAR