BEGIN:VCALENDAR
VERSION:2.0
PRODID:-//Paluma - our village in the mist - ECPv6.15.20//NONSGML v1.0//EN
CALSCALE:GREGORIAN
METHOD:PUBLISH
X-ORIGINAL-URL:https://paluma.org
X-WR-CALDESC:Events for Paluma - our village in the mist
REFRESH-INTERVAL;VALUE=DURATION:PT1H
X-Robots-Tag:noindex
X-PUBLISHED-TTL:PT1H
BEGIN:VTIMEZONE
TZID:Australia/Brisbane
BEGIN:STANDARD
TZOFFSETFROM:+1000
TZOFFSETTO:+1000
TZNAME:AEST
DTSTART:20230101T000000
END:STANDARD
END:VTIMEZONE
BEGIN:VEVENT
DTSTART;TZID=Australia/Brisbane:20240817T100000
DTEND;TZID=Australia/Brisbane:20240817T120000
DTSTAMP:20260425T081453
CREATED:20240524T035949Z
LAST-MODIFIED:20240524T035949Z
UID:8873-1723888800-1723896000@paluma.org
SUMMARY:Paluma History Display
DESCRIPTION:Every Saturday from March till November we open up the Community Hall and set out a variety of displays and resources that document the rich history of the region\, including early settlement\, construction of the range road and the heroic activities of the miners and loggers who explored the wilderness and developed its earliest industries. \nCome along and have a cup of coffee or tea  and chat with our local history enthusiasts.
URL:https://paluma.org/event/paluma-history-display-20
LOCATION:Paluma Community Hall\, 55 Mt Spec Road\, Paluma\, Australia
END:VEVENT
BEGIN:VEVENT
DTSTART;TZID=Australia/Brisbane:20240817T180000
DTEND;TZID=Australia/Brisbane:20240817T210000
DTSTAMP:20260425T081453
CREATED:20240808T052914Z
LAST-MODIFIED:20240808T053004Z
UID:9184-1723917600-1723928400@paluma.org
SUMMARY:Paluma Games Night
DESCRIPTION:Our next Paluma Games Night is on Saturday August 17th at the Community Hall starting at 6pm. \n\nThe evening will start with a sausage sizzle dinner ($3.00) at 6:00 pm with the bar also open for the purchase of drinks and Linda’s famous mulled wine. By 7:oo pm\, the teams of two will have been announced and the various games will commence. These will include darts\, indoor bowls\, ping pong\, and soccer pinball to name a few.\n\n\n\nPrevious years have proved a great success with lots of friendly participation mixed with bouts of enthusiastic competition. There are probably a few residents looking to topple the previous winners in some categories so the spirits will be high. Hope to see you there!
URL:https://paluma.org/event/paluma-games-night
LOCATION:Paluma Community Hall\, 55 Mt Spec Road\, Paluma\, Australia
END:VEVENT
END:VCALENDAR