BEGIN:VCALENDAR
VERSION:2.0
PRODID:-//Paluma - our village in the mist - ECPv6.15.20//NONSGML v1.0//EN
CALSCALE:GREGORIAN
METHOD:PUBLISH
X-ORIGINAL-URL:https://paluma.org
X-WR-CALDESC:Events for Paluma - our village in the mist
REFRESH-INTERVAL;VALUE=DURATION:PT1H
X-Robots-Tag:noindex
X-PUBLISHED-TTL:PT1H
BEGIN:VTIMEZONE
TZID:Australia/Brisbane
BEGIN:STANDARD
TZOFFSETFROM:+1000
TZOFFSETTO:+1000
TZNAME:AEST
DTSTART:20220101T000000
END:STANDARD
END:VTIMEZONE
BEGIN:VEVENT
DTSTART;TZID=Australia/Brisbane:20231011T090000
DTEND;TZID=Australia/Brisbane:20231011T163000
DTSTAMP:20260426T003516
CREATED:20231007T024531Z
LAST-MODIFIED:20231007T024531Z
UID:8492-1697014800-1697041800@paluma.org
SUMMARY:Paluma Annual Garden Competition
DESCRIPTION:The annual Paluma Garden Competition will be held in the month of October.  Competition judges from Bunnings will be escorted by a member of the PDCA executive committee around gardens of Paluma residents and businesses including the blocks along and adjacent to Hussey Road. \n 
URL:https://paluma.org/event/paluma-annual-garden-competition
END:VEVENT
END:VCALENDAR