BEGIN:VCALENDAR
VERSION:2.0
PRODID:-//Paluma - our village in the mist - ECPv6.15.20//NONSGML v1.0//EN
CALSCALE:GREGORIAN
METHOD:PUBLISH
X-ORIGINAL-URL:https://paluma.org
X-WR-CALDESC:Events for Paluma - our village in the mist
REFRESH-INTERVAL;VALUE=DURATION:PT1H
X-Robots-Tag:noindex
X-PUBLISHED-TTL:PT1H
BEGIN:VTIMEZONE
TZID:Australia/Brisbane
BEGIN:STANDARD
TZOFFSETFROM:+1000
TZOFFSETTO:+1000
TZNAME:AEST
DTSTART:20220101T000000
END:STANDARD
END:VTIMEZONE
BEGIN:VEVENT
DTSTART;TZID=Australia/Brisbane:20230820T100000
DTEND;TZID=Australia/Brisbane:20230820T120000
DTSTAMP:20260426T033334
CREATED:20230620T053425Z
LAST-MODIFIED:20230620T054601Z
UID:8235-1692525600-1692532800@paluma.org
SUMMARY:PDCA Community Meeting with Councillor Margie Ryder
DESCRIPTION:On Sunday\, August 20th at 10am the PDCA is hosting a community meeting with our Townsville City Council representative\, Margie Ryder.  This will provide an opportunity for Margie report on what the Council has been doing and to listen to any concerns that Paluma residents may have relating to council facilities and initiatives.  Item that we will be inviting Margie to comment on include: \n\nPlans for signage at the village entrance\, and upgrade of other signs around the village\nDog Poo bag dispensers and other issues on animal control (Cats\, noisy dogs)\nCommunity security in the light of multiple recent events in and around the village\nRoad Maintenance\nVegetation control (weeds)\n\nThe meeting is open to all Paluma Residents.  Please mark this date and come along to have your say. \n 
URL:https://paluma.org/event/pdca-community-meeting-with-councillor-margie-ryder
LOCATION:Paluma Community Hall\, 55 Mt Spec Road\, Paluma\, Australia
END:VEVENT
END:VCALENDAR