BEGIN:VCALENDAR
VERSION:2.0
PRODID:-//Paluma - our village in the mist - ECPv6.15.20//NONSGML v1.0//EN
CALSCALE:GREGORIAN
METHOD:PUBLISH
X-WR-CALNAME:Paluma - our village in the mist
X-ORIGINAL-URL:https://paluma.org
X-WR-CALDESC:Events for Paluma - our village in the mist
REFRESH-INTERVAL;VALUE=DURATION:PT1H
X-Robots-Tag:noindex
X-PUBLISHED-TTL:PT1H
BEGIN:VTIMEZONE
TZID:Australia/Brisbane
BEGIN:STANDARD
TZOFFSETFROM:+1000
TZOFFSETTO:+1000
TZNAME:AEST
DTSTART:20220101T000000
END:STANDARD
END:VTIMEZONE
BEGIN:VEVENT
DTSTART;TZID=Australia/Brisbane:20230805T180000
DTEND;TZID=Australia/Brisbane:20230805T210000
DTSTAMP:20260426T033214
CREATED:20230720T045442Z
LAST-MODIFIED:20230720T045828Z
UID:8336-1691258400-1691269200@paluma.org
SUMMARY:Games Night
DESCRIPTION:Our Annual Palum Games night\, organised by Peter and Dorothy Klump will be held on Saturday\, August 5th at the Community Hall. \nThe evening will start with a sausage sizzle dinner ($3.00) at 6:00 pm with the bar also open for the purchase of drinks. By 7:oo pm\, the teams of two will have been announced and the various games will commence. These will include darts\, indoor bowls\, ping pong\, and soccer pinball to name a few.
URL:https://paluma.org/event/games-night
LOCATION:Paluma Community Hall\, 55 Mt Spec Road\, Paluma\, Australia
END:VEVENT
END:VCALENDAR