BEGIN:VCALENDAR
VERSION:2.0
PRODID:-//Paluma - our village in the mist - ECPv6.15.20//NONSGML v1.0//EN
CALSCALE:GREGORIAN
METHOD:PUBLISH
X-WR-CALNAME:Paluma - our village in the mist
X-ORIGINAL-URL:https://paluma.org
X-WR-CALDESC:Events for Paluma - our village in the mist
REFRESH-INTERVAL;VALUE=DURATION:PT1H
X-Robots-Tag:noindex
X-PUBLISHED-TTL:PT1H
BEGIN:VTIMEZONE
TZID:Australia/Brisbane
BEGIN:STANDARD
TZOFFSETFROM:+1000
TZOFFSETTO:+1000
TZNAME:AEST
DTSTART:20220101T000000
END:STANDARD
END:VTIMEZONE
BEGIN:VEVENT
DTSTART;TZID=Australia/Brisbane:20230701T183000
DTEND;TZID=Australia/Brisbane:20230701T220000
DTSTAMP:20260426T045158
CREATED:20230507T081933Z
LAST-MODIFIED:20230507T081933Z
UID:8143-1688236200-1688248800@paluma.org
SUMMARY:Christmas In July
DESCRIPTION:Christmas in July Social Saturday 1st July at 6.30 pm at the Community Hall. Bring a Plate to share. The Bar will be open.
URL:https://paluma.org/event/christmas-in-july
LOCATION:Paluma Community Hall\, 55 Mt Spec Road\, Paluma\, Australia
END:VEVENT
END:VCALENDAR