BEGIN:VCALENDAR
VERSION:2.0
PRODID:-//Paluma - our village in the mist - ECPv6.15.20//NONSGML v1.0//EN
CALSCALE:GREGORIAN
METHOD:PUBLISH
X-WR-CALNAME:Paluma - our village in the mist
X-ORIGINAL-URL:https://paluma.org
X-WR-CALDESC:Events for Paluma - our village in the mist
REFRESH-INTERVAL;VALUE=DURATION:PT1H
X-Robots-Tag:noindex
X-PUBLISHED-TTL:PT1H
BEGIN:VTIMEZONE
TZID:Australia/Brisbane
BEGIN:STANDARD
TZOFFSETFROM:+1000
TZOFFSETTO:+1000
TZNAME:AEST
DTSTART:20220101T000000
END:STANDARD
END:VTIMEZONE
BEGIN:VEVENT
DTSTART;TZID=Australia/Brisbane:20230617T183000
DTEND;TZID=Australia/Brisbane:20230617T223000
DTSTAMP:20260426T063347
CREATED:20230306T231234Z
LAST-MODIFIED:20230306T231234Z
UID:7851-1687026600-1687041000@paluma.org
SUMMARY:Les Hyland's 92nd Birthday Party
DESCRIPTION:There will be a gathering on Saturday night 17th June to celebrate Les Hyland’s 92nd birthday. Meet at the Community Hall at 6.30 pm. As usual\, bring a plate of food to share and bar will be open.
URL:https://paluma.org/event/les-hylands-92nd-birthday-party
LOCATION:Paluma Community Hall\, 55 Mt Spec Road\, Paluma\, Australia
END:VEVENT
END:VCALENDAR