BEGIN:VCALENDAR
VERSION:2.0
PRODID:-//Paluma - our village in the mist - ECPv6.15.20//NONSGML v1.0//EN
CALSCALE:GREGORIAN
METHOD:PUBLISH
X-WR-CALNAME:Paluma - our village in the mist
X-ORIGINAL-URL:https://paluma.org
X-WR-CALDESC:Events for Paluma - our village in the mist
REFRESH-INTERVAL;VALUE=DURATION:PT1H
X-Robots-Tag:noindex
X-PUBLISHED-TTL:PT1H
BEGIN:VTIMEZONE
TZID:Australia/Brisbane
BEGIN:STANDARD
TZOFFSETFROM:+1000
TZOFFSETTO:+1000
TZNAME:AEST
DTSTART:20220101T000000
END:STANDARD
END:VTIMEZONE
BEGIN:VEVENT
DTSTART;TZID=Australia/Brisbane:20230513T100000
DTEND;TZID=Australia/Brisbane:20230513T120000
DTSTAMP:20260426T081113
CREATED:20230507T093433Z
LAST-MODIFIED:20230507T093433Z
UID:8163-1683972000-1683979200@paluma.org
SUMMARY:Talk by Len Cook about his exhibition
DESCRIPTION:Join artist Len Cook and curator Ross Searle as\nthey discuss the works on display in Cook’s\nexhibition FIRE AND RAIN.\nFloor Talk\nSaturday 13 May\n10.30am
URL:https://paluma.org/event/talk-by-len-cook-about-his-exhibition
LOCATION:Perc Tucker Gallery\, Cnr Denham Street and Flinders Street\,\, Townsville\, QUEENSLAND\, 4810\, Australia
END:VEVENT
END:VCALENDAR