BEGIN:VCALENDAR
VERSION:2.0
PRODID:-//Paluma - our village in the mist - ECPv6.15.20//NONSGML v1.0//EN
CALSCALE:GREGORIAN
METHOD:PUBLISH
X-WR-CALNAME:Paluma - our village in the mist
X-ORIGINAL-URL:https://paluma.org
X-WR-CALDESC:Events for Paluma - our village in the mist
REFRESH-INTERVAL;VALUE=DURATION:PT1H
X-Robots-Tag:noindex
X-PUBLISHED-TTL:PT1H
BEGIN:VTIMEZONE
TZID:Australia/Brisbane
BEGIN:STANDARD
TZOFFSETFROM:+1000
TZOFFSETTO:+1000
TZNAME:AEST
DTSTART:20220101T000000
END:STANDARD
END:VTIMEZONE
BEGIN:VEVENT
DTSTART;TZID=Australia/Brisbane:20230409T090000
DTEND;TZID=Australia/Brisbane:20230409T130000
DTSTAMP:20260426T094759
CREATED:20230214T023836Z
LAST-MODIFIED:20230214T023836Z
UID:7783-1681030800-1681045200@paluma.org
SUMMARY:Paluma Sunday Markets
DESCRIPTION:The Paluma Sunday Markets are held 3-4 times a year in the Paluma Community Hall.  Come and browse through a range of plants\, fabrics\, food and souvenirs.  Sausages sizzle and drinks also available.
URL:https://paluma.org/event/paluma-sunday-markets-2
LOCATION:Paluma Community Hall\, 55 Mt Spec Road\, Paluma\, Australia
END:VEVENT
BEGIN:VEVENT
DTSTART;TZID=Australia/Brisbane:20230409T090000
DTEND;TZID=Australia/Brisbane:20230409T130000
DTSTAMP:20260426T094759
CREATED:20230214T025124Z
LAST-MODIFIED:20230328T052103Z
UID:7789-1681030800-1681045200@paluma.org
SUMMARY:Paluma Sunday Markets
DESCRIPTION:The Paluma Sunday Markets are held 3-4 times a year in the Paluma Community Hall.  Come and browse through a range of plants\, fabrics\, food and souvenirs.  Sausages sizzle and drinks also available.
URL:https://paluma.org/event/paluma-sunday-markets-3
LOCATION:Paluma Community Hall\, 55 Mt Spec Road\, Paluma\, Australia
END:VEVENT
END:VCALENDAR