BEGIN:VCALENDAR
VERSION:2.0
PRODID:-//Paluma - our village in the mist - ECPv6.15.20//NONSGML v1.0//EN
CALSCALE:GREGORIAN
METHOD:PUBLISH
X-ORIGINAL-URL:https://paluma.org
X-WR-CALDESC:Events for Paluma - our village in the mist
REFRESH-INTERVAL;VALUE=DURATION:PT1H
X-Robots-Tag:noindex
X-PUBLISHED-TTL:PT1H
BEGIN:VTIMEZONE
TZID:Australia/Brisbane
BEGIN:STANDARD
TZOFFSETFROM:+1000
TZOFFSETTO:+1000
TZNAME:AEST
DTSTART:20220101T000000
END:STANDARD
END:VTIMEZONE
BEGIN:VEVENT
DTSTART;TZID=Australia/Brisbane:20230318T063000
DTEND;TZID=Australia/Brisbane:20230318T223000
DTSTAMP:20260426T112601
CREATED:20230214T023507Z
LAST-MODIFIED:20230214T023507Z
UID:7781-1679121000-1679178600@paluma.org
SUMMARY:St Patrick's Day Dinner
DESCRIPTION:Join us to celebrate St Patrick’s day.  Bring a plate and wear something green!
URL:https://paluma.org/event/st-patricks-day-dinner
LOCATION:Paluma Community Hall\, 55 Mt Spec Road\, Paluma\, Australia
END:VEVENT
END:VCALENDAR